BEGIN:VCALENDAR
VERSION:2.0
PRODID:-//The Learning Center - ECPv6.15.16.1//NONSGML v1.0//EN
CALSCALE:GREGORIAN
METHOD:PUBLISH
X-WR-CALNAME:The Learning Center
X-ORIGINAL-URL:https://ctl.wustl.edu/learningcenter
X-WR-CALDESC:Events for The Learning Center
REFRESH-INTERVAL;VALUE=DURATION:PT1H
X-Robots-Tag:noindex
X-PUBLISHED-TTL:PT1H
BEGIN:VTIMEZONE
TZID:America/Chicago
BEGIN:DAYLIGHT
TZOFFSETFROM:-0600
TZOFFSETTO:-0500
TZNAME:CDT
DTSTART:20250309T080000
END:DAYLIGHT
BEGIN:STANDARD
TZOFFSETFROM:-0500
TZOFFSETTO:-0600
TZNAME:CST
DTSTART:20251102T070000
END:STANDARD
BEGIN:DAYLIGHT
TZOFFSETFROM:-0600
TZOFFSETTO:-0500
TZNAME:CDT
DTSTART:20260308T080000
END:DAYLIGHT
BEGIN:STANDARD
TZOFFSETFROM:-0500
TZOFFSETTO:-0600
TZNAME:CST
DTSTART:20261101T070000
END:STANDARD
BEGIN:DAYLIGHT
TZOFFSETFROM:-0600
TZOFFSETTO:-0500
TZNAME:CDT
DTSTART:20270314T080000
END:DAYLIGHT
BEGIN:STANDARD
TZOFFSETFROM:-0500
TZOFFSETTO:-0600
TZNAME:CST
DTSTART:20271107T070000
END:STANDARD
END:VTIMEZONE
BEGIN:VEVENT
DTSTART;TZID=America/Chicago:20260422T193000
DTEND;TZID=America/Chicago:20260422T213000
DTSTAMP:20260422T013036
CREATED:20260123T220949Z
LAST-MODIFIED:20260123T220949Z
UID:13735-1776886200-1776893400@ctl.wustl.edu
SUMMARY:Matrix Drop-In - Jonathan
DESCRIPTION:
URL:https://ctl.wustl.edu/learningcenter/mentoring-sessions/matrix-drop-in-jonathan-15/2026-04-22/
LOCATION:Mallinckrodt 132
CATEGORIES:Mathematics,Matrix Algebra
END:VEVENT
BEGIN:VEVENT
DTSTART;TZID=America/Chicago:20260427T193000
DTEND;TZID=America/Chicago:20260427T213000
DTSTAMP:20260422T013036
CREATED:20260123T220830Z
LAST-MODIFIED:20260126T150906Z
UID:13722-1777318200-1777325400@ctl.wustl.edu
SUMMARY:Matrix Drop-In - Jonathan
DESCRIPTION:
URL:https://ctl.wustl.edu/learningcenter/mentoring-sessions/matrix-drop-in-jonathan-14-2026-02-02/2026-04-27/
LOCATION:Mallinckrodt 132
CATEGORIES:Mathematics,Matrix Algebra
END:VEVENT
BEGIN:VEVENT
DTSTART;TZID=America/Chicago:20260429T193000
DTEND;TZID=America/Chicago:20260429T213000
DTSTAMP:20260422T013036
CREATED:20260123T220949Z
LAST-MODIFIED:20260123T220949Z
UID:13736-1777491000-1777498200@ctl.wustl.edu
SUMMARY:Matrix Drop-In - Jonathan
DESCRIPTION:
URL:https://ctl.wustl.edu/learningcenter/mentoring-sessions/matrix-drop-in-jonathan-15/2026-04-29/
LOCATION:Mallinckrodt 132
CATEGORIES:Mathematics,Matrix Algebra
END:VEVENT
END:VCALENDAR