BEGIN:VCALENDAR
VERSION:2.0
PRODID:-//The Learning Center - ECPv6.15.16.1//NONSGML v1.0//EN
CALSCALE:GREGORIAN
METHOD:PUBLISH
X-WR-CALNAME:The Learning Center
X-ORIGINAL-URL:https://ctl.wustl.edu/learningcenter
X-WR-CALDESC:Events for The Learning Center
REFRESH-INTERVAL;VALUE=DURATION:PT1H
X-Robots-Tag:noindex
X-PUBLISHED-TTL:PT1H
BEGIN:VTIMEZONE
TZID:America/Chicago
BEGIN:DAYLIGHT
TZOFFSETFROM:-0600
TZOFFSETTO:-0500
TZNAME:CDT
DTSTART:20240310T080000
END:DAYLIGHT
BEGIN:STANDARD
TZOFFSETFROM:-0500
TZOFFSETTO:-0600
TZNAME:CST
DTSTART:20241103T070000
END:STANDARD
BEGIN:DAYLIGHT
TZOFFSETFROM:-0600
TZOFFSETTO:-0500
TZNAME:CDT
DTSTART:20250309T080000
END:DAYLIGHT
BEGIN:STANDARD
TZOFFSETFROM:-0500
TZOFFSETTO:-0600
TZNAME:CST
DTSTART:20251102T070000
END:STANDARD
BEGIN:DAYLIGHT
TZOFFSETFROM:-0600
TZOFFSETTO:-0500
TZNAME:CDT
DTSTART:20260308T080000
END:DAYLIGHT
BEGIN:STANDARD
TZOFFSETFROM:-0500
TZOFFSETTO:-0600
TZNAME:CST
DTSTART:20261101T070000
END:STANDARD
END:VTIMEZONE
BEGIN:VEVENT
DTSTART;TZID=America/Chicago:20250915T180000
DTEND;TZID=America/Chicago:20250915T200000
DTSTAMP:20260423T222211
CREATED:20250915T151204Z
LAST-MODIFIED:20250915T151204Z
UID:13331-1757959200-1757966400@ctl.wustl.edu
SUMMARY:CAPS Microbio - Abby via Zoom
DESCRIPTION:https://wustl.zoom.us/j/5035573815
URL:https://ctl.wustl.edu/learningcenter/mentoring-sessions/caps-microbio-abby-via-zoom/2025-09-15/
CATEGORIES:Microbiology
END:VEVENT
BEGIN:VEVENT
DTSTART;TZID=America/Chicago:20250922T180000
DTEND;TZID=America/Chicago:20250922T200000
DTSTAMP:20260423T222211
CREATED:20250915T151204Z
LAST-MODIFIED:20250915T151204Z
UID:13333-1758564000-1758571200@ctl.wustl.edu
SUMMARY:CAPS Microbio - Abby via Zoom
DESCRIPTION:https://wustl.zoom.us/j/5035573815
URL:https://ctl.wustl.edu/learningcenter/mentoring-sessions/caps-microbio-abby-via-zoom/2025-09-22/
CATEGORIES:Microbiology
END:VEVENT
BEGIN:VEVENT
DTSTART;TZID=America/Chicago:20250929T180000
DTEND;TZID=America/Chicago:20250929T200000
DTSTAMP:20260423T222211
CREATED:20250915T151204Z
LAST-MODIFIED:20250915T151204Z
UID:13334-1759168800-1759176000@ctl.wustl.edu
SUMMARY:CAPS Microbio - Abby via Zoom
DESCRIPTION:https://wustl.zoom.us/j/5035573815
URL:https://ctl.wustl.edu/learningcenter/mentoring-sessions/caps-microbio-abby-via-zoom/2025-09-29/
CATEGORIES:Microbiology
END:VEVENT
BEGIN:VEVENT
DTSTART;TZID=America/Chicago:20251013T180000
DTEND;TZID=America/Chicago:20251013T200000
DTSTAMP:20260423T222211
CREATED:20250915T151204Z
LAST-MODIFIED:20250915T151204Z
UID:13336-1760378400-1760385600@ctl.wustl.edu
SUMMARY:CAPS Microbio - Abby via Zoom
DESCRIPTION:https://wustl.zoom.us/j/5035573815
URL:https://ctl.wustl.edu/learningcenter/mentoring-sessions/caps-microbio-abby-via-zoom/2025-10-13/
CATEGORIES:Microbiology
END:VEVENT
END:VCALENDAR