BEGIN:VCALENDAR
VERSION:2.0
PRODID:-//The Learning Center - ECPv6.15.16.1//NONSGML v1.0//EN
CALSCALE:GREGORIAN
METHOD:PUBLISH
X-WR-CALNAME:The Learning Center
X-ORIGINAL-URL:https://ctl.wustl.edu/learningcenter
X-WR-CALDESC:Events for The Learning Center
REFRESH-INTERVAL;VALUE=DURATION:PT1H
X-Robots-Tag:noindex
X-PUBLISHED-TTL:PT1H
BEGIN:VTIMEZONE
TZID:America/Chicago
BEGIN:DAYLIGHT
TZOFFSETFROM:-0600
TZOFFSETTO:-0500
TZNAME:CDT
DTSTART:20210314T080000
END:DAYLIGHT
BEGIN:STANDARD
TZOFFSETFROM:-0500
TZOFFSETTO:-0600
TZNAME:CST
DTSTART:20211107T070000
END:STANDARD
BEGIN:DAYLIGHT
TZOFFSETFROM:-0600
TZOFFSETTO:-0500
TZNAME:CDT
DTSTART:20220313T080000
END:DAYLIGHT
BEGIN:STANDARD
TZOFFSETFROM:-0500
TZOFFSETTO:-0600
TZNAME:CST
DTSTART:20221106T070000
END:STANDARD
BEGIN:DAYLIGHT
TZOFFSETFROM:-0600
TZOFFSETTO:-0500
TZNAME:CDT
DTSTART:20230312T080000
END:DAYLIGHT
BEGIN:STANDARD
TZOFFSETFROM:-0500
TZOFFSETTO:-0600
TZNAME:CST
DTSTART:20231105T070000
END:STANDARD
BEGIN:DAYLIGHT
TZOFFSETFROM:-0600
TZOFFSETTO:-0500
TZNAME:CDT
DTSTART:20240310T080000
END:DAYLIGHT
BEGIN:STANDARD
TZOFFSETFROM:-0500
TZOFFSETTO:-0600
TZNAME:CST
DTSTART:20241103T070000
END:STANDARD
END:VTIMEZONE
BEGIN:VEVENT
DTSTART;TZID=America/Chicago:20230206T163000
DTEND;TZID=America/Chicago:20230206T183000
DTSTAMP:20260423T105138
CREATED:20230126T223500Z
LAST-MODIFIED:20230129T000104Z
UID:5976-1675701000-1675708200@ctl.wustl.edu
SUMMARY:Calc 2 RPM hours - Akshay
DESCRIPTION:
URL:https://ctl.wustl.edu/learningcenter/mentoring-sessions/calc-2-rpm-hours-akshay-2/2023-02-06/
LOCATION:Park Small Conference Room
CATEGORIES:Calc II (Math 1520),Calculus,Mathematics
ORGANIZER;CN="Akshay Govindan":MAILTO:agovindan@wustl.edu
END:VEVENT
BEGIN:VEVENT
DTSTART;TZID=America/Chicago:20230213T163000
DTEND;TZID=America/Chicago:20230213T183000
DTSTAMP:20260423T105138
CREATED:20230126T223500Z
LAST-MODIFIED:20230129T000105Z
UID:5978-1676305800-1676313000@ctl.wustl.edu
SUMMARY:Calc 2 RPM hours - Akshay
DESCRIPTION:
URL:https://ctl.wustl.edu/learningcenter/mentoring-sessions/calc-2-rpm-hours-akshay-2/2023-02-13/
LOCATION:Park Small Conference Room
CATEGORIES:Calc II (Math 1520),Calculus,Mathematics
ORGANIZER;CN="Akshay Govindan":MAILTO:agovindan@wustl.edu
END:VEVENT
BEGIN:VEVENT
DTSTART;TZID=America/Chicago:20230220T163000
DTEND;TZID=America/Chicago:20230220T183000
DTSTAMP:20260423T105138
CREATED:20230126T223500Z
LAST-MODIFIED:20230129T000105Z
UID:5979-1676910600-1676917800@ctl.wustl.edu
SUMMARY:Calc 2 RPM hours - Akshay
DESCRIPTION:
URL:https://ctl.wustl.edu/learningcenter/mentoring-sessions/calc-2-rpm-hours-akshay-2/2023-02-20/
LOCATION:Park Small Conference Room
CATEGORIES:Calc II (Math 1520),Calculus,Mathematics
ORGANIZER;CN="Akshay Govindan":MAILTO:agovindan@wustl.edu
END:VEVENT
BEGIN:VEVENT
DTSTART;TZID=America/Chicago:20230227T163000
DTEND;TZID=America/Chicago:20230227T183000
DTSTAMP:20260423T105138
CREATED:20230126T223500Z
LAST-MODIFIED:20230129T000106Z
UID:5980-1677515400-1677522600@ctl.wustl.edu
SUMMARY:Calc 2 RPM hours - Akshay
DESCRIPTION:
URL:https://ctl.wustl.edu/learningcenter/mentoring-sessions/calc-2-rpm-hours-akshay-2/2023-02-27/
LOCATION:Park Small Conference Room
CATEGORIES:Calc II (Math 1520),Calculus,Mathematics
ORGANIZER;CN="Akshay Govindan":MAILTO:agovindan@wustl.edu
END:VEVENT
BEGIN:VEVENT
DTSTART;TZID=America/Chicago:20230306T163000
DTEND;TZID=America/Chicago:20230306T183000
DTSTAMP:20260423T105138
CREATED:20230126T223500Z
LAST-MODIFIED:20230129T000107Z
UID:5981-1678120200-1678127400@ctl.wustl.edu
SUMMARY:Calc 2 RPM hours - Akshay
DESCRIPTION:
URL:https://ctl.wustl.edu/learningcenter/mentoring-sessions/calc-2-rpm-hours-akshay-2/2023-03-06/
LOCATION:Park Small Conference Room
CATEGORIES:Calc II (Math 1520),Calculus,Mathematics
ORGANIZER;CN="Akshay Govindan":MAILTO:agovindan@wustl.edu
END:VEVENT
BEGIN:VEVENT
DTSTART;TZID=America/Chicago:20230320T163000
DTEND;TZID=America/Chicago:20230320T183000
DTSTAMP:20260423T105138
CREATED:20230126T223500Z
LAST-MODIFIED:20230129T000108Z
UID:5983-1679329800-1679337000@ctl.wustl.edu
SUMMARY:Calc 2 RPM hours - Akshay
DESCRIPTION:
URL:https://ctl.wustl.edu/learningcenter/mentoring-sessions/calc-2-rpm-hours-akshay-2/2023-03-20/
LOCATION:Park Small Conference Room
CATEGORIES:Calc II (Math 1520),Calculus,Mathematics
ORGANIZER;CN="Akshay Govindan":MAILTO:agovindan@wustl.edu
END:VEVENT
BEGIN:VEVENT
DTSTART;TZID=America/Chicago:20230327T163000
DTEND;TZID=America/Chicago:20230327T183000
DTSTAMP:20260423T105138
CREATED:20230126T223500Z
LAST-MODIFIED:20230129T000109Z
UID:5984-1679934600-1679941800@ctl.wustl.edu
SUMMARY:Calc 2 RPM hours - Akshay
DESCRIPTION:
URL:https://ctl.wustl.edu/learningcenter/mentoring-sessions/calc-2-rpm-hours-akshay-2/2023-03-27/
LOCATION:Park Small Conference Room
CATEGORIES:Calc II (Math 1520),Calculus,Mathematics
ORGANIZER;CN="Akshay Govindan":MAILTO:agovindan@wustl.edu
END:VEVENT
BEGIN:VEVENT
DTSTART;TZID=America/Chicago:20230403T163000
DTEND;TZID=America/Chicago:20230403T183000
DTSTAMP:20260423T105138
CREATED:20230126T223500Z
LAST-MODIFIED:20230129T000109Z
UID:5985-1680539400-1680546600@ctl.wustl.edu
SUMMARY:Calc 2 RPM hours - Akshay
DESCRIPTION:
URL:https://ctl.wustl.edu/learningcenter/mentoring-sessions/calc-2-rpm-hours-akshay-2/2023-04-03/
LOCATION:Park Small Conference Room
CATEGORIES:Calc II (Math 1520),Calculus,Mathematics
ORGANIZER;CN="Akshay Govindan":MAILTO:agovindan@wustl.edu
END:VEVENT
BEGIN:VEVENT
DTSTART;TZID=America/Chicago:20230424T163000
DTEND;TZID=America/Chicago:20230424T183000
DTSTAMP:20260423T105138
CREATED:20230126T223500Z
LAST-MODIFIED:20230129T000116Z
UID:5988-1682353800-1682361000@ctl.wustl.edu
SUMMARY:Calc 2 RPM hours - Akshay
DESCRIPTION:
URL:https://ctl.wustl.edu/learningcenter/mentoring-sessions/calc-2-rpm-hours-akshay-2/2023-04-24/
LOCATION:Park Small Conference Room
CATEGORIES:Calc II (Math 1520),Calculus,Mathematics
ORGANIZER;CN="Akshay Govindan":MAILTO:agovindan@wustl.edu
END:VEVENT
BEGIN:VEVENT
DTSTART;TZID=America/Chicago:20230417T163000
DTEND;TZID=America/Chicago:20230417T183000
DTSTAMP:20260423T105138
CREATED:20230126T223500Z
LAST-MODIFIED:20230129T000116Z
UID:5987-1681749000-1681756200@ctl.wustl.edu
SUMMARY:Calc 2 RPM hours - Akshay
DESCRIPTION:
URL:https://ctl.wustl.edu/learningcenter/mentoring-sessions/calc-2-rpm-hours-akshay-2/2023-04-17/
LOCATION:Park Small Conference Room
CATEGORIES:Calc II (Math 1520),Calculus,Mathematics
ORGANIZER;CN="Akshay Govindan":MAILTO:agovindan@wustl.edu
END:VEVENT
BEGIN:VEVENT
DTSTART;TZID=America/Chicago:20230410T163000
DTEND;TZID=America/Chicago:20230410T183000
DTSTAMP:20260423T105138
CREATED:20230126T223500Z
LAST-MODIFIED:20230129T000110Z
UID:5986-1681144200-1681151400@ctl.wustl.edu
SUMMARY:Calc 2 RPM hours - Akshay
DESCRIPTION:
URL:https://ctl.wustl.edu/learningcenter/mentoring-sessions/calc-2-rpm-hours-akshay-2/2023-04-10/
LOCATION:Park Small Conference Room
CATEGORIES:Calc II (Math 1520),Calculus,Mathematics
ORGANIZER;CN="Akshay Govindan":MAILTO:agovindan@wustl.edu
END:VEVENT
BEGIN:VEVENT
DTSTART;TZID=America/Chicago:20230423T150000
DTEND;TZID=America/Chicago:20230423T170000
DTSTAMP:20260423T105138
CREATED:20230126T222401Z
LAST-MODIFIED:20230129T000535Z
UID:5933-1682262000-1682269200@ctl.wustl.edu
SUMMARY:Calc 2 RPM hours - Akshay
DESCRIPTION:
URL:https://ctl.wustl.edu/learningcenter/mentoring-sessions/calc-2-rpm-hours-akshay/2023-04-23/
LOCATION:Umrath House Conference Room
CATEGORIES:Calc II (Math 1520),Calculus,Mathematics
ORGANIZER;CN="Akshay Govindan":MAILTO:agovindan@wustl.edu
END:VEVENT
BEGIN:VEVENT
DTSTART;TZID=America/Chicago:20230205T150000
DTEND;TZID=America/Chicago:20230205T170000
DTSTAMP:20260423T105138
CREATED:20230126T222401Z
LAST-MODIFIED:20230129T000523Z
UID:5921-1675609200-1675616400@ctl.wustl.edu
SUMMARY:Calc 2 RPM hours - Akshay
DESCRIPTION:
URL:https://ctl.wustl.edu/learningcenter/mentoring-sessions/calc-2-rpm-hours-akshay/2023-02-05/
LOCATION:Umrath House Conference Room
CATEGORIES:Calc II (Math 1520),Calculus,Mathematics
ORGANIZER;CN="Akshay Govindan":MAILTO:agovindan@wustl.edu
END:VEVENT
BEGIN:VEVENT
DTSTART;TZID=America/Chicago:20230212T150000
DTEND;TZID=America/Chicago:20230212T170000
DTSTAMP:20260423T105138
CREATED:20230126T222401Z
LAST-MODIFIED:20230129T000524Z
UID:5923-1676214000-1676221200@ctl.wustl.edu
SUMMARY:Calc 2 RPM hours - Akshay
DESCRIPTION:
URL:https://ctl.wustl.edu/learningcenter/mentoring-sessions/calc-2-rpm-hours-akshay/2023-02-12/
LOCATION:Umrath House Conference Room
CATEGORIES:Calc II (Math 1520),Calculus,Mathematics
ORGANIZER;CN="Akshay Govindan":MAILTO:agovindan@wustl.edu
END:VEVENT
BEGIN:VEVENT
DTSTART;TZID=America/Chicago:20230219T150000
DTEND;TZID=America/Chicago:20230219T170000
DTSTAMP:20260423T105138
CREATED:20230126T222401Z
LAST-MODIFIED:20230129T000525Z
UID:5924-1676818800-1676826000@ctl.wustl.edu
SUMMARY:Calc 2 RPM hours - Akshay
DESCRIPTION:
URL:https://ctl.wustl.edu/learningcenter/mentoring-sessions/calc-2-rpm-hours-akshay/2023-02-19/
LOCATION:Umrath House Conference Room
CATEGORIES:Calc II (Math 1520),Calculus,Mathematics
ORGANIZER;CN="Akshay Govindan":MAILTO:agovindan@wustl.edu
END:VEVENT
BEGIN:VEVENT
DTSTART;TZID=America/Chicago:20230226T150000
DTEND;TZID=America/Chicago:20230226T170000
DTSTAMP:20260423T105138
CREATED:20230126T222401Z
LAST-MODIFIED:20230129T000525Z
UID:5925-1677423600-1677430800@ctl.wustl.edu
SUMMARY:Calc 2 RPM hours - Akshay
DESCRIPTION:
URL:https://ctl.wustl.edu/learningcenter/mentoring-sessions/calc-2-rpm-hours-akshay/2023-02-26/
LOCATION:Umrath House Conference Room
CATEGORIES:Calc II (Math 1520),Calculus,Mathematics
ORGANIZER;CN="Akshay Govindan":MAILTO:agovindan@wustl.edu
END:VEVENT
BEGIN:VEVENT
DTSTART;TZID=America/Chicago:20230319T150000
DTEND;TZID=America/Chicago:20230319T170000
DTSTAMP:20260423T105138
CREATED:20230126T222401Z
LAST-MODIFIED:20230129T000527Z
UID:5928-1679238000-1679245200@ctl.wustl.edu
SUMMARY:Calc 2 RPM hours - Akshay
DESCRIPTION:
URL:https://ctl.wustl.edu/learningcenter/mentoring-sessions/calc-2-rpm-hours-akshay/2023-03-19/
LOCATION:Umrath House Conference Room
CATEGORIES:Calc II (Math 1520),Calculus,Mathematics
ORGANIZER;CN="Akshay Govindan":MAILTO:agovindan@wustl.edu
END:VEVENT
BEGIN:VEVENT
DTSTART;TZID=America/Chicago:20230326T150000
DTEND;TZID=America/Chicago:20230326T170000
DTSTAMP:20260423T105138
CREATED:20230126T222401Z
LAST-MODIFIED:20230129T000528Z
UID:5929-1679842800-1679850000@ctl.wustl.edu
SUMMARY:Calc 2 RPM hours - Akshay
DESCRIPTION:
URL:https://ctl.wustl.edu/learningcenter/mentoring-sessions/calc-2-rpm-hours-akshay/2023-03-26/
LOCATION:Umrath House Conference Room
CATEGORIES:Calc II (Math 1520),Calculus,Mathematics
ORGANIZER;CN="Akshay Govindan":MAILTO:agovindan@wustl.edu
END:VEVENT
BEGIN:VEVENT
DTSTART;TZID=America/Chicago:20230402T150000
DTEND;TZID=America/Chicago:20230402T170000
DTSTAMP:20260423T105138
CREATED:20230126T222401Z
LAST-MODIFIED:20230129T000529Z
UID:5930-1680447600-1680454800@ctl.wustl.edu
SUMMARY:Calc 2 RPM hours - Akshay
DESCRIPTION:
URL:https://ctl.wustl.edu/learningcenter/mentoring-sessions/calc-2-rpm-hours-akshay/2023-04-02/
LOCATION:Umrath House Conference Room
CATEGORIES:Calc II (Math 1520),Calculus,Mathematics
ORGANIZER;CN="Akshay Govindan":MAILTO:agovindan@wustl.edu
END:VEVENT
BEGIN:VEVENT
DTSTART;TZID=America/Chicago:20230409T150000
DTEND;TZID=America/Chicago:20230409T170000
DTSTAMP:20260423T105138
CREATED:20230126T222401Z
LAST-MODIFIED:20230129T000534Z
UID:5931-1681052400-1681059600@ctl.wustl.edu
SUMMARY:Calc 2 RPM hours - Akshay
DESCRIPTION:
URL:https://ctl.wustl.edu/learningcenter/mentoring-sessions/calc-2-rpm-hours-akshay/2023-04-09/
LOCATION:Umrath House Conference Room
CATEGORIES:Calc II (Math 1520),Calculus,Mathematics
ORGANIZER;CN="Akshay Govindan":MAILTO:agovindan@wustl.edu
END:VEVENT
BEGIN:VEVENT
DTSTART;TZID=America/Chicago:20230416T150000
DTEND;TZID=America/Chicago:20230416T170000
DTSTAMP:20260423T105138
CREATED:20230126T222401Z
LAST-MODIFIED:20230129T000535Z
UID:5932-1681657200-1681664400@ctl.wustl.edu
SUMMARY:Calc 2 RPM hours - Akshay
DESCRIPTION:
URL:https://ctl.wustl.edu/learningcenter/mentoring-sessions/calc-2-rpm-hours-akshay/2023-04-16/
LOCATION:Umrath House Conference Room
CATEGORIES:Calc II (Math 1520),Calculus,Mathematics
ORGANIZER;CN="Akshay Govindan":MAILTO:agovindan@wustl.edu
END:VEVENT
BEGIN:VEVENT
DTSTART;TZID=America/Chicago:20221128T170000
DTEND;TZID=America/Chicago:20221128T190000
DTSTAMP:20260423T105138
CREATED:20220908T202840Z
LAST-MODIFIED:20220919T054923Z
UID:5106-1669654800-1669662000@ctl.wustl.edu
SUMMARY:Calculus II - Akshay's RPM Sessions
DESCRIPTION:Myers House Study Room \nDrop-in Academic Mentoring and Residential Peer Mentoring (RPM) hours are open to all students in the course. Sessions are unstructured and informal – you can come and go at any point\, and you are welcome to make use of mentoring hours whether you have a specific question\, want to review concepts\, or are just looking for a regular time and place each week to focus on work for the class.
URL:https://ctl.wustl.edu/learningcenter/mentoring-sessions/calculus-ii-akshays-mentoring-sessions/2022-11-28/
LOCATION:Myers House Study Room
CATEGORIES:Calc II (Math 1520),Calculus,Mathematics
ORGANIZER;CN="Akshay Govindan":MAILTO:agovindan@wustl.edu
END:VEVENT
BEGIN:VEVENT
DTSTART;TZID=America/Chicago:20221205T170000
DTEND;TZID=America/Chicago:20221205T190000
DTSTAMP:20260423T105138
CREATED:20220908T202840Z
LAST-MODIFIED:20220919T054923Z
UID:5107-1670259600-1670266800@ctl.wustl.edu
SUMMARY:Calculus II - Akshay's RPM Sessions
DESCRIPTION:Myers House Study Room \nDrop-in Academic Mentoring and Residential Peer Mentoring (RPM) hours are open to all students in the course. Sessions are unstructured and informal – you can come and go at any point\, and you are welcome to make use of mentoring hours whether you have a specific question\, want to review concepts\, or are just looking for a regular time and place each week to focus on work for the class.
URL:https://ctl.wustl.edu/learningcenter/mentoring-sessions/calculus-ii-akshays-mentoring-sessions/2022-12-05/
LOCATION:Myers House Study Room
CATEGORIES:Calc II (Math 1520),Calculus,Mathematics
ORGANIZER;CN="Akshay Govindan":MAILTO:agovindan@wustl.edu
END:VEVENT
BEGIN:VEVENT
DTSTART;TZID=America/Chicago:20221121T170000
DTEND;TZID=America/Chicago:20221121T190000
DTSTAMP:20260423T105138
CREATED:20220908T202840Z
LAST-MODIFIED:20220919T054920Z
UID:5105-1669050000-1669057200@ctl.wustl.edu
SUMMARY:Calculus II - Akshay's RPM Sessions
DESCRIPTION:Myers House Study Room \nDrop-in Academic Mentoring and Residential Peer Mentoring (RPM) hours are open to all students in the course. Sessions are unstructured and informal – you can come and go at any point\, and you are welcome to make use of mentoring hours whether you have a specific question\, want to review concepts\, or are just looking for a regular time and place each week to focus on work for the class.
URL:https://ctl.wustl.edu/learningcenter/mentoring-sessions/calculus-ii-akshays-mentoring-sessions/2022-11-21/
LOCATION:Myers House Study Room
CATEGORIES:Calc II (Math 1520),Calculus,Mathematics
ORGANIZER;CN="Akshay Govindan":MAILTO:agovindan@wustl.edu
END:VEVENT
BEGIN:VEVENT
DTSTART;TZID=America/Chicago:20221107T170000
DTEND;TZID=America/Chicago:20221107T190000
DTSTAMP:20260423T105138
CREATED:20220908T202840Z
LAST-MODIFIED:20220919T054919Z
UID:5103-1667840400-1667847600@ctl.wustl.edu
SUMMARY:Calculus II - Akshay's RPM Sessions
DESCRIPTION:Myers House Study Room \nDrop-in Academic Mentoring and Residential Peer Mentoring (RPM) hours are open to all students in the course. Sessions are unstructured and informal – you can come and go at any point\, and you are welcome to make use of mentoring hours whether you have a specific question\, want to review concepts\, or are just looking for a regular time and place each week to focus on work for the class.
URL:https://ctl.wustl.edu/learningcenter/mentoring-sessions/calculus-ii-akshays-mentoring-sessions/2022-11-07/
LOCATION:Myers House Study Room
CATEGORIES:Calc II (Math 1520),Calculus,Mathematics
ORGANIZER;CN="Akshay Govindan":MAILTO:agovindan@wustl.edu
END:VEVENT
BEGIN:VEVENT
DTSTART;TZID=America/Chicago:20221031T170000
DTEND;TZID=America/Chicago:20221031T190000
DTSTAMP:20260423T105138
CREATED:20220908T202840Z
LAST-MODIFIED:20220919T054919Z
UID:5102-1667235600-1667242800@ctl.wustl.edu
SUMMARY:Calculus II - Akshay's RPM Sessions
DESCRIPTION:Myers House Study Room \nDrop-in Academic Mentoring and Residential Peer Mentoring (RPM) hours are open to all students in the course. Sessions are unstructured and informal – you can come and go at any point\, and you are welcome to make use of mentoring hours whether you have a specific question\, want to review concepts\, or are just looking for a regular time and place each week to focus on work for the class.
URL:https://ctl.wustl.edu/learningcenter/mentoring-sessions/calculus-ii-akshays-mentoring-sessions/2022-10-31/
LOCATION:Myers House Study Room
CATEGORIES:Calc II (Math 1520),Calculus,Mathematics
ORGANIZER;CN="Akshay Govindan":MAILTO:agovindan@wustl.edu
END:VEVENT
BEGIN:VEVENT
DTSTART;TZID=America/Chicago:20221024T170000
DTEND;TZID=America/Chicago:20221024T190000
DTSTAMP:20260423T105138
CREATED:20220908T202840Z
LAST-MODIFIED:20220919T054918Z
UID:5101-1666630800-1666638000@ctl.wustl.edu
SUMMARY:Calculus II - Akshay's RPM Sessions
DESCRIPTION:Myers House Study Room \nDrop-in Academic Mentoring and Residential Peer Mentoring (RPM) hours are open to all students in the course. Sessions are unstructured and informal – you can come and go at any point\, and you are welcome to make use of mentoring hours whether you have a specific question\, want to review concepts\, or are just looking for a regular time and place each week to focus on work for the class.
URL:https://ctl.wustl.edu/learningcenter/mentoring-sessions/calculus-ii-akshays-mentoring-sessions/2022-10-24/
LOCATION:Myers House Study Room
CATEGORIES:Calc II (Math 1520),Calculus,Mathematics
ORGANIZER;CN="Akshay Govindan":MAILTO:agovindan@wustl.edu
END:VEVENT
BEGIN:VEVENT
DTSTART;TZID=America/Chicago:20221003T170000
DTEND;TZID=America/Chicago:20221003T190000
DTSTAMP:20260423T105138
CREATED:20220908T202840Z
LAST-MODIFIED:20220919T054917Z
UID:5098-1664816400-1664823600@ctl.wustl.edu
SUMMARY:Calculus II - Akshay's RPM Sessions
DESCRIPTION:Myers House Study Room \nDrop-in Academic Mentoring and Residential Peer Mentoring (RPM) hours are open to all students in the course. Sessions are unstructured and informal – you can come and go at any point\, and you are welcome to make use of mentoring hours whether you have a specific question\, want to review concepts\, or are just looking for a regular time and place each week to focus on work for the class.
URL:https://ctl.wustl.edu/learningcenter/mentoring-sessions/calculus-ii-akshays-mentoring-sessions/2022-10-03/
LOCATION:Myers House Study Room
CATEGORIES:Calc II (Math 1520),Calculus,Mathematics
ORGANIZER;CN="Akshay Govindan":MAILTO:agovindan@wustl.edu
END:VEVENT
BEGIN:VEVENT
DTSTART;TZID=America/Chicago:20220926T170000
DTEND;TZID=America/Chicago:20220926T190000
DTSTAMP:20260423T105138
CREATED:20220908T202840Z
LAST-MODIFIED:20220919T054917Z
UID:5097-1664211600-1664218800@ctl.wustl.edu
SUMMARY:Calculus II - Akshay's RPM Sessions
DESCRIPTION:Myers House Study Room \nDrop-in Academic Mentoring and Residential Peer Mentoring (RPM) hours are open to all students in the course. Sessions are unstructured and informal – you can come and go at any point\, and you are welcome to make use of mentoring hours whether you have a specific question\, want to review concepts\, or are just looking for a regular time and place each week to focus on work for the class.
URL:https://ctl.wustl.edu/learningcenter/mentoring-sessions/calculus-ii-akshays-mentoring-sessions/2022-09-26/
LOCATION:Myers House Study Room
CATEGORIES:Calc II (Math 1520),Calculus,Mathematics
ORGANIZER;CN="Akshay Govindan":MAILTO:agovindan@wustl.edu
END:VEVENT
BEGIN:VEVENT
DTSTART;TZID=America/Chicago:20220912T170000
DTEND;TZID=America/Chicago:20220912T190000
DTSTAMP:20260423T105138
CREATED:20220908T202840Z
LAST-MODIFIED:20220919T054916Z
UID:5095-1663002000-1663009200@ctl.wustl.edu
SUMMARY:Calculus II - Akshay's RPM Sessions
DESCRIPTION:Myers House Study Room \nDrop-in Academic Mentoring and Residential Peer Mentoring (RPM) hours are open to all students in the course. Sessions are unstructured and informal – you can come and go at any point\, and you are welcome to make use of mentoring hours whether you have a specific question\, want to review concepts\, or are just looking for a regular time and place each week to focus on work for the class.
URL:https://ctl.wustl.edu/learningcenter/mentoring-sessions/calculus-ii-akshays-mentoring-sessions/2022-09-12/
LOCATION:Myers House Study Room
CATEGORIES:Calc II (Math 1520),Calculus,Mathematics
ORGANIZER;CN="Akshay Govindan":MAILTO:agovindan@wustl.edu
END:VEVENT
END:VCALENDAR