BEGIN:VCALENDAR
VERSION:2.0
PRODID:-//The Learning Center - ECPv6.15.16.1//NONSGML v1.0//EN
CALSCALE:GREGORIAN
METHOD:PUBLISH
X-WR-CALNAME:The Learning Center
X-ORIGINAL-URL:https://ctl.wustl.edu/learningcenter
X-WR-CALDESC:Events for The Learning Center
REFRESH-INTERVAL;VALUE=DURATION:PT1H
X-Robots-Tag:noindex
X-PUBLISHED-TTL:PT1H
BEGIN:VTIMEZONE
TZID:America/Chicago
BEGIN:DAYLIGHT
TZOFFSETFROM:-0600
TZOFFSETTO:-0500
TZNAME:CDT
DTSTART:20230312T080000
END:DAYLIGHT
BEGIN:STANDARD
TZOFFSETFROM:-0500
TZOFFSETTO:-0600
TZNAME:CST
DTSTART:20231105T070000
END:STANDARD
BEGIN:DAYLIGHT
TZOFFSETFROM:-0600
TZOFFSETTO:-0500
TZNAME:CDT
DTSTART:20240310T080000
END:DAYLIGHT
BEGIN:STANDARD
TZOFFSETFROM:-0500
TZOFFSETTO:-0600
TZNAME:CST
DTSTART:20241103T070000
END:STANDARD
BEGIN:DAYLIGHT
TZOFFSETFROM:-0600
TZOFFSETTO:-0500
TZNAME:CDT
DTSTART:20250309T080000
END:DAYLIGHT
BEGIN:STANDARD
TZOFFSETFROM:-0500
TZOFFSETTO:-0600
TZNAME:CST
DTSTART:20251102T070000
END:STANDARD
BEGIN:DAYLIGHT
TZOFFSETFROM:-0600
TZOFFSETTO:-0500
TZNAME:CDT
DTSTART:20260308T080000
END:DAYLIGHT
BEGIN:STANDARD
TZOFFSETFROM:-0500
TZOFFSETTO:-0600
TZNAME:CST
DTSTART:20261101T070000
END:STANDARD
END:VTIMEZONE
BEGIN:VEVENT
DTSTART;TZID=America/Chicago:20250221T130000
DTEND;TZID=America/Chicago:20250221T150000
DTSTAMP:20260425T110830
CREATED:20250124T220547Z
LAST-MODIFIED:20250124T220547Z
UID:11681-1740142800-1740150000@ctl.wustl.edu
SUMMARY:Physics 192 Drop-In - Alice
DESCRIPTION:
URL:https://ctl.wustl.edu/learningcenter/mentoring-sessions/physics-192-drop-in-alice/2025-02-21/
LOCATION:Mallinckrodt 132
CATEGORIES:Physics,Physics 1740/1742
END:VEVENT
BEGIN:VEVENT
DTSTART;TZID=America/Chicago:20250214T130000
DTEND;TZID=America/Chicago:20250214T150000
DTSTAMP:20260425T110830
CREATED:20250124T220547Z
LAST-MODIFIED:20250124T220547Z
UID:11680-1739538000-1739545200@ctl.wustl.edu
SUMMARY:Physics 192 Drop-In - Alice
DESCRIPTION:
URL:https://ctl.wustl.edu/learningcenter/mentoring-sessions/physics-192-drop-in-alice/2025-02-14/
LOCATION:Mallinckrodt 132
CATEGORIES:Physics,Physics 1740/1742
END:VEVENT
BEGIN:VEVENT
DTSTART;TZID=America/Chicago:20250207T130000
DTEND;TZID=America/Chicago:20250207T150000
DTSTAMP:20260425T110830
CREATED:20250124T220547Z
LAST-MODIFIED:20250124T220547Z
UID:11679-1738933200-1738940400@ctl.wustl.edu
SUMMARY:Physics 192 Drop-In - Alice
DESCRIPTION:
URL:https://ctl.wustl.edu/learningcenter/mentoring-sessions/physics-192-drop-in-alice/2025-02-07/
LOCATION:Mallinckrodt 132
CATEGORIES:Physics,Physics 1740/1742
END:VEVENT
BEGIN:VEVENT
DTSTART;TZID=America/Chicago:20250131T130000
DTEND;TZID=America/Chicago:20250131T150000
DTSTAMP:20260425T110830
CREATED:20250124T220547Z
LAST-MODIFIED:20250124T220547Z
UID:11678-1738328400-1738335600@ctl.wustl.edu
SUMMARY:Physics 192 Drop-In - Alice
DESCRIPTION:
URL:https://ctl.wustl.edu/learningcenter/mentoring-sessions/physics-192-drop-in-alice/2025-01-31/
LOCATION:Mallinckrodt 132
CATEGORIES:Physics,Physics 1740/1742
END:VEVENT
BEGIN:VEVENT
DTSTART;TZID=America/Chicago:20240922T160000
DTEND;TZID=America/Chicago:20240922T180000
DTSTAMP:20260425T110830
CREATED:20240909T191224Z
LAST-MODIFIED:20240909T191224Z
UID:10159-1727020800-1727028000@ctl.wustl.edu
SUMMARY:Physics 191 Drop-In - Alice
DESCRIPTION:
URL:https://ctl.wustl.edu/learningcenter/mentoring-sessions/physics-191-drop-in-alice/2024-09-22/
LOCATION:Mallinckrodt 132
CATEGORIES:Physics,Physics 1740/1742
END:VEVENT
BEGIN:VEVENT
DTSTART;TZID=America/Chicago:20240915T160000
DTEND;TZID=America/Chicago:20240915T180000
DTSTAMP:20260425T110830
CREATED:20240909T191224Z
LAST-MODIFIED:20240909T191224Z
UID:10157-1726416000-1726423200@ctl.wustl.edu
SUMMARY:Physics 191 Drop-In - Alice
DESCRIPTION:
URL:https://ctl.wustl.edu/learningcenter/mentoring-sessions/physics-191-drop-in-alice/2024-09-15/
LOCATION:Mallinckrodt 132
CATEGORIES:Physics,Physics 1740/1742
END:VEVENT
BEGIN:VEVENT
DTSTART;TZID=America/Chicago:20240929T160000
DTEND;TZID=America/Chicago:20240929T180000
DTSTAMP:20260425T110830
CREATED:20240909T191224Z
LAST-MODIFIED:20240909T191224Z
UID:10160-1727625600-1727632800@ctl.wustl.edu
SUMMARY:Physics 191 Drop-In - Alice
DESCRIPTION:
URL:https://ctl.wustl.edu/learningcenter/mentoring-sessions/physics-191-drop-in-alice/2024-09-29/
LOCATION:Mallinckrodt 132
CATEGORIES:Physics,Physics 1740/1742
END:VEVENT
BEGIN:VEVENT
DTSTART;TZID=America/Chicago:20241013T160000
DTEND;TZID=America/Chicago:20241013T180000
DTSTAMP:20260425T110830
CREATED:20240909T191224Z
LAST-MODIFIED:20240909T191224Z
UID:10162-1728835200-1728842400@ctl.wustl.edu
SUMMARY:Physics 191 Drop-In - Alice
DESCRIPTION:
URL:https://ctl.wustl.edu/learningcenter/mentoring-sessions/physics-191-drop-in-alice/2024-10-13/
LOCATION:Mallinckrodt 132
CATEGORIES:Physics,Physics 1740/1742
END:VEVENT
BEGIN:VEVENT
DTSTART;TZID=America/Chicago:20241020T160000
DTEND;TZID=America/Chicago:20241020T180000
DTSTAMP:20260425T110830
CREATED:20240909T191224Z
LAST-MODIFIED:20240909T191224Z
UID:10163-1729440000-1729447200@ctl.wustl.edu
SUMMARY:Physics 191 Drop-In - Alice
DESCRIPTION:
URL:https://ctl.wustl.edu/learningcenter/mentoring-sessions/physics-191-drop-in-alice/2024-10-20/
LOCATION:Mallinckrodt 132
CATEGORIES:Physics,Physics 1740/1742
END:VEVENT
BEGIN:VEVENT
DTSTART;TZID=America/Chicago:20241027T160000
DTEND;TZID=America/Chicago:20241027T180000
DTSTAMP:20260425T110830
CREATED:20240909T191224Z
LAST-MODIFIED:20240909T191224Z
UID:10164-1730044800-1730052000@ctl.wustl.edu
SUMMARY:Physics 191 Drop-In - Alice
DESCRIPTION:
URL:https://ctl.wustl.edu/learningcenter/mentoring-sessions/physics-191-drop-in-alice/2024-10-27/
LOCATION:Mallinckrodt 132
CATEGORIES:Physics,Physics 1740/1742
END:VEVENT
BEGIN:VEVENT
DTSTART;TZID=America/Chicago:20241103T160000
DTEND;TZID=America/Chicago:20241103T180000
DTSTAMP:20260425T110830
CREATED:20240909T191224Z
LAST-MODIFIED:20240909T191224Z
UID:10165-1730649600-1730656800@ctl.wustl.edu
SUMMARY:Physics 191 Drop-In - Alice
DESCRIPTION:
URL:https://ctl.wustl.edu/learningcenter/mentoring-sessions/physics-191-drop-in-alice/2024-11-03/
LOCATION:Mallinckrodt 132
CATEGORIES:Physics,Physics 1740/1742
END:VEVENT
BEGIN:VEVENT
DTSTART;TZID=America/Chicago:20241110T160000
DTEND;TZID=America/Chicago:20241110T180000
DTSTAMP:20260425T110830
CREATED:20240909T191224Z
LAST-MODIFIED:20240909T191224Z
UID:10166-1731254400-1731261600@ctl.wustl.edu
SUMMARY:Physics 191 Drop-In - Alice
DESCRIPTION:
URL:https://ctl.wustl.edu/learningcenter/mentoring-sessions/physics-191-drop-in-alice/2024-11-10/
LOCATION:Mallinckrodt 132
CATEGORIES:Physics,Physics 1740/1742
END:VEVENT
BEGIN:VEVENT
DTSTART;TZID=America/Chicago:20241117T160000
DTEND;TZID=America/Chicago:20241117T180000
DTSTAMP:20260425T110830
CREATED:20240909T191224Z
LAST-MODIFIED:20240909T191224Z
UID:10167-1731859200-1731866400@ctl.wustl.edu
SUMMARY:Physics 191 Drop-In - Alice
DESCRIPTION:
URL:https://ctl.wustl.edu/learningcenter/mentoring-sessions/physics-191-drop-in-alice/2024-11-17/
LOCATION:Mallinckrodt 132
CATEGORIES:Physics,Physics 1740/1742
END:VEVENT
BEGIN:VEVENT
DTSTART;TZID=America/Chicago:20241124T160000
DTEND;TZID=America/Chicago:20241124T180000
DTSTAMP:20260425T110830
CREATED:20240909T191224Z
LAST-MODIFIED:20240909T191224Z
UID:10168-1732464000-1732471200@ctl.wustl.edu
SUMMARY:Physics 191 Drop-In - Alice
DESCRIPTION:
URL:https://ctl.wustl.edu/learningcenter/mentoring-sessions/physics-191-drop-in-alice/2024-11-24/
LOCATION:Mallinckrodt 132
CATEGORIES:Physics,Physics 1740/1742
END:VEVENT
END:VCALENDAR