BEGIN:VCALENDAR
VERSION:2.0
PRODID:-//The Learning Center - ECPv6.15.16.1//NONSGML v1.0//EN
CALSCALE:GREGORIAN
METHOD:PUBLISH
X-WR-CALNAME:The Learning Center
X-ORIGINAL-URL:https://ctl.wustl.edu/learningcenter
X-WR-CALDESC:Events for The Learning Center
REFRESH-INTERVAL;VALUE=DURATION:PT1H
X-Robots-Tag:noindex
X-PUBLISHED-TTL:PT1H
BEGIN:VTIMEZONE
TZID:America/Chicago
BEGIN:DAYLIGHT
TZOFFSETFROM:-0600
TZOFFSETTO:-0500
TZNAME:CDT
DTSTART:20200308T080000
END:DAYLIGHT
BEGIN:STANDARD
TZOFFSETFROM:-0500
TZOFFSETTO:-0600
TZNAME:CST
DTSTART:20201101T070000
END:STANDARD
BEGIN:DAYLIGHT
TZOFFSETFROM:-0600
TZOFFSETTO:-0500
TZNAME:CDT
DTSTART:20210314T080000
END:DAYLIGHT
BEGIN:STANDARD
TZOFFSETFROM:-0500
TZOFFSETTO:-0600
TZNAME:CST
DTSTART:20211107T070000
END:STANDARD
BEGIN:DAYLIGHT
TZOFFSETFROM:-0600
TZOFFSETTO:-0500
TZNAME:CDT
DTSTART:20220313T080000
END:DAYLIGHT
BEGIN:STANDARD
TZOFFSETFROM:-0500
TZOFFSETTO:-0600
TZNAME:CST
DTSTART:20221106T070000
END:STANDARD
END:VTIMEZONE
BEGIN:VEVENT
DTSTART;TZID=America/Chicago:20210203T190000
DTEND;TZID=America/Chicago:20210203T210000
DTSTAMP:20260421T080905
CREATED:20210131T060454Z
LAST-MODIFIED:20210207T223318Z
UID:1397-1612378800-1612386000@ctl.wustl.edu
SUMMARY:Amanda's Psych Stats Session
DESCRIPTION:This drop-in mentoring session will take place remotely over Zoom. The session is designed to have a drop-in\, unstructured format. That means you can enter and leave the session at any time\, stay as long as you would like\, and get help with just about anything\, whether it’s homework\, concept review\, quiz and exam prep\, or study skills. \nTo prevent ‘Zoombombing’\, links to all mentoring sessions are listed in a Box file\, and therefore protected behind the WashU SSO. To access the file\, click here. In some instances\, these links can also be found on the course Canvas page.
URL:https://ctl.wustl.edu/learningcenter/mentoring-sessions/amandas-psych-stats-session/2021-02-03/
CATEGORIES:Introductory Psychological Statistics
ORGANIZER;CN="Amanda Katz":MAILTO:amanda.katz@wustl.edu
END:VEVENT
BEGIN:VEVENT
DTSTART;TZID=America/Chicago:20210414T190000
DTEND;TZID=America/Chicago:20210414T210000
DTSTAMP:20260421T080905
CREATED:20210131T060454Z
LAST-MODIFIED:20210207T223321Z
UID:1407-1618426800-1618434000@ctl.wustl.edu
SUMMARY:Amanda's Psych Stats Session
DESCRIPTION:This drop-in mentoring session will take place remotely over Zoom. The session is designed to have a drop-in\, unstructured format. That means you can enter and leave the session at any time\, stay as long as you would like\, and get help with just about anything\, whether it’s homework\, concept review\, quiz and exam prep\, or study skills. \nTo prevent ‘Zoombombing’\, links to all mentoring sessions are listed in a Box file\, and therefore protected behind the WashU SSO. To access the file\, click here. In some instances\, these links can also be found on the course Canvas page.
URL:https://ctl.wustl.edu/learningcenter/mentoring-sessions/amandas-psych-stats-session/2021-04-14/
CATEGORIES:Introductory Psychological Statistics
ORGANIZER;CN="Amanda Katz":MAILTO:amanda.katz@wustl.edu
END:VEVENT
BEGIN:VEVENT
DTSTART;TZID=America/Chicago:20210421T190000
DTEND;TZID=America/Chicago:20210421T210000
DTSTAMP:20260421T080905
CREATED:20210131T060454Z
LAST-MODIFIED:20210207T223325Z
UID:1408-1619031600-1619038800@ctl.wustl.edu
SUMMARY:Amanda's Psych Stats Session
DESCRIPTION:This drop-in mentoring session will take place remotely over Zoom. The session is designed to have a drop-in\, unstructured format. That means you can enter and leave the session at any time\, stay as long as you would like\, and get help with just about anything\, whether it’s homework\, concept review\, quiz and exam prep\, or study skills. \nTo prevent ‘Zoombombing’\, links to all mentoring sessions are listed in a Box file\, and therefore protected behind the WashU SSO. To access the file\, click here. In some instances\, these links can also be found on the course Canvas page.
URL:https://ctl.wustl.edu/learningcenter/mentoring-sessions/amandas-psych-stats-session/2021-04-21/
CATEGORIES:Introductory Psychological Statistics
ORGANIZER;CN="Amanda Katz":MAILTO:amanda.katz@wustl.edu
END:VEVENT
BEGIN:VEVENT
DTSTART;TZID=America/Chicago:20210428T190000
DTEND;TZID=America/Chicago:20210428T210000
DTSTAMP:20260421T080905
CREATED:20210131T060454Z
LAST-MODIFIED:20210207T223325Z
UID:1409-1619636400-1619643600@ctl.wustl.edu
SUMMARY:Amanda's Psych Stats Session
DESCRIPTION:This drop-in mentoring session will take place remotely over Zoom. The session is designed to have a drop-in\, unstructured format. That means you can enter and leave the session at any time\, stay as long as you would like\, and get help with just about anything\, whether it’s homework\, concept review\, quiz and exam prep\, or study skills. \nTo prevent ‘Zoombombing’\, links to all mentoring sessions are listed in a Box file\, and therefore protected behind the WashU SSO. To access the file\, click here. In some instances\, these links can also be found on the course Canvas page.
URL:https://ctl.wustl.edu/learningcenter/mentoring-sessions/amandas-psych-stats-session/2021-04-28/
CATEGORIES:Introductory Psychological Statistics
ORGANIZER;CN="Amanda Katz":MAILTO:amanda.katz@wustl.edu
END:VEVENT
END:VCALENDAR