BEGIN:VCALENDAR
VERSION:2.0
PRODID:-//The Learning Center - ECPv6.15.16.1//NONSGML v1.0//EN
CALSCALE:GREGORIAN
METHOD:PUBLISH
X-WR-CALNAME:The Learning Center
X-ORIGINAL-URL:https://ctl.wustl.edu/learningcenter
X-WR-CALDESC:Events for The Learning Center
REFRESH-INTERVAL;VALUE=DURATION:PT1H
X-Robots-Tag:noindex
X-PUBLISHED-TTL:PT1H
BEGIN:VTIMEZONE
TZID:America/Chicago
BEGIN:DAYLIGHT
TZOFFSETFROM:-0600
TZOFFSETTO:-0500
TZNAME:CDT
DTSTART:20240310T080000
END:DAYLIGHT
BEGIN:STANDARD
TZOFFSETFROM:-0500
TZOFFSETTO:-0600
TZNAME:CST
DTSTART:20241103T070000
END:STANDARD
BEGIN:DAYLIGHT
TZOFFSETFROM:-0600
TZOFFSETTO:-0500
TZNAME:CDT
DTSTART:20250309T080000
END:DAYLIGHT
BEGIN:STANDARD
TZOFFSETFROM:-0500
TZOFFSETTO:-0600
TZNAME:CST
DTSTART:20251102T070000
END:STANDARD
BEGIN:DAYLIGHT
TZOFFSETFROM:-0600
TZOFFSETTO:-0500
TZNAME:CDT
DTSTART:20260308T080000
END:DAYLIGHT
BEGIN:STANDARD
TZOFFSETFROM:-0500
TZOFFSETTO:-0600
TZNAME:CST
DTSTART:20261101T070000
END:STANDARD
BEGIN:DAYLIGHT
TZOFFSETFROM:-0600
TZOFFSETTO:-0500
TZNAME:CDT
DTSTART:20270314T080000
END:DAYLIGHT
BEGIN:STANDARD
TZOFFSETFROM:-0500
TZOFFSETTO:-0600
TZNAME:CST
DTSTART:20271107T070000
END:STANDARD
END:VTIMEZONE
BEGIN:VEVENT
DTSTART;TZID=America/Chicago:20260330T200000
DTEND;TZID=America/Chicago:20260330T220000
DTSTAMP:20260425T090359
CREATED:20260327T163739Z
LAST-MODIFIED:20260327T164501Z
UID:14589-1774900800-1774908000@ctl.wustl.edu
SUMMARY:Calc III Exam Help Session
DESCRIPTION:
URL:https://ctl.wustl.edu/learningcenter/mentoring-sessions/calc-iii-exam-review-4/
LOCATION:Seigle 208
CATEGORIES:Calc III (Math 2130),Calculus
END:VEVENT
BEGIN:VEVENT
DTSTART;TZID=America/Chicago:20260302T180000
DTEND;TZID=America/Chicago:20260302T200000
DTSTAMP:20260425T090359
CREATED:20260302T180636Z
LAST-MODIFIED:20260302T180636Z
UID:14578-1772474400-1772481600@ctl.wustl.edu
SUMMARY:Calc 3 Exam Help Session
DESCRIPTION:
URL:https://ctl.wustl.edu/learningcenter/mentoring-sessions/calc-3-exam-help-session/
LOCATION:January Hall 110
CATEGORIES:Calc III (Math 2130),Calculus
END:VEVENT
BEGIN:VEVENT
DTSTART;TZID=America/Chicago:20260208T170000
DTEND;TZID=America/Chicago:20260208T190000
DTSTAMP:20260425T090359
CREATED:20260126T180840Z
LAST-MODIFIED:20260126T180840Z
UID:14207-1770570000-1770577200@ctl.wustl.edu
SUMMARY:Calc III RPM Hours- Amari
DESCRIPTION:
URL:https://ctl.wustl.edu/learningcenter/mentoring-sessions/calc-iii-rpm-hours-amari-2/2026-02-08/
LOCATION:Lien House Seminar Room B
CATEGORIES:Calc III (Math 2130),Calculus
END:VEVENT
BEGIN:VEVENT
DTSTART;TZID=America/Chicago:20260201T170000
DTEND;TZID=America/Chicago:20260201T190000
DTSTAMP:20260425T090359
CREATED:20260126T180840Z
LAST-MODIFIED:20260126T180840Z
UID:14205-1769965200-1769972400@ctl.wustl.edu
SUMMARY:Calc III RPM Hours- Amari
DESCRIPTION:
URL:https://ctl.wustl.edu/learningcenter/mentoring-sessions/calc-iii-rpm-hours-amari-2/2026-02-01/
LOCATION:Lien House Seminar Room B
CATEGORIES:Calc III (Math 2130),Calculus
END:VEVENT
BEGIN:VEVENT
DTSTART;TZID=America/Chicago:20260209T170000
DTEND;TZID=America/Chicago:20260209T190000
DTSTAMP:20260425T090359
CREATED:20260126T180840Z
LAST-MODIFIED:20260126T180840Z
UID:14208-1770656400-1770663600@ctl.wustl.edu
SUMMARY:Calc III RPM Hours- Amari
DESCRIPTION:
URL:https://ctl.wustl.edu/learningcenter/mentoring-sessions/calc-iii-rpm-hours-amari-2/2026-02-09/
LOCATION:Lien House Seminar Room B
CATEGORIES:Calc III (Math 2130),Calculus
END:VEVENT
BEGIN:VEVENT
DTSTART;TZID=America/Chicago:20260222T170000
DTEND;TZID=America/Chicago:20260222T190000
DTSTAMP:20260425T090359
CREATED:20260126T180840Z
LAST-MODIFIED:20260126T180840Z
UID:14211-1771779600-1771786800@ctl.wustl.edu
SUMMARY:Calc III RPM Hours- Amari
DESCRIPTION:
URL:https://ctl.wustl.edu/learningcenter/mentoring-sessions/calc-iii-rpm-hours-amari-2/2026-02-22/
LOCATION:Lien House Seminar Room B
CATEGORIES:Calc III (Math 2130),Calculus
END:VEVENT
BEGIN:VEVENT
DTSTART;TZID=America/Chicago:20260223T170000
DTEND;TZID=America/Chicago:20260223T190000
DTSTAMP:20260425T090359
CREATED:20260126T180840Z
LAST-MODIFIED:20260126T180840Z
UID:14212-1771866000-1771873200@ctl.wustl.edu
SUMMARY:Calc III RPM Hours- Amari
DESCRIPTION:
URL:https://ctl.wustl.edu/learningcenter/mentoring-sessions/calc-iii-rpm-hours-amari-2/2026-02-23/
LOCATION:Lien House Seminar Room B
CATEGORIES:Calc III (Math 2130),Calculus
END:VEVENT
BEGIN:VEVENT
DTSTART;TZID=America/Chicago:20260301T170000
DTEND;TZID=America/Chicago:20260301T190000
DTSTAMP:20260425T090359
CREATED:20260126T180840Z
LAST-MODIFIED:20260126T180840Z
UID:14213-1772384400-1772391600@ctl.wustl.edu
SUMMARY:Calc III RPM Hours- Amari
DESCRIPTION:
URL:https://ctl.wustl.edu/learningcenter/mentoring-sessions/calc-iii-rpm-hours-amari-2/2026-03-01/
LOCATION:Lien House Seminar Room B
CATEGORIES:Calc III (Math 2130),Calculus
END:VEVENT
BEGIN:VEVENT
DTSTART;TZID=America/Chicago:20260316T170000
DTEND;TZID=America/Chicago:20260316T190000
DTSTAMP:20260425T090359
CREATED:20260126T180840Z
LAST-MODIFIED:20260126T180840Z
UID:14218-1773680400-1773687600@ctl.wustl.edu
SUMMARY:Calc III RPM Hours- Amari
DESCRIPTION:
URL:https://ctl.wustl.edu/learningcenter/mentoring-sessions/calc-iii-rpm-hours-amari-2/2026-03-16/
LOCATION:Lien House Seminar Room B
CATEGORIES:Calc III (Math 2130),Calculus
END:VEVENT
BEGIN:VEVENT
DTSTART;TZID=America/Chicago:20260322T170000
DTEND;TZID=America/Chicago:20260322T190000
DTSTAMP:20260425T090359
CREATED:20260126T180840Z
LAST-MODIFIED:20260126T180840Z
UID:14219-1774198800-1774206000@ctl.wustl.edu
SUMMARY:Calc III RPM Hours- Amari
DESCRIPTION:
URL:https://ctl.wustl.edu/learningcenter/mentoring-sessions/calc-iii-rpm-hours-amari-2/2026-03-22/
LOCATION:Lien House Seminar Room B
CATEGORIES:Calc III (Math 2130),Calculus
END:VEVENT
BEGIN:VEVENT
DTSTART;TZID=America/Chicago:20260323T170000
DTEND;TZID=America/Chicago:20260323T190000
DTSTAMP:20260425T090359
CREATED:20260126T180840Z
LAST-MODIFIED:20260126T180840Z
UID:14220-1774285200-1774292400@ctl.wustl.edu
SUMMARY:Calc III RPM Hours- Amari
DESCRIPTION:
URL:https://ctl.wustl.edu/learningcenter/mentoring-sessions/calc-iii-rpm-hours-amari-2/2026-03-23/
LOCATION:Lien House Seminar Room B
CATEGORIES:Calc III (Math 2130),Calculus
END:VEVENT
BEGIN:VEVENT
DTSTART;TZID=America/Chicago:20260329T170000
DTEND;TZID=America/Chicago:20260329T190000
DTSTAMP:20260425T090359
CREATED:20260126T180840Z
LAST-MODIFIED:20260126T180840Z
UID:14221-1774803600-1774810800@ctl.wustl.edu
SUMMARY:Calc III RPM Hours- Amari
DESCRIPTION:
URL:https://ctl.wustl.edu/learningcenter/mentoring-sessions/calc-iii-rpm-hours-amari-2/2026-03-29/
LOCATION:Lien House Seminar Room B
CATEGORIES:Calc III (Math 2130),Calculus
END:VEVENT
BEGIN:VEVENT
DTSTART;TZID=America/Chicago:20260406T170000
DTEND;TZID=America/Chicago:20260406T190000
DTSTAMP:20260425T090359
CREATED:20260126T180840Z
LAST-MODIFIED:20260126T180840Z
UID:14224-1775494800-1775502000@ctl.wustl.edu
SUMMARY:Calc III RPM Hours- Amari
DESCRIPTION:
URL:https://ctl.wustl.edu/learningcenter/mentoring-sessions/calc-iii-rpm-hours-amari-2/2026-04-06/
LOCATION:Lien House Seminar Room B
CATEGORIES:Calc III (Math 2130),Calculus
END:VEVENT
BEGIN:VEVENT
DTSTART;TZID=America/Chicago:20260308T170000
DTEND;TZID=America/Chicago:20260308T190000
DTSTAMP:20260425T090359
CREATED:20260126T180840Z
LAST-MODIFIED:20260308T053131Z
UID:14215-1772989200-1772996400@ctl.wustl.edu
SUMMARY:Calc III RPM Hours- Amari-CANCELED
DESCRIPTION:
URL:https://ctl.wustl.edu/learningcenter/mentoring-sessions/calc-iii-rpm-hours-amari-2-2026-03-08/
LOCATION:Lien House Seminar Room B
CATEGORIES:Calc III (Math 2130),Calculus
END:VEVENT
BEGIN:VEVENT
DTSTART;TZID=America/Chicago:20260405T170000
DTEND;TZID=America/Chicago:20260405T190000
DTSTAMP:20260425T090359
CREATED:20260126T180840Z
LAST-MODIFIED:20260126T180840Z
UID:14223-1775408400-1775415600@ctl.wustl.edu
SUMMARY:Calc III RPM Hours- Amari
DESCRIPTION:
URL:https://ctl.wustl.edu/learningcenter/mentoring-sessions/calc-iii-rpm-hours-amari-2/2026-04-05/
LOCATION:Lien House Seminar Room B
CATEGORIES:Calc III (Math 2130),Calculus
END:VEVENT
BEGIN:VEVENT
DTSTART;TZID=America/Chicago:20260216T170000
DTEND;TZID=America/Chicago:20260216T190000
DTSTAMP:20260425T090359
CREATED:20260126T180840Z
LAST-MODIFIED:20260215T204625Z
UID:14210-1771261200-1771268400@ctl.wustl.edu
SUMMARY:Calc III RPM Hours- Amari-CANCELED
DESCRIPTION:
URL:https://ctl.wustl.edu/learningcenter/mentoring-sessions/calc-iii-rpm-hours-amari-2-2026-02-16/
LOCATION:Lien House Seminar Room B
CATEGORIES:Calc III (Math 2130),Calculus
END:VEVENT
BEGIN:VEVENT
DTSTART;TZID=America/Chicago:20260215T170000
DTEND;TZID=America/Chicago:20260215T190000
DTSTAMP:20260425T090359
CREATED:20260126T180840Z
LAST-MODIFIED:20260215T204544Z
UID:14209-1771174800-1771182000@ctl.wustl.edu
SUMMARY:Calc III RPM Hours- Amari-CANCELED
DESCRIPTION:
URL:https://ctl.wustl.edu/learningcenter/mentoring-sessions/calc-iii-rpm-hours-amari-2-2026-02-15/
LOCATION:Lien House Seminar Room B
CATEGORIES:Calc III (Math 2130),Calculus
END:VEVENT
BEGIN:VEVENT
DTSTART;TZID=America/Chicago:20260420T170000
DTEND;TZID=America/Chicago:20260420T190000
DTSTAMP:20260425T090359
CREATED:20260126T180840Z
LAST-MODIFIED:20260126T180840Z
UID:14228-1776704400-1776711600@ctl.wustl.edu
SUMMARY:Calc III RPM Hours- Amari
DESCRIPTION:
URL:https://ctl.wustl.edu/learningcenter/mentoring-sessions/calc-iii-rpm-hours-amari-2/2026-04-20/
LOCATION:Lien House Seminar Room B
CATEGORIES:Calc III (Math 2130),Calculus
END:VEVENT
BEGIN:VEVENT
DTSTART;TZID=America/Chicago:20260419T170000
DTEND;TZID=America/Chicago:20260419T190000
DTSTAMP:20260425T090359
CREATED:20260126T180840Z
LAST-MODIFIED:20260126T180840Z
UID:14227-1776618000-1776625200@ctl.wustl.edu
SUMMARY:Calc III RPM Hours- Amari
DESCRIPTION:
URL:https://ctl.wustl.edu/learningcenter/mentoring-sessions/calc-iii-rpm-hours-amari-2/2026-04-19/
LOCATION:Lien House Seminar Room B
CATEGORIES:Calc III (Math 2130),Calculus
END:VEVENT
BEGIN:VEVENT
DTSTART;TZID=America/Chicago:20260413T170000
DTEND;TZID=America/Chicago:20260413T190000
DTSTAMP:20260425T090359
CREATED:20260126T180840Z
LAST-MODIFIED:20260126T180840Z
UID:14226-1776099600-1776106800@ctl.wustl.edu
SUMMARY:Calc III RPM Hours- Amari
DESCRIPTION:
URL:https://ctl.wustl.edu/learningcenter/mentoring-sessions/calc-iii-rpm-hours-amari-2/2026-04-13/
LOCATION:Lien House Seminar Room B
CATEGORIES:Calc III (Math 2130),Calculus
END:VEVENT
BEGIN:VEVENT
DTSTART;TZID=America/Chicago:20260412T170000
DTEND;TZID=America/Chicago:20260412T190000
DTSTAMP:20260425T090359
CREATED:20260126T180840Z
LAST-MODIFIED:20260126T180840Z
UID:14225-1776013200-1776020400@ctl.wustl.edu
SUMMARY:Calc III RPM Hours- Amari
DESCRIPTION:
URL:https://ctl.wustl.edu/learningcenter/mentoring-sessions/calc-iii-rpm-hours-amari-2/2026-04-12/
LOCATION:Lien House Seminar Room B
CATEGORIES:Calc III (Math 2130),Calculus
END:VEVENT
BEGIN:VEVENT
DTSTART;TZID=America/Chicago:20250909T163000
DTEND;TZID=America/Chicago:20250909T183000
DTSTAMP:20260425T090359
CREATED:20250907T124437Z
LAST-MODIFIED:20251001T203734Z
UID:12692-1757435400-1757442600@ctl.wustl.edu
SUMMARY:Calc III RPM Hours- Amari
DESCRIPTION:
URL:https://ctl.wustl.edu/learningcenter/mentoring-sessions/calc-iii-rpm-hours-amari/2025-09-09/
LOCATION:Park House Small Conference Room
CATEGORIES:Calc III (Math 2130),Calculus
END:VEVENT
BEGIN:VEVENT
DTSTART;TZID=America/Chicago:20250916T163000
DTEND;TZID=America/Chicago:20250916T183000
DTSTAMP:20260425T090359
CREATED:20250907T124437Z
LAST-MODIFIED:20251001T203734Z
UID:12694-1758040200-1758047400@ctl.wustl.edu
SUMMARY:Calc III RPM Hours- Amari
DESCRIPTION:
URL:https://ctl.wustl.edu/learningcenter/mentoring-sessions/calc-iii-rpm-hours-amari/2025-09-16/
LOCATION:Park House Small Conference Room
CATEGORIES:Calc III (Math 2130),Calculus
END:VEVENT
BEGIN:VEVENT
DTSTART;TZID=America/Chicago:20250922T163000
DTEND;TZID=America/Chicago:20250922T183000
DTSTAMP:20260425T090359
CREATED:20250907T124437Z
LAST-MODIFIED:20251001T203734Z
UID:12695-1758558600-1758565800@ctl.wustl.edu
SUMMARY:Calc III RPM Hours- Amari
DESCRIPTION:
URL:https://ctl.wustl.edu/learningcenter/mentoring-sessions/calc-iii-rpm-hours-amari/2025-09-22/
LOCATION:Park House Small Conference Room
CATEGORIES:Calc III (Math 2130),Calculus
END:VEVENT
BEGIN:VEVENT
DTSTART;TZID=America/Chicago:20250929T163000
DTEND;TZID=America/Chicago:20250929T183000
DTSTAMP:20260425T090359
CREATED:20250907T124437Z
LAST-MODIFIED:20251001T203735Z
UID:12697-1759163400-1759170600@ctl.wustl.edu
SUMMARY:Calc III RPM Hours- Amari
DESCRIPTION:
URL:https://ctl.wustl.edu/learningcenter/mentoring-sessions/calc-iii-rpm-hours-amari/2025-09-29/
LOCATION:Park House Small Conference Room
CATEGORIES:Calc III (Math 2130),Calculus
END:VEVENT
BEGIN:VEVENT
DTSTART;TZID=America/Chicago:20250930T163000
DTEND;TZID=America/Chicago:20250930T183000
DTSTAMP:20260425T090359
CREATED:20250907T124437Z
LAST-MODIFIED:20251001T203735Z
UID:12698-1759249800-1759257000@ctl.wustl.edu
SUMMARY:Calc III RPM Hours- Amari
DESCRIPTION:
URL:https://ctl.wustl.edu/learningcenter/mentoring-sessions/calc-iii-rpm-hours-amari/2025-09-30/
LOCATION:Park House Small Conference Room
CATEGORIES:Calc III (Math 2130),Calculus
END:VEVENT
BEGIN:VEVENT
DTSTART;TZID=America/Chicago:20251013T163000
DTEND;TZID=America/Chicago:20251013T183000
DTSTAMP:20260425T090359
CREATED:20250907T124437Z
LAST-MODIFIED:20251001T203736Z
UID:12701-1760373000-1760380200@ctl.wustl.edu
SUMMARY:Calc III RPM Hours- Amari
DESCRIPTION:
URL:https://ctl.wustl.edu/learningcenter/mentoring-sessions/calc-iii-rpm-hours-amari/2025-10-13/
LOCATION:Park House Small Conference Room
CATEGORIES:Calc III (Math 2130),Calculus
END:VEVENT
BEGIN:VEVENT
DTSTART;TZID=America/Chicago:20251014T163000
DTEND;TZID=America/Chicago:20251014T183000
DTSTAMP:20260425T090359
CREATED:20250907T124437Z
LAST-MODIFIED:20251001T203736Z
UID:12702-1760459400-1760466600@ctl.wustl.edu
SUMMARY:Calc III RPM Hours- Amari
DESCRIPTION:
URL:https://ctl.wustl.edu/learningcenter/mentoring-sessions/calc-iii-rpm-hours-amari/2025-10-14/
LOCATION:Park House Small Conference Room
CATEGORIES:Calc III (Math 2130),Calculus
END:VEVENT
BEGIN:VEVENT
DTSTART;TZID=America/Chicago:20251020T163000
DTEND;TZID=America/Chicago:20251020T183000
DTSTAMP:20260425T090359
CREATED:20250907T124437Z
LAST-MODIFIED:20251001T203737Z
UID:12703-1760977800-1760985000@ctl.wustl.edu
SUMMARY:Calc III RPM Hours- Amari
DESCRIPTION:
URL:https://ctl.wustl.edu/learningcenter/mentoring-sessions/calc-iii-rpm-hours-amari/2025-10-20/
LOCATION:Park House Small Conference Room
CATEGORIES:Calc III (Math 2130),Calculus
END:VEVENT
BEGIN:VEVENT
DTSTART;TZID=America/Chicago:20251021T163000
DTEND;TZID=America/Chicago:20251021T183000
DTSTAMP:20260425T090359
CREATED:20250907T124437Z
LAST-MODIFIED:20251001T203745Z
UID:12704-1761064200-1761071400@ctl.wustl.edu
SUMMARY:Calc III RPM Hours- Amari
DESCRIPTION:
URL:https://ctl.wustl.edu/learningcenter/mentoring-sessions/calc-iii-rpm-hours-amari/2025-10-21/
LOCATION:Park House Small Conference Room
CATEGORIES:Calc III (Math 2130),Calculus
END:VEVENT
END:VCALENDAR