BEGIN:VCALENDAR
VERSION:2.0
PRODID:-//The Learning Center - ECPv6.15.16.1//NONSGML v1.0//EN
CALSCALE:GREGORIAN
METHOD:PUBLISH
X-WR-CALNAME:The Learning Center
X-ORIGINAL-URL:https://ctl.wustl.edu/learningcenter
X-WR-CALDESC:Events for The Learning Center
REFRESH-INTERVAL;VALUE=DURATION:PT1H
X-Robots-Tag:noindex
X-PUBLISHED-TTL:PT1H
BEGIN:VTIMEZONE
TZID:America/Chicago
BEGIN:DAYLIGHT
TZOFFSETFROM:-0600
TZOFFSETTO:-0500
TZNAME:CDT
DTSTART:20230312T080000
END:DAYLIGHT
BEGIN:STANDARD
TZOFFSETFROM:-0500
TZOFFSETTO:-0600
TZNAME:CST
DTSTART:20231105T070000
END:STANDARD
BEGIN:DAYLIGHT
TZOFFSETFROM:-0600
TZOFFSETTO:-0500
TZNAME:CDT
DTSTART:20240310T080000
END:DAYLIGHT
BEGIN:STANDARD
TZOFFSETFROM:-0500
TZOFFSETTO:-0600
TZNAME:CST
DTSTART:20241103T070000
END:STANDARD
BEGIN:DAYLIGHT
TZOFFSETFROM:-0600
TZOFFSETTO:-0500
TZNAME:CDT
DTSTART:20250309T080000
END:DAYLIGHT
BEGIN:STANDARD
TZOFFSETFROM:-0500
TZOFFSETTO:-0600
TZNAME:CST
DTSTART:20251102T070000
END:STANDARD
END:VTIMEZONE
BEGIN:VEVENT
DTSTART;TZID=America/Chicago:20241010T160000
DTEND;TZID=America/Chicago:20241010T180000
DTSTAMP:20260422T200054
CREATED:20240909T191350Z
LAST-MODIFIED:20240909T191350Z
UID:10175-1728576000-1728583200@ctl.wustl.edu
SUMMARY:CSE 131 Drop-In - Christopher
DESCRIPTION:
URL:https://ctl.wustl.edu/learningcenter/mentoring-sessions/cse-131-drop-in-christopher/2024-10-10/
LOCATION:Gregg House – Seminar Room
CATEGORIES:Computer Science,CSE 1301
END:VEVENT
BEGIN:VEVENT
DTSTART;TZID=America/Chicago:20241003T160000
DTEND;TZID=America/Chicago:20241003T180000
DTSTAMP:20260422T200054
CREATED:20240909T191350Z
LAST-MODIFIED:20240909T191350Z
UID:10174-1727971200-1727978400@ctl.wustl.edu
SUMMARY:CSE 131 Drop-In - Christopher
DESCRIPTION:
URL:https://ctl.wustl.edu/learningcenter/mentoring-sessions/cse-131-drop-in-christopher/2024-10-03/
LOCATION:Gregg House – Seminar Room
CATEGORIES:Computer Science,CSE 1301
END:VEVENT
BEGIN:VEVENT
DTSTART;TZID=America/Chicago:20240926T160000
DTEND;TZID=America/Chicago:20240926T180000
DTSTAMP:20260422T200054
CREATED:20240909T191350Z
LAST-MODIFIED:20240909T191350Z
UID:10173-1727366400-1727373600@ctl.wustl.edu
SUMMARY:CSE 131 Drop-In - Christopher
DESCRIPTION:
URL:https://ctl.wustl.edu/learningcenter/mentoring-sessions/cse-131-drop-in-christopher/2024-09-26/
LOCATION:Gregg House – Seminar Room
CATEGORIES:Computer Science,CSE 1301
END:VEVENT
BEGIN:VEVENT
DTSTART;TZID=America/Chicago:20240919T160000
DTEND;TZID=America/Chicago:20240919T180000
DTSTAMP:20260422T200054
CREATED:20240909T191350Z
LAST-MODIFIED:20240909T191350Z
UID:10172-1726761600-1726768800@ctl.wustl.edu
SUMMARY:CSE 131 Drop-In - Christopher
DESCRIPTION:
URL:https://ctl.wustl.edu/learningcenter/mentoring-sessions/cse-131-drop-in-christopher/2024-09-19/
LOCATION:Gregg House – Seminar Room
CATEGORIES:Computer Science,CSE 1301
END:VEVENT
END:VCALENDAR