BEGIN:VCALENDAR
VERSION:2.0
PRODID:-//The Learning Center - ECPv6.15.16.1//NONSGML v1.0//EN
CALSCALE:GREGORIAN
METHOD:PUBLISH
X-WR-CALNAME:The Learning Center
X-ORIGINAL-URL:https://ctl.wustl.edu/learningcenter
X-WR-CALDESC:Events for The Learning Center
REFRESH-INTERVAL;VALUE=DURATION:PT1H
X-Robots-Tag:noindex
X-PUBLISHED-TTL:PT1H
BEGIN:VTIMEZONE
TZID:America/Chicago
BEGIN:DAYLIGHT
TZOFFSETFROM:-0600
TZOFFSETTO:-0500
TZNAME:CDT
DTSTART:20230312T080000
END:DAYLIGHT
BEGIN:STANDARD
TZOFFSETFROM:-0500
TZOFFSETTO:-0600
TZNAME:CST
DTSTART:20231105T070000
END:STANDARD
BEGIN:DAYLIGHT
TZOFFSETFROM:-0600
TZOFFSETTO:-0500
TZNAME:CDT
DTSTART:20240310T080000
END:DAYLIGHT
BEGIN:STANDARD
TZOFFSETFROM:-0500
TZOFFSETTO:-0600
TZNAME:CST
DTSTART:20241103T070000
END:STANDARD
BEGIN:DAYLIGHT
TZOFFSETFROM:-0600
TZOFFSETTO:-0500
TZNAME:CDT
DTSTART:20250309T080000
END:DAYLIGHT
BEGIN:STANDARD
TZOFFSETFROM:-0500
TZOFFSETTO:-0600
TZNAME:CST
DTSTART:20251102T070000
END:STANDARD
BEGIN:DAYLIGHT
TZOFFSETFROM:-0600
TZOFFSETTO:-0500
TZNAME:CDT
DTSTART:20260308T080000
END:DAYLIGHT
BEGIN:STANDARD
TZOFFSETFROM:-0500
TZOFFSETTO:-0600
TZNAME:CST
DTSTART:20261101T070000
END:STANDARD
END:VTIMEZONE
BEGIN:VEVENT
DTSTART;TZID=America/Chicago:20250127T180000
DTEND;TZID=America/Chicago:20250127T200000
DTSTAMP:20260422T084127
CREATED:20250124T220938Z
LAST-MODIFIED:20250204T224330Z
UID:11707-1738000800-1738008000@ctl.wustl.edu
SUMMARY:Bio 2960 Drop-In - Dennis
DESCRIPTION:
URL:https://ctl.wustl.edu/learningcenter/mentoring-sessions/bio-2960-drop-in-dennis/2025-01-27/
LOCATION:Mallinckrodt 131
CATEGORIES:Biology 2960/2970
END:VEVENT
BEGIN:VEVENT
DTSTART;TZID=America/Chicago:20250421T180000
DTEND;TZID=America/Chicago:20250421T200000
DTSTAMP:20260422T084127
CREATED:20250124T220938Z
LAST-MODIFIED:20250204T224335Z
UID:11719-1745258400-1745265600@ctl.wustl.edu
SUMMARY:Bio 2960 Drop-In - Dennis
DESCRIPTION:
URL:https://ctl.wustl.edu/learningcenter/mentoring-sessions/bio-2960-drop-in-dennis/2025-04-21/
LOCATION:Mallinckrodt 131
CATEGORIES:Biology 2960/2970
END:VEVENT
BEGIN:VEVENT
DTSTART;TZID=America/Chicago:20250414T180000
DTEND;TZID=America/Chicago:20250414T200000
DTSTAMP:20260422T084127
CREATED:20250124T220938Z
LAST-MODIFIED:20250204T224334Z
UID:11718-1744653600-1744660800@ctl.wustl.edu
SUMMARY:Bio 2960 Drop-In - Dennis
DESCRIPTION:
URL:https://ctl.wustl.edu/learningcenter/mentoring-sessions/bio-2960-drop-in-dennis/2025-04-14/
LOCATION:Mallinckrodt 131
CATEGORIES:Biology 2960/2970
END:VEVENT
BEGIN:VEVENT
DTSTART;TZID=America/Chicago:20250407T180000
DTEND;TZID=America/Chicago:20250407T200000
DTSTAMP:20260422T084127
CREATED:20250124T220938Z
LAST-MODIFIED:20250204T224332Z
UID:11717-1744048800-1744056000@ctl.wustl.edu
SUMMARY:Bio 2960 Drop-In - Dennis
DESCRIPTION:
URL:https://ctl.wustl.edu/learningcenter/mentoring-sessions/bio-2960-drop-in-dennis/2025-04-07/
LOCATION:Mallinckrodt 131
CATEGORIES:Biology 2960/2970
END:VEVENT
BEGIN:VEVENT
DTSTART;TZID=America/Chicago:20250331T180000
DTEND;TZID=America/Chicago:20250331T200000
DTSTAMP:20260422T084127
CREATED:20250124T220938Z
LAST-MODIFIED:20250204T224332Z
UID:11716-1743444000-1743451200@ctl.wustl.edu
SUMMARY:Bio 2960 Drop-In - Dennis
DESCRIPTION:
URL:https://ctl.wustl.edu/learningcenter/mentoring-sessions/bio-2960-drop-in-dennis/2025-03-31/
LOCATION:Mallinckrodt 131
CATEGORIES:Biology 2960/2970
END:VEVENT
BEGIN:VEVENT
DTSTART;TZID=America/Chicago:20250324T180000
DTEND;TZID=America/Chicago:20250324T200000
DTSTAMP:20260422T084127
CREATED:20250124T220938Z
LAST-MODIFIED:20250204T224332Z
UID:11715-1742839200-1742846400@ctl.wustl.edu
SUMMARY:Bio 2960 Drop-In - Dennis
DESCRIPTION:
URL:https://ctl.wustl.edu/learningcenter/mentoring-sessions/bio-2960-drop-in-dennis/2025-03-24/
LOCATION:Mallinckrodt 131
CATEGORIES:Biology 2960/2970
END:VEVENT
BEGIN:VEVENT
DTSTART;TZID=America/Chicago:20250317T180000
DTEND;TZID=America/Chicago:20250317T200000
DTSTAMP:20260422T084127
CREATED:20250124T220938Z
LAST-MODIFIED:20250204T224332Z
UID:11714-1742234400-1742241600@ctl.wustl.edu
SUMMARY:Bio 2960 Drop-In - Dennis
DESCRIPTION:
URL:https://ctl.wustl.edu/learningcenter/mentoring-sessions/bio-2960-drop-in-dennis/2025-03-17/
LOCATION:Mallinckrodt 131
CATEGORIES:Biology 2960/2970
END:VEVENT
BEGIN:VEVENT
DTSTART;TZID=America/Chicago:20250303T180000
DTEND;TZID=America/Chicago:20250303T200000
DTSTAMP:20260422T084127
CREATED:20250124T220938Z
LAST-MODIFIED:20250204T224331Z
UID:11712-1741024800-1741032000@ctl.wustl.edu
SUMMARY:Bio 2960 Drop-In - Dennis
DESCRIPTION:
URL:https://ctl.wustl.edu/learningcenter/mentoring-sessions/bio-2960-drop-in-dennis/2025-03-03/
LOCATION:Mallinckrodt 131
CATEGORIES:Biology 2960/2970
END:VEVENT
BEGIN:VEVENT
DTSTART;TZID=America/Chicago:20250224T180000
DTEND;TZID=America/Chicago:20250224T200000
DTSTAMP:20260422T084127
CREATED:20250124T220938Z
LAST-MODIFIED:20250204T224331Z
UID:11711-1740420000-1740427200@ctl.wustl.edu
SUMMARY:Bio 2960 Drop-In - Dennis
DESCRIPTION:
URL:https://ctl.wustl.edu/learningcenter/mentoring-sessions/bio-2960-drop-in-dennis/2025-02-24/
LOCATION:Mallinckrodt 131
CATEGORIES:Biology 2960/2970
END:VEVENT
BEGIN:VEVENT
DTSTART;TZID=America/Chicago:20250217T180000
DTEND;TZID=America/Chicago:20250217T200000
DTSTAMP:20260422T084127
CREATED:20250124T220938Z
LAST-MODIFIED:20250204T224331Z
UID:11710-1739815200-1739822400@ctl.wustl.edu
SUMMARY:Bio 2960 Drop-In - Dennis
DESCRIPTION:
URL:https://ctl.wustl.edu/learningcenter/mentoring-sessions/bio-2960-drop-in-dennis/2025-02-17/
LOCATION:Mallinckrodt 131
CATEGORIES:Biology 2960/2970
END:VEVENT
BEGIN:VEVENT
DTSTART;TZID=America/Chicago:20250210T180000
DTEND;TZID=America/Chicago:20250210T200000
DTSTAMP:20260422T084127
CREATED:20250124T220938Z
LAST-MODIFIED:20250204T224330Z
UID:11709-1739210400-1739217600@ctl.wustl.edu
SUMMARY:Bio 2960 Drop-In - Dennis
DESCRIPTION:
URL:https://ctl.wustl.edu/learningcenter/mentoring-sessions/bio-2960-drop-in-dennis/2025-02-10/
LOCATION:Mallinckrodt 131
CATEGORIES:Biology 2960/2970
END:VEVENT
BEGIN:VEVENT
DTSTART;TZID=America/Chicago:20250203T180000
DTEND;TZID=America/Chicago:20250203T200000
DTSTAMP:20260422T084127
CREATED:20250124T220938Z
LAST-MODIFIED:20250204T224330Z
UID:11708-1738605600-1738612800@ctl.wustl.edu
SUMMARY:Bio 2960 Drop-In - Dennis
DESCRIPTION:
URL:https://ctl.wustl.edu/learningcenter/mentoring-sessions/bio-2960-drop-in-dennis/2025-02-03/
LOCATION:Mallinckrodt 131
CATEGORIES:Biology 2960/2970
END:VEVENT
BEGIN:VEVENT
DTSTART;TZID=America/Chicago:20240910T180000
DTEND;TZID=America/Chicago:20240910T200000
DTSTAMP:20260422T084127
CREATED:20240909T192105Z
LAST-MODIFIED:20240909T192105Z
UID:10184-1725991200-1725998400@ctl.wustl.edu
SUMMARY:Bio Drop-In - Dennis
DESCRIPTION:
URL:https://ctl.wustl.edu/learningcenter/mentoring-sessions/bio-drop-in-dennis/2024-09-10/
LOCATION:Eads 102
CATEGORIES:Biology 2960/2970
END:VEVENT
BEGIN:VEVENT
DTSTART;TZID=America/Chicago:20241022T180000
DTEND;TZID=America/Chicago:20241022T200000
DTSTAMP:20260422T084127
CREATED:20240909T192105Z
LAST-MODIFIED:20241017T161232Z
UID:10191-1729620000-1729627200@ctl.wustl.edu
SUMMARY:Bio Drop-In - Dennis CANCELED
DESCRIPTION:
URL:https://ctl.wustl.edu/learningcenter/mentoring-sessions/bio-drop-in-dennis-2024-10-22/
LOCATION:Eads 102
CATEGORIES:Biology 2960/2970
END:VEVENT
BEGIN:VEVENT
DTSTART;TZID=America/Chicago:20241203T180000
DTEND;TZID=America/Chicago:20241203T200000
DTSTAMP:20260422T084127
CREATED:20240909T192105Z
LAST-MODIFIED:20240909T192105Z
UID:10197-1733248800-1733256000@ctl.wustl.edu
SUMMARY:Bio Drop-In - Dennis
DESCRIPTION:
URL:https://ctl.wustl.edu/learningcenter/mentoring-sessions/bio-drop-in-dennis/2024-12-03/
LOCATION:Eads 102
CATEGORIES:Biology 2960/2970
END:VEVENT
BEGIN:VEVENT
DTSTART;TZID=America/Chicago:20241126T180000
DTEND;TZID=America/Chicago:20241126T200000
DTSTAMP:20260422T084127
CREATED:20240909T192105Z
LAST-MODIFIED:20240909T192105Z
UID:10196-1732644000-1732651200@ctl.wustl.edu
SUMMARY:Bio Drop-In - Dennis
DESCRIPTION:
URL:https://ctl.wustl.edu/learningcenter/mentoring-sessions/bio-drop-in-dennis/2024-11-26/
LOCATION:Eads 102
CATEGORIES:Biology 2960/2970
END:VEVENT
BEGIN:VEVENT
DTSTART;TZID=America/Chicago:20241119T180000
DTEND;TZID=America/Chicago:20241119T200000
DTSTAMP:20260422T084127
CREATED:20240909T192105Z
LAST-MODIFIED:20240909T192105Z
UID:10195-1732039200-1732046400@ctl.wustl.edu
SUMMARY:Bio Drop-In - Dennis
DESCRIPTION:
URL:https://ctl.wustl.edu/learningcenter/mentoring-sessions/bio-drop-in-dennis/2024-11-19/
LOCATION:Eads 102
CATEGORIES:Biology 2960/2970
END:VEVENT
BEGIN:VEVENT
DTSTART;TZID=America/Chicago:20241112T180000
DTEND;TZID=America/Chicago:20241112T200000
DTSTAMP:20260422T084127
CREATED:20240909T192105Z
LAST-MODIFIED:20240909T192105Z
UID:10194-1731434400-1731441600@ctl.wustl.edu
SUMMARY:Bio Drop-In - Dennis
DESCRIPTION:
URL:https://ctl.wustl.edu/learningcenter/mentoring-sessions/bio-drop-in-dennis/2024-11-12/
LOCATION:Eads 102
CATEGORIES:Biology 2960/2970
END:VEVENT
BEGIN:VEVENT
DTSTART;TZID=America/Chicago:20241105T180000
DTEND;TZID=America/Chicago:20241105T200000
DTSTAMP:20260422T084127
CREATED:20240909T192105Z
LAST-MODIFIED:20240909T192105Z
UID:10193-1730829600-1730836800@ctl.wustl.edu
SUMMARY:Bio Drop-In - Dennis
DESCRIPTION:
URL:https://ctl.wustl.edu/learningcenter/mentoring-sessions/bio-drop-in-dennis/2024-11-05/
LOCATION:Eads 102
CATEGORIES:Biology 2960/2970
END:VEVENT
BEGIN:VEVENT
DTSTART;TZID=America/Chicago:20241029T180000
DTEND;TZID=America/Chicago:20241029T200000
DTSTAMP:20260422T084127
CREATED:20240909T192105Z
LAST-MODIFIED:20240909T192105Z
UID:10192-1730224800-1730232000@ctl.wustl.edu
SUMMARY:Bio Drop-In - Dennis
DESCRIPTION:
URL:https://ctl.wustl.edu/learningcenter/mentoring-sessions/bio-drop-in-dennis/2024-10-29/
LOCATION:Eads 102
CATEGORIES:Biology 2960/2970
END:VEVENT
BEGIN:VEVENT
DTSTART;TZID=America/Chicago:20241015T180000
DTEND;TZID=America/Chicago:20241015T200000
DTSTAMP:20260422T084127
CREATED:20240909T192105Z
LAST-MODIFIED:20240909T192105Z
UID:10190-1729015200-1729022400@ctl.wustl.edu
SUMMARY:Bio Drop-In - Dennis
DESCRIPTION:
URL:https://ctl.wustl.edu/learningcenter/mentoring-sessions/bio-drop-in-dennis/2024-10-15/
LOCATION:Eads 102
CATEGORIES:Biology 2960/2970
END:VEVENT
BEGIN:VEVENT
DTSTART;TZID=America/Chicago:20241001T180000
DTEND;TZID=America/Chicago:20241001T200000
DTSTAMP:20260422T084127
CREATED:20240909T192105Z
LAST-MODIFIED:20240909T192105Z
UID:10188-1727805600-1727812800@ctl.wustl.edu
SUMMARY:Bio Drop-In - Dennis
DESCRIPTION:
URL:https://ctl.wustl.edu/learningcenter/mentoring-sessions/bio-drop-in-dennis/2024-10-01/
LOCATION:Eads 102
CATEGORIES:Biology 2960/2970
END:VEVENT
BEGIN:VEVENT
DTSTART;TZID=America/Chicago:20240924T180000
DTEND;TZID=America/Chicago:20240924T200000
DTSTAMP:20260422T084127
CREATED:20240909T192105Z
LAST-MODIFIED:20240909T192105Z
UID:10187-1727200800-1727208000@ctl.wustl.edu
SUMMARY:Bio Drop-In - Dennis
DESCRIPTION:
URL:https://ctl.wustl.edu/learningcenter/mentoring-sessions/bio-drop-in-dennis/2024-09-24/
LOCATION:Eads 102
CATEGORIES:Biology 2960/2970
END:VEVENT
BEGIN:VEVENT
DTSTART;TZID=America/Chicago:20240917T180000
DTEND;TZID=America/Chicago:20240917T200000
DTSTAMP:20260422T084127
CREATED:20240909T192105Z
LAST-MODIFIED:20240909T192105Z
UID:10186-1726596000-1726603200@ctl.wustl.edu
SUMMARY:Bio Drop-In - Dennis
DESCRIPTION:
URL:https://ctl.wustl.edu/learningcenter/mentoring-sessions/bio-drop-in-dennis/2024-09-17/
LOCATION:Eads 102
CATEGORIES:Biology 2960/2970
END:VEVENT
END:VCALENDAR