BEGIN:VCALENDAR
VERSION:2.0
PRODID:-//The Learning Center - ECPv6.15.16.1//NONSGML v1.0//EN
CALSCALE:GREGORIAN
METHOD:PUBLISH
X-ORIGINAL-URL:https://ctl.wustl.edu/learningcenter
X-WR-CALDESC:Events for The Learning Center
REFRESH-INTERVAL;VALUE=DURATION:PT1H
X-Robots-Tag:noindex
X-PUBLISHED-TTL:PT1H
BEGIN:VTIMEZONE
TZID:America/Chicago
BEGIN:DAYLIGHT
TZOFFSETFROM:-0600
TZOFFSETTO:-0500
TZNAME:CDT
DTSTART:20230312T080000
END:DAYLIGHT
BEGIN:STANDARD
TZOFFSETFROM:-0500
TZOFFSETTO:-0600
TZNAME:CST
DTSTART:20231105T070000
END:STANDARD
BEGIN:DAYLIGHT
TZOFFSETFROM:-0600
TZOFFSETTO:-0500
TZNAME:CDT
DTSTART:20240310T080000
END:DAYLIGHT
BEGIN:STANDARD
TZOFFSETFROM:-0500
TZOFFSETTO:-0600
TZNAME:CST
DTSTART:20241103T070000
END:STANDARD
BEGIN:DAYLIGHT
TZOFFSETFROM:-0600
TZOFFSETTO:-0500
TZNAME:CDT
DTSTART:20250309T080000
END:DAYLIGHT
BEGIN:STANDARD
TZOFFSETFROM:-0500
TZOFFSETTO:-0600
TZNAME:CST
DTSTART:20251102T070000
END:STANDARD
BEGIN:DAYLIGHT
TZOFFSETFROM:-0600
TZOFFSETTO:-0500
TZNAME:CDT
DTSTART:20260308T080000
END:DAYLIGHT
BEGIN:STANDARD
TZOFFSETFROM:-0500
TZOFFSETTO:-0600
TZNAME:CST
DTSTART:20261101T070000
END:STANDARD
END:VTIMEZONE
BEGIN:VEVENT
DTSTART;TZID=America/Chicago:20251010T180000
DTEND;TZID=America/Chicago:20251010T200000
DTSTAMP:20260425T211653
CREATED:20250915T161451Z
LAST-MODIFIED:20250915T161451Z
UID:13348-1760119200-1760126400@ctl.wustl.edu
SUMMARY:CAPS Math 1012 (Stats) - Heyun via Zoom
DESCRIPTION:https://wustl.zoom.us/j/91857607127?pwd=oW5ZgdNEN8BpF11DeDGnaR6sh18MtQ.1
URL:https://ctl.wustl.edu/learningcenter/mentoring-sessions/caps-math-1012-stats-heyun-via-zoom/2025-10-10/
CATEGORIES:Mathematics,Statistics
END:VEVENT
BEGIN:VEVENT
DTSTART;TZID=America/Chicago:20251202T190000
DTEND;TZID=America/Chicago:20251202T210000
DTSTAMP:20260425T211653
CREATED:20250915T161451Z
LAST-MODIFIED:20251106T181058Z
UID:13645-1764702000-1764709200@ctl.wustl.edu
SUMMARY:CAPS Math 1012 (Stats) - Heyun*
DESCRIPTION:*via Zoom: https://wustl.zoom.us/j/98902015736?pwd=QEDwkRR6G8BrJxbshvmwAD0zNgIY2U.1 \nday change for the rest of semester
URL:https://ctl.wustl.edu/learningcenter/mentoring-sessions/caps-math-1012-stats-heyun-via-zoom-2025-11-21-2025-12-05/
CATEGORIES:Mathematics,Statistics
END:VEVENT
BEGIN:VEVENT
DTSTART;TZID=America/Chicago:20251125T190000
DTEND;TZID=America/Chicago:20251125T210000
DTSTAMP:20260425T211653
CREATED:20250915T161451Z
LAST-MODIFIED:20251106T181014Z
UID:13644-1764097200-1764104400@ctl.wustl.edu
SUMMARY:CAPS Math 1012 (Stats) - Heyun*
DESCRIPTION:*via Zoom: https://wustl.zoom.us/j/98902015736?pwd=QEDwkRR6G8BrJxbshvmwAD0zNgIY2U.1 \nday change for the rest of semester
URL:https://ctl.wustl.edu/learningcenter/mentoring-sessions/caps-math-1012-stats-heyun-via-zoom-2025-11-21-2025-11-28/
CATEGORIES:Mathematics,Statistics
END:VEVENT
BEGIN:VEVENT
DTSTART;TZID=America/Chicago:20251118T190000
DTEND;TZID=America/Chicago:20251118T210000
DTSTAMP:20260425T211653
CREATED:20250915T161451Z
LAST-MODIFIED:20251106T180931Z
UID:13643-1763492400-1763499600@ctl.wustl.edu
SUMMARY:CAPS Math 1012 (Stats) - Heyun*
DESCRIPTION:*via Zoom: https://wustl.zoom.us/j/98902015736?pwd=QEDwkRR6G8BrJxbshvmwAD0zNgIY2U.1 \nday change for the rest of semester
URL:https://ctl.wustl.edu/learningcenter/mentoring-sessions/caps-math-1012-stats-heyun-via-zoom-2025-11-21-2025-11-21/
CATEGORIES:Mathematics,Statistics
END:VEVENT
BEGIN:VEVENT
DTSTART;TZID=America/Chicago:20251118T190000
DTEND;TZID=America/Chicago:20251118T210000
DTSTAMP:20260425T211653
CREATED:20250915T161451Z
LAST-MODIFIED:20251106T180713Z
UID:13354-1763492400-1763499600@ctl.wustl.edu
SUMMARY:CAPS Math 1012 (Stats) - Heyun*
DESCRIPTION:*via Zoom: https://wustl.zoom.us/j/98902015736?pwd=QEDwkRR6G8BrJxbshvmwAD0zNgIY2U.1 \nday change for the rest of semester
URL:https://ctl.wustl.edu/learningcenter/mentoring-sessions/caps-math-1012-stats-heyun-via-zoom-2025-11-21/2025-11-18/
CATEGORIES:Mathematics,Statistics
END:VEVENT
BEGIN:VEVENT
DTSTART;TZID=America/Chicago:20251111T190000
DTEND;TZID=America/Chicago:20251111T210000
DTSTAMP:20260425T211653
CREATED:20250915T161451Z
LAST-MODIFIED:20251106T180558Z
UID:13353-1762887600-1762894800@ctl.wustl.edu
SUMMARY:CAPS Math 1012 (Stats) - Heyun*
DESCRIPTION:*via Zoom: https://wustl.zoom.us/j/98902015736?pwd=QEDwkRR6G8BrJxbshvmwAD0zNgIY2U.1 \nday change for the rest of semester
URL:https://ctl.wustl.edu/learningcenter/mentoring-sessions/caps-math-1012-stats-heyun-via-zoom-2025-11-14/
CATEGORIES:Mathematics,Statistics
END:VEVENT
BEGIN:VEVENT
DTSTART;TZID=America/Chicago:20251107T180000
DTEND;TZID=America/Chicago:20251107T200000
DTSTAMP:20260425T211653
CREATED:20250915T161451Z
LAST-MODIFIED:20250915T161451Z
UID:13352-1762538400-1762545600@ctl.wustl.edu
SUMMARY:CAPS Math 1012 (Stats) - Heyun via Zoom
DESCRIPTION:https://wustl.zoom.us/j/91857607127?pwd=oW5ZgdNEN8BpF11DeDGnaR6sh18MtQ.1
URL:https://ctl.wustl.edu/learningcenter/mentoring-sessions/caps-math-1012-stats-heyun-via-zoom/2025-11-07/
CATEGORIES:Mathematics,Statistics
END:VEVENT
BEGIN:VEVENT
DTSTART;TZID=America/Chicago:20251031T180000
DTEND;TZID=America/Chicago:20251031T200000
DTSTAMP:20260425T211653
CREATED:20250915T161451Z
LAST-MODIFIED:20250915T161451Z
UID:13351-1761933600-1761940800@ctl.wustl.edu
SUMMARY:CAPS Math 1012 (Stats) - Heyun via Zoom
DESCRIPTION:https://wustl.zoom.us/j/91857607127?pwd=oW5ZgdNEN8BpF11DeDGnaR6sh18MtQ.1
URL:https://ctl.wustl.edu/learningcenter/mentoring-sessions/caps-math-1012-stats-heyun-via-zoom/2025-10-31/
CATEGORIES:Mathematics,Statistics
END:VEVENT
BEGIN:VEVENT
DTSTART;TZID=America/Chicago:20251024T180000
DTEND;TZID=America/Chicago:20251024T200000
DTSTAMP:20260425T211653
CREATED:20250915T161451Z
LAST-MODIFIED:20250915T161451Z
UID:13350-1761328800-1761336000@ctl.wustl.edu
SUMMARY:CAPS Math 1012 (Stats) - Heyun via Zoom
DESCRIPTION:https://wustl.zoom.us/j/91857607127?pwd=oW5ZgdNEN8BpF11DeDGnaR6sh18MtQ.1
URL:https://ctl.wustl.edu/learningcenter/mentoring-sessions/caps-math-1012-stats-heyun-via-zoom/2025-10-24/
CATEGORIES:Mathematics,Statistics
END:VEVENT
BEGIN:VEVENT
DTSTART;TZID=America/Chicago:20251017T180000
DTEND;TZID=America/Chicago:20251017T200000
DTSTAMP:20260425T211653
CREATED:20250915T161451Z
LAST-MODIFIED:20250915T161451Z
UID:13349-1760724000-1760731200@ctl.wustl.edu
SUMMARY:CAPS Math 1012 (Stats) - Heyun via Zoom
DESCRIPTION:https://wustl.zoom.us/j/91857607127?pwd=oW5ZgdNEN8BpF11DeDGnaR6sh18MtQ.1
URL:https://ctl.wustl.edu/learningcenter/mentoring-sessions/caps-math-1012-stats-heyun-via-zoom/2025-10-17/
CATEGORIES:Mathematics,Statistics
END:VEVENT
BEGIN:VEVENT
DTSTART;TZID=America/Chicago:20251003T180000
DTEND;TZID=America/Chicago:20251003T200000
DTSTAMP:20260425T211653
CREATED:20250915T161451Z
LAST-MODIFIED:20250915T161451Z
UID:13347-1759514400-1759521600@ctl.wustl.edu
SUMMARY:CAPS Math 1012 (Stats) - Heyun via Zoom
DESCRIPTION:https://wustl.zoom.us/j/91857607127?pwd=oW5ZgdNEN8BpF11DeDGnaR6sh18MtQ.1
URL:https://ctl.wustl.edu/learningcenter/mentoring-sessions/caps-math-1012-stats-heyun-via-zoom/2025-10-03/
CATEGORIES:Mathematics,Statistics
END:VEVENT
BEGIN:VEVENT
DTSTART;TZID=America/Chicago:20250926T180000
DTEND;TZID=America/Chicago:20250926T200000
DTSTAMP:20260425T211653
CREATED:20250915T161451Z
LAST-MODIFIED:20250915T161451Z
UID:13346-1758909600-1758916800@ctl.wustl.edu
SUMMARY:CAPS Math 1012 (Stats) - Heyun via Zoom
DESCRIPTION:https://wustl.zoom.us/j/91857607127?pwd=oW5ZgdNEN8BpF11DeDGnaR6sh18MtQ.1
URL:https://ctl.wustl.edu/learningcenter/mentoring-sessions/caps-math-1012-stats-heyun-via-zoom/2025-09-26/
CATEGORIES:Mathematics,Statistics
END:VEVENT
BEGIN:VEVENT
DTSTART;TZID=America/Chicago:20250919T180000
DTEND;TZID=America/Chicago:20250919T200000
DTSTAMP:20260425T211653
CREATED:20250915T161451Z
LAST-MODIFIED:20250915T161451Z
UID:13345-1758304800-1758312000@ctl.wustl.edu
SUMMARY:CAPS Math 1012 (Stats) - Heyun via Zoom
DESCRIPTION:https://wustl.zoom.us/j/91857607127?pwd=oW5ZgdNEN8BpF11DeDGnaR6sh18MtQ.1
URL:https://ctl.wustl.edu/learningcenter/mentoring-sessions/caps-math-1012-stats-heyun-via-zoom/2025-09-19/
CATEGORIES:Mathematics,Statistics
END:VEVENT
BEGIN:VEVENT
DTSTART;TZID=America/Chicago:20250912T180000
DTEND;TZID=America/Chicago:20250912T200000
DTSTAMP:20260425T211653
CREATED:20250915T161451Z
LAST-MODIFIED:20250915T161451Z
UID:13344-1757700000-1757707200@ctl.wustl.edu
SUMMARY:CAPS Math 1012 (Stats) - Heyun via Zoom
DESCRIPTION:https://wustl.zoom.us/j/91857607127?pwd=oW5ZgdNEN8BpF11DeDGnaR6sh18MtQ.1
URL:https://ctl.wustl.edu/learningcenter/mentoring-sessions/caps-math-1012-stats-heyun-via-zoom/2025-09-12/
CATEGORIES:Mathematics,Statistics
END:VEVENT
BEGIN:VEVENT
DTSTART;TZID=America/Chicago:20241020T133000
DTEND;TZID=America/Chicago:20241020T153000
DTSTAMP:20260425T211653
CREATED:20241014T204246Z
LAST-MODIFIED:20241014T204246Z
UID:10974-1729431000-1729438200@ctl.wustl.edu
SUMMARY:Cog Neuro CAPS - Heyun*
DESCRIPTION:*via zoom \nhttps://wustl.zoom.us/j/92646087392?pwd=tauEcNWrSLcBM98RQTK0ImsCbVELJA.1 \n 
URL:https://ctl.wustl.edu/learningcenter/mentoring-sessions/cog-neuro-caps-heyun/2024-10-20/
END:VEVENT
BEGIN:VEVENT
DTSTART;TZID=America/Chicago:20241124T133000
DTEND;TZID=America/Chicago:20241124T153000
DTSTAMP:20260425T211653
CREATED:20241014T204246Z
LAST-MODIFIED:20241014T204246Z
UID:10980-1732455000-1732462200@ctl.wustl.edu
SUMMARY:Cog Neuro CAPS - Heyun*
DESCRIPTION:*via zoom \nhttps://wustl.zoom.us/j/92646087392?pwd=tauEcNWrSLcBM98RQTK0ImsCbVELJA.1 \n 
URL:https://ctl.wustl.edu/learningcenter/mentoring-sessions/cog-neuro-caps-heyun/2024-11-24/
END:VEVENT
BEGIN:VEVENT
DTSTART;TZID=America/Chicago:20241117T133000
DTEND;TZID=America/Chicago:20241117T153000
DTSTAMP:20260425T211653
CREATED:20241014T204246Z
LAST-MODIFIED:20241014T204246Z
UID:10979-1731850200-1731857400@ctl.wustl.edu
SUMMARY:Cog Neuro CAPS - Heyun*
DESCRIPTION:*via zoom \nhttps://wustl.zoom.us/j/92646087392?pwd=tauEcNWrSLcBM98RQTK0ImsCbVELJA.1 \n 
URL:https://ctl.wustl.edu/learningcenter/mentoring-sessions/cog-neuro-caps-heyun/2024-11-17/
END:VEVENT
BEGIN:VEVENT
DTSTART;TZID=America/Chicago:20241110T133000
DTEND;TZID=America/Chicago:20241110T153000
DTSTAMP:20260425T211653
CREATED:20241014T204246Z
LAST-MODIFIED:20241014T204246Z
UID:10978-1731245400-1731252600@ctl.wustl.edu
SUMMARY:Cog Neuro CAPS - Heyun*
DESCRIPTION:*via zoom \nhttps://wustl.zoom.us/j/92646087392?pwd=tauEcNWrSLcBM98RQTK0ImsCbVELJA.1 \n 
URL:https://ctl.wustl.edu/learningcenter/mentoring-sessions/cog-neuro-caps-heyun/2024-11-10/
END:VEVENT
BEGIN:VEVENT
DTSTART;TZID=America/Chicago:20241103T133000
DTEND;TZID=America/Chicago:20241103T153000
DTSTAMP:20260425T211653
CREATED:20241014T204246Z
LAST-MODIFIED:20241014T204246Z
UID:10977-1730640600-1730647800@ctl.wustl.edu
SUMMARY:Cog Neuro CAPS - Heyun*
DESCRIPTION:*via zoom \nhttps://wustl.zoom.us/j/92646087392?pwd=tauEcNWrSLcBM98RQTK0ImsCbVELJA.1 \n 
URL:https://ctl.wustl.edu/learningcenter/mentoring-sessions/cog-neuro-caps-heyun/2024-11-03/
END:VEVENT
BEGIN:VEVENT
DTSTART;TZID=America/Chicago:20241027T133000
DTEND;TZID=America/Chicago:20241027T153000
DTSTAMP:20260425T211653
CREATED:20241014T204246Z
LAST-MODIFIED:20241014T204246Z
UID:10976-1730035800-1730043000@ctl.wustl.edu
SUMMARY:Cog Neuro CAPS - Heyun*
DESCRIPTION:*via zoom \nhttps://wustl.zoom.us/j/92646087392?pwd=tauEcNWrSLcBM98RQTK0ImsCbVELJA.1 \n 
URL:https://ctl.wustl.edu/learningcenter/mentoring-sessions/cog-neuro-caps-heyun/2024-10-27/
END:VEVENT
END:VCALENDAR