BEGIN:VCALENDAR
VERSION:2.0
PRODID:-//The Learning Center - ECPv6.15.16.1//NONSGML v1.0//EN
CALSCALE:GREGORIAN
METHOD:PUBLISH
X-ORIGINAL-URL:https://ctl.wustl.edu/learningcenter
X-WR-CALDESC:Events for The Learning Center
REFRESH-INTERVAL;VALUE=DURATION:PT1H
X-Robots-Tag:noindex
X-PUBLISHED-TTL:PT1H
BEGIN:VTIMEZONE
TZID:America/Chicago
BEGIN:DAYLIGHT
TZOFFSETFROM:-0600
TZOFFSETTO:-0500
TZNAME:CDT
DTSTART:20220313T080000
END:DAYLIGHT
BEGIN:STANDARD
TZOFFSETFROM:-0500
TZOFFSETTO:-0600
TZNAME:CST
DTSTART:20221106T070000
END:STANDARD
BEGIN:DAYLIGHT
TZOFFSETFROM:-0600
TZOFFSETTO:-0500
TZNAME:CDT
DTSTART:20230312T080000
END:DAYLIGHT
BEGIN:STANDARD
TZOFFSETFROM:-0500
TZOFFSETTO:-0600
TZNAME:CST
DTSTART:20231105T070000
END:STANDARD
BEGIN:DAYLIGHT
TZOFFSETFROM:-0600
TZOFFSETTO:-0500
TZNAME:CDT
DTSTART:20240310T080000
END:DAYLIGHT
BEGIN:STANDARD
TZOFFSETFROM:-0500
TZOFFSETTO:-0600
TZNAME:CST
DTSTART:20241103T070000
END:STANDARD
END:VTIMEZONE
BEGIN:VEVENT
DTSTART;TZID=America/Chicago:20230501T170000
DTEND;TZID=America/Chicago:20230501T190000
DTSTAMP:20260425T085647
CREATED:20230429T222116Z
LAST-MODIFIED:20230429T222116Z
UID:6717-1682960400-1682967600@ctl.wustl.edu
SUMMARY:Calc 2 RPM - Jacob
DESCRIPTION:
URL:https://ctl.wustl.edu/learningcenter/mentoring-sessions/calc-2-rpm-jacob/
LOCATION:Lien House – Seminar Room A
CATEGORIES:Calc II (Math 1520),Calculus,Mathematics
END:VEVENT
BEGIN:VEVENT
DTSTART;TZID=America/Chicago:20230227T170000
DTEND;TZID=America/Chicago:20230227T190000
DTSTAMP:20260425T085647
CREATED:20230126T223637Z
LAST-MODIFIED:20230126T223637Z
UID:5993-1677517200-1677524400@ctl.wustl.edu
SUMMARY:Calc 2 RPM hours - Jacob
DESCRIPTION:
URL:https://ctl.wustl.edu/learningcenter/mentoring-sessions/calc-2-rpm-hours-jacob-2/2023-02-27/
LOCATION:Lien House – Seminar Room A
CATEGORIES:Calc II (Math 1520),Calculus,Mathematics
END:VEVENT
BEGIN:VEVENT
DTSTART;TZID=America/Chicago:20230130T170000
DTEND;TZID=America/Chicago:20230130T190000
DTSTAMP:20260425T085647
CREATED:20230126T223637Z
LAST-MODIFIED:20230126T223637Z
UID:5989-1675098000-1675105200@ctl.wustl.edu
SUMMARY:Calc 2 RPM hours - Jacob
DESCRIPTION:
URL:https://ctl.wustl.edu/learningcenter/mentoring-sessions/calc-2-rpm-hours-jacob-2/2023-01-30/
LOCATION:Lien House – Seminar Room A
CATEGORIES:Calc II (Math 1520),Calculus,Mathematics
END:VEVENT
BEGIN:VEVENT
DTSTART;TZID=America/Chicago:20230213T170000
DTEND;TZID=America/Chicago:20230213T190000
DTSTAMP:20260425T085647
CREATED:20230126T223637Z
LAST-MODIFIED:20230126T223637Z
UID:5991-1676307600-1676314800@ctl.wustl.edu
SUMMARY:Calc 2 RPM hours - Jacob
DESCRIPTION:
URL:https://ctl.wustl.edu/learningcenter/mentoring-sessions/calc-2-rpm-hours-jacob-2/2023-02-13/
LOCATION:Lien House – Seminar Room A
CATEGORIES:Calc II (Math 1520),Calculus,Mathematics
END:VEVENT
BEGIN:VEVENT
DTSTART;TZID=America/Chicago:20230220T170000
DTEND;TZID=America/Chicago:20230220T190000
DTSTAMP:20260425T085647
CREATED:20230126T223637Z
LAST-MODIFIED:20230126T223637Z
UID:5992-1676912400-1676919600@ctl.wustl.edu
SUMMARY:Calc 2 RPM hours - Jacob
DESCRIPTION:
URL:https://ctl.wustl.edu/learningcenter/mentoring-sessions/calc-2-rpm-hours-jacob-2/2023-02-20/
LOCATION:Lien House – Seminar Room A
CATEGORIES:Calc II (Math 1520),Calculus,Mathematics
END:VEVENT
BEGIN:VEVENT
DTSTART;TZID=America/Chicago:20230306T170000
DTEND;TZID=America/Chicago:20230306T190000
DTSTAMP:20260425T085647
CREATED:20230126T223637Z
LAST-MODIFIED:20230126T223637Z
UID:5994-1678122000-1678129200@ctl.wustl.edu
SUMMARY:Calc 2 RPM hours - Jacob
DESCRIPTION:
URL:https://ctl.wustl.edu/learningcenter/mentoring-sessions/calc-2-rpm-hours-jacob-2/2023-03-06/
LOCATION:Lien House – Seminar Room A
CATEGORIES:Calc II (Math 1520),Calculus,Mathematics
END:VEVENT
BEGIN:VEVENT
DTSTART;TZID=America/Chicago:20230320T170000
DTEND;TZID=America/Chicago:20230320T190000
DTSTAMP:20260425T085647
CREATED:20230126T223637Z
LAST-MODIFIED:20230126T223637Z
UID:5996-1679331600-1679338800@ctl.wustl.edu
SUMMARY:Calc 2 RPM hours - Jacob
DESCRIPTION:
URL:https://ctl.wustl.edu/learningcenter/mentoring-sessions/calc-2-rpm-hours-jacob-2/2023-03-20/
LOCATION:Lien House – Seminar Room A
CATEGORIES:Calc II (Math 1520),Calculus,Mathematics
END:VEVENT
BEGIN:VEVENT
DTSTART;TZID=America/Chicago:20230327T170000
DTEND;TZID=America/Chicago:20230327T190000
DTSTAMP:20260425T085647
CREATED:20230126T223637Z
LAST-MODIFIED:20230126T223637Z
UID:5997-1679936400-1679943600@ctl.wustl.edu
SUMMARY:Calc 2 RPM hours - Jacob
DESCRIPTION:
URL:https://ctl.wustl.edu/learningcenter/mentoring-sessions/calc-2-rpm-hours-jacob-2/2023-03-27/
LOCATION:Lien House – Seminar Room A
CATEGORIES:Calc II (Math 1520),Calculus,Mathematics
END:VEVENT
BEGIN:VEVENT
DTSTART;TZID=America/Chicago:20230403T170000
DTEND;TZID=America/Chicago:20230403T190000
DTSTAMP:20260425T085647
CREATED:20230126T223637Z
LAST-MODIFIED:20230126T223637Z
UID:5998-1680541200-1680548400@ctl.wustl.edu
SUMMARY:Calc 2 RPM hours - Jacob
DESCRIPTION:
URL:https://ctl.wustl.edu/learningcenter/mentoring-sessions/calc-2-rpm-hours-jacob-2/2023-04-03/
LOCATION:Lien House – Seminar Room A
CATEGORIES:Calc II (Math 1520),Calculus,Mathematics
END:VEVENT
BEGIN:VEVENT
DTSTART;TZID=America/Chicago:20230410T170000
DTEND;TZID=America/Chicago:20230410T190000
DTSTAMP:20260425T085647
CREATED:20230126T223637Z
LAST-MODIFIED:20230126T223637Z
UID:5999-1681146000-1681153200@ctl.wustl.edu
SUMMARY:Calc 2 RPM hours - Jacob
DESCRIPTION:
URL:https://ctl.wustl.edu/learningcenter/mentoring-sessions/calc-2-rpm-hours-jacob-2/2023-04-10/
LOCATION:Lien House – Seminar Room A
CATEGORIES:Calc II (Math 1520),Calculus,Mathematics
END:VEVENT
BEGIN:VEVENT
DTSTART;TZID=America/Chicago:20230417T170000
DTEND;TZID=America/Chicago:20230417T190000
DTSTAMP:20260425T085647
CREATED:20230126T223637Z
LAST-MODIFIED:20230126T223637Z
UID:6000-1681750800-1681758000@ctl.wustl.edu
SUMMARY:Calc 2 RPM hours - Jacob
DESCRIPTION:
URL:https://ctl.wustl.edu/learningcenter/mentoring-sessions/calc-2-rpm-hours-jacob-2/2023-04-17/
LOCATION:Lien House – Seminar Room A
CATEGORIES:Calc II (Math 1520),Calculus,Mathematics
END:VEVENT
BEGIN:VEVENT
DTSTART;TZID=America/Chicago:20230424T170000
DTEND;TZID=America/Chicago:20230424T190000
DTSTAMP:20260425T085647
CREATED:20230126T223637Z
LAST-MODIFIED:20230126T223637Z
UID:6001-1682355600-1682362800@ctl.wustl.edu
SUMMARY:Calc 2 RPM hours - Jacob
DESCRIPTION:
URL:https://ctl.wustl.edu/learningcenter/mentoring-sessions/calc-2-rpm-hours-jacob-2/2023-04-24/
LOCATION:Lien House – Seminar Room A
CATEGORIES:Calc II (Math 1520),Calculus,Mathematics
END:VEVENT
BEGIN:VEVENT
DTSTART;TZID=America/Chicago:20230402T170000
DTEND;TZID=America/Chicago:20230402T190000
DTSTAMP:20260425T085647
CREATED:20230126T222602Z
LAST-MODIFIED:20230126T222602Z
UID:5944-1680454800-1680462000@ctl.wustl.edu
SUMMARY:Calc 2 RPM hours - Jacob
DESCRIPTION:
URL:https://ctl.wustl.edu/learningcenter/mentoring-sessions/calc-2-rpm-hours-jacob/2023-04-02/
LOCATION:Umrath House Conference Room
CATEGORIES:Calc II (Math 1520),Calculus,Mathematics
END:VEVENT
BEGIN:VEVENT
DTSTART;TZID=America/Chicago:20230129T170000
DTEND;TZID=America/Chicago:20230129T190000
DTSTAMP:20260425T085647
CREATED:20230126T222602Z
LAST-MODIFIED:20230126T222602Z
UID:5935-1675011600-1675018800@ctl.wustl.edu
SUMMARY:Calc 2 RPM hours - Jacob
DESCRIPTION:
URL:https://ctl.wustl.edu/learningcenter/mentoring-sessions/calc-2-rpm-hours-jacob/2023-01-29/
LOCATION:Umrath House Conference Room
CATEGORIES:Calc II (Math 1520),Calculus,Mathematics
END:VEVENT
BEGIN:VEVENT
DTSTART;TZID=America/Chicago:20230205T170000
DTEND;TZID=America/Chicago:20230205T190000
DTSTAMP:20260425T085647
CREATED:20230126T222602Z
LAST-MODIFIED:20230126T222602Z
UID:5936-1675616400-1675623600@ctl.wustl.edu
SUMMARY:Calc 2 RPM hours - Jacob
DESCRIPTION:
URL:https://ctl.wustl.edu/learningcenter/mentoring-sessions/calc-2-rpm-hours-jacob/2023-02-05/
LOCATION:Umrath House Conference Room
CATEGORIES:Calc II (Math 1520),Calculus,Mathematics
END:VEVENT
BEGIN:VEVENT
DTSTART;TZID=America/Chicago:20230212T170000
DTEND;TZID=America/Chicago:20230212T190000
DTSTAMP:20260425T085647
CREATED:20230126T222602Z
LAST-MODIFIED:20230126T222602Z
UID:5937-1676221200-1676228400@ctl.wustl.edu
SUMMARY:Calc 2 RPM hours - Jacob
DESCRIPTION:
URL:https://ctl.wustl.edu/learningcenter/mentoring-sessions/calc-2-rpm-hours-jacob/2023-02-12/
LOCATION:Umrath House Conference Room
CATEGORIES:Calc II (Math 1520),Calculus,Mathematics
END:VEVENT
BEGIN:VEVENT
DTSTART;TZID=America/Chicago:20230219T170000
DTEND;TZID=America/Chicago:20230219T190000
DTSTAMP:20260425T085647
CREATED:20230126T222602Z
LAST-MODIFIED:20230126T222602Z
UID:5938-1676826000-1676833200@ctl.wustl.edu
SUMMARY:Calc 2 RPM hours - Jacob
DESCRIPTION:
URL:https://ctl.wustl.edu/learningcenter/mentoring-sessions/calc-2-rpm-hours-jacob/2023-02-19/
LOCATION:Umrath House Conference Room
CATEGORIES:Calc II (Math 1520),Calculus,Mathematics
END:VEVENT
BEGIN:VEVENT
DTSTART;TZID=America/Chicago:20230226T170000
DTEND;TZID=America/Chicago:20230226T190000
DTSTAMP:20260425T085647
CREATED:20230126T222602Z
LAST-MODIFIED:20230126T222602Z
UID:5939-1677430800-1677438000@ctl.wustl.edu
SUMMARY:Calc 2 RPM hours - Jacob
DESCRIPTION:
URL:https://ctl.wustl.edu/learningcenter/mentoring-sessions/calc-2-rpm-hours-jacob/2023-02-26/
LOCATION:Umrath House Conference Room
CATEGORIES:Calc II (Math 1520),Calculus,Mathematics
END:VEVENT
BEGIN:VEVENT
DTSTART;TZID=America/Chicago:20230319T170000
DTEND;TZID=America/Chicago:20230319T190000
DTSTAMP:20260425T085647
CREATED:20230126T222602Z
LAST-MODIFIED:20230126T222602Z
UID:5942-1679245200-1679252400@ctl.wustl.edu
SUMMARY:Calc 2 RPM hours - Jacob
DESCRIPTION:
URL:https://ctl.wustl.edu/learningcenter/mentoring-sessions/calc-2-rpm-hours-jacob/2023-03-19/
LOCATION:Umrath House Conference Room
CATEGORIES:Calc II (Math 1520),Calculus,Mathematics
END:VEVENT
BEGIN:VEVENT
DTSTART;TZID=America/Chicago:20230326T170000
DTEND;TZID=America/Chicago:20230326T190000
DTSTAMP:20260425T085647
CREATED:20230126T222602Z
LAST-MODIFIED:20230126T222602Z
UID:5943-1679850000-1679857200@ctl.wustl.edu
SUMMARY:Calc 2 RPM hours - Jacob
DESCRIPTION:
URL:https://ctl.wustl.edu/learningcenter/mentoring-sessions/calc-2-rpm-hours-jacob/2023-03-26/
LOCATION:Umrath House Conference Room
CATEGORIES:Calc II (Math 1520),Calculus,Mathematics
END:VEVENT
BEGIN:VEVENT
DTSTART;TZID=America/Chicago:20230409T170000
DTEND;TZID=America/Chicago:20230409T190000
DTSTAMP:20260425T085647
CREATED:20230126T222602Z
LAST-MODIFIED:20230126T222602Z
UID:5945-1681059600-1681066800@ctl.wustl.edu
SUMMARY:Calc 2 RPM hours - Jacob
DESCRIPTION:
URL:https://ctl.wustl.edu/learningcenter/mentoring-sessions/calc-2-rpm-hours-jacob/2023-04-09/
LOCATION:Umrath House Conference Room
CATEGORIES:Calc II (Math 1520),Calculus,Mathematics
END:VEVENT
BEGIN:VEVENT
DTSTART;TZID=America/Chicago:20230416T170000
DTEND;TZID=America/Chicago:20230416T190000
DTSTAMP:20260425T085647
CREATED:20230126T222602Z
LAST-MODIFIED:20230126T222602Z
UID:5946-1681664400-1681671600@ctl.wustl.edu
SUMMARY:Calc 2 RPM hours - Jacob
DESCRIPTION:
URL:https://ctl.wustl.edu/learningcenter/mentoring-sessions/calc-2-rpm-hours-jacob/2023-04-16/
LOCATION:Umrath House Conference Room
CATEGORIES:Calc II (Math 1520),Calculus,Mathematics
END:VEVENT
BEGIN:VEVENT
DTSTART;TZID=America/Chicago:20230423T170000
DTEND;TZID=America/Chicago:20230423T190000
DTSTAMP:20260425T085647
CREATED:20230126T222602Z
LAST-MODIFIED:20230126T222602Z
UID:5947-1682269200-1682276400@ctl.wustl.edu
SUMMARY:Calc 2 RPM hours - Jacob
DESCRIPTION:
URL:https://ctl.wustl.edu/learningcenter/mentoring-sessions/calc-2-rpm-hours-jacob/2023-04-23/
LOCATION:Umrath House Conference Room
CATEGORIES:Calc II (Math 1520),Calculus,Mathematics
END:VEVENT
BEGIN:VEVENT
DTSTART;TZID=America/Chicago:20230213T170000
DTEND;TZID=America/Chicago:20230213T190000
DTSTAMP:20260425T085647
CREATED:20230126T220353Z
LAST-MODIFIED:20230126T220353Z
UID:5884-1676307600-1676314800@ctl.wustl.edu
SUMMARY:Calc 1 RPM hours - Jacob
DESCRIPTION:
URL:https://ctl.wustl.edu/learningcenter/mentoring-sessions/calc-1-rpm-hours-jacob-3/2023-02-13/
LOCATION:Lien House – Seminar Room A
CATEGORIES:Calc I (Math 1510),Calculus,Mathematics
END:VEVENT
BEGIN:VEVENT
DTSTART;TZID=America/Chicago:20230424T170000
DTEND;TZID=America/Chicago:20230424T190000
DTSTAMP:20260425T085647
CREATED:20230126T220353Z
LAST-MODIFIED:20230126T220353Z
UID:5894-1682355600-1682362800@ctl.wustl.edu
SUMMARY:Calc 1 RPM hours - Jacob
DESCRIPTION:
URL:https://ctl.wustl.edu/learningcenter/mentoring-sessions/calc-1-rpm-hours-jacob-3/2023-04-24/
LOCATION:Lien House – Seminar Room A
CATEGORIES:Calc I (Math 1510),Calculus,Mathematics
END:VEVENT
BEGIN:VEVENT
DTSTART;TZID=America/Chicago:20230417T170000
DTEND;TZID=America/Chicago:20230417T190000
DTSTAMP:20260425T085647
CREATED:20230126T220353Z
LAST-MODIFIED:20230126T220353Z
UID:5893-1681750800-1681758000@ctl.wustl.edu
SUMMARY:Calc 1 RPM hours - Jacob
DESCRIPTION:
URL:https://ctl.wustl.edu/learningcenter/mentoring-sessions/calc-1-rpm-hours-jacob-3/2023-04-17/
LOCATION:Lien House – Seminar Room A
CATEGORIES:Calc I (Math 1510),Calculus,Mathematics
END:VEVENT
BEGIN:VEVENT
DTSTART;TZID=America/Chicago:20230410T170000
DTEND;TZID=America/Chicago:20230410T190000
DTSTAMP:20260425T085647
CREATED:20230126T220353Z
LAST-MODIFIED:20230126T220353Z
UID:5892-1681146000-1681153200@ctl.wustl.edu
SUMMARY:Calc 1 RPM hours - Jacob
DESCRIPTION:
URL:https://ctl.wustl.edu/learningcenter/mentoring-sessions/calc-1-rpm-hours-jacob-3/2023-04-10/
LOCATION:Lien House – Seminar Room A
CATEGORIES:Calc I (Math 1510),Calculus,Mathematics
END:VEVENT
BEGIN:VEVENT
DTSTART;TZID=America/Chicago:20230403T170000
DTEND;TZID=America/Chicago:20230403T190000
DTSTAMP:20260425T085647
CREATED:20230126T220353Z
LAST-MODIFIED:20230126T220353Z
UID:5891-1680541200-1680548400@ctl.wustl.edu
SUMMARY:Calc 1 RPM hours - Jacob
DESCRIPTION:
URL:https://ctl.wustl.edu/learningcenter/mentoring-sessions/calc-1-rpm-hours-jacob-3/2023-04-03/
LOCATION:Lien House – Seminar Room A
CATEGORIES:Calc I (Math 1510),Calculus,Mathematics
END:VEVENT
BEGIN:VEVENT
DTSTART;TZID=America/Chicago:20230327T170000
DTEND;TZID=America/Chicago:20230327T190000
DTSTAMP:20260425T085647
CREATED:20230126T220353Z
LAST-MODIFIED:20230126T220353Z
UID:5890-1679936400-1679943600@ctl.wustl.edu
SUMMARY:Calc 1 RPM hours - Jacob
DESCRIPTION:
URL:https://ctl.wustl.edu/learningcenter/mentoring-sessions/calc-1-rpm-hours-jacob-3/2023-03-27/
LOCATION:Lien House – Seminar Room A
CATEGORIES:Calc I (Math 1510),Calculus,Mathematics
END:VEVENT
BEGIN:VEVENT
DTSTART;TZID=America/Chicago:20230320T170000
DTEND;TZID=America/Chicago:20230320T190000
DTSTAMP:20260425T085647
CREATED:20230126T220353Z
LAST-MODIFIED:20230126T220353Z
UID:5889-1679331600-1679338800@ctl.wustl.edu
SUMMARY:Calc 1 RPM hours - Jacob
DESCRIPTION:
URL:https://ctl.wustl.edu/learningcenter/mentoring-sessions/calc-1-rpm-hours-jacob-3/2023-03-20/
LOCATION:Lien House – Seminar Room A
CATEGORIES:Calc I (Math 1510),Calculus,Mathematics
END:VEVENT
END:VCALENDAR