BEGIN:VCALENDAR
VERSION:2.0
PRODID:-//The Learning Center - ECPv6.15.16.1//NONSGML v1.0//EN
CALSCALE:GREGORIAN
METHOD:PUBLISH
X-WR-CALNAME:The Learning Center
X-ORIGINAL-URL:https://ctl.wustl.edu/learningcenter
X-WR-CALDESC:Events for The Learning Center
REFRESH-INTERVAL;VALUE=DURATION:PT1H
X-Robots-Tag:noindex
X-PUBLISHED-TTL:PT1H
BEGIN:VTIMEZONE
TZID:America/Chicago
BEGIN:DAYLIGHT
TZOFFSETFROM:-0600
TZOFFSETTO:-0500
TZNAME:CDT
DTSTART:20210314T080000
END:DAYLIGHT
BEGIN:STANDARD
TZOFFSETFROM:-0500
TZOFFSETTO:-0600
TZNAME:CST
DTSTART:20211107T070000
END:STANDARD
BEGIN:DAYLIGHT
TZOFFSETFROM:-0600
TZOFFSETTO:-0500
TZNAME:CDT
DTSTART:20220313T080000
END:DAYLIGHT
BEGIN:STANDARD
TZOFFSETFROM:-0500
TZOFFSETTO:-0600
TZNAME:CST
DTSTART:20221106T070000
END:STANDARD
BEGIN:DAYLIGHT
TZOFFSETFROM:-0600
TZOFFSETTO:-0500
TZNAME:CDT
DTSTART:20230312T080000
END:DAYLIGHT
BEGIN:STANDARD
TZOFFSETFROM:-0500
TZOFFSETTO:-0600
TZNAME:CST
DTSTART:20231105T070000
END:STANDARD
BEGIN:DAYLIGHT
TZOFFSETFROM:-0600
TZOFFSETTO:-0500
TZNAME:CDT
DTSTART:20240310T080000
END:DAYLIGHT
BEGIN:STANDARD
TZOFFSETFROM:-0500
TZOFFSETTO:-0600
TZNAME:CST
DTSTART:20241103T070000
END:STANDARD
END:VTIMEZONE
BEGIN:VEVENT
DTSTART;TZID=America/Chicago:20230319T170000
DTEND;TZID=America/Chicago:20230319T190000
DTSTAMP:20260424T015549
CREATED:20230126T215146Z
LAST-MODIFIED:20230126T215146Z
UID:5850-1679245200-1679252400@ctl.wustl.edu
SUMMARY:Calc 1 RPM hours - Jacob
DESCRIPTION:
URL:https://ctl.wustl.edu/learningcenter/mentoring-sessions/calc-1-rpm-hours-jacob-2/2023-03-19/
LOCATION:Umrath House Conference Room
CATEGORIES:Calc I (Math 1510),Calculus,Mathematics
END:VEVENT
BEGIN:VEVENT
DTSTART;TZID=America/Chicago:20230326T170000
DTEND;TZID=America/Chicago:20230326T190000
DTSTAMP:20260424T015549
CREATED:20230126T215146Z
LAST-MODIFIED:20230126T215146Z
UID:5851-1679850000-1679857200@ctl.wustl.edu
SUMMARY:Calc 1 RPM hours - Jacob
DESCRIPTION:
URL:https://ctl.wustl.edu/learningcenter/mentoring-sessions/calc-1-rpm-hours-jacob-2/2023-03-26/
LOCATION:Umrath House Conference Room
CATEGORIES:Calc I (Math 1510),Calculus,Mathematics
END:VEVENT
BEGIN:VEVENT
DTSTART;TZID=America/Chicago:20230402T170000
DTEND;TZID=America/Chicago:20230402T190000
DTSTAMP:20260424T015549
CREATED:20230126T215146Z
LAST-MODIFIED:20230126T215146Z
UID:5852-1680454800-1680462000@ctl.wustl.edu
SUMMARY:Calc 1 RPM hours - Jacob
DESCRIPTION:
URL:https://ctl.wustl.edu/learningcenter/mentoring-sessions/calc-1-rpm-hours-jacob-2/2023-04-02/
LOCATION:Umrath House Conference Room
CATEGORIES:Calc I (Math 1510),Calculus,Mathematics
END:VEVENT
BEGIN:VEVENT
DTSTART;TZID=America/Chicago:20230409T170000
DTEND;TZID=America/Chicago:20230409T190000
DTSTAMP:20260424T015549
CREATED:20230126T215146Z
LAST-MODIFIED:20230126T215146Z
UID:5853-1681059600-1681066800@ctl.wustl.edu
SUMMARY:Calc 1 RPM hours - Jacob
DESCRIPTION:
URL:https://ctl.wustl.edu/learningcenter/mentoring-sessions/calc-1-rpm-hours-jacob-2/2023-04-09/
LOCATION:Umrath House Conference Room
CATEGORIES:Calc I (Math 1510),Calculus,Mathematics
END:VEVENT
BEGIN:VEVENT
DTSTART;TZID=America/Chicago:20230416T170000
DTEND;TZID=America/Chicago:20230416T190000
DTSTAMP:20260424T015549
CREATED:20230126T215146Z
LAST-MODIFIED:20230126T215146Z
UID:5854-1681664400-1681671600@ctl.wustl.edu
SUMMARY:Calc 1 RPM hours - Jacob
DESCRIPTION:
URL:https://ctl.wustl.edu/learningcenter/mentoring-sessions/calc-1-rpm-hours-jacob-2/2023-04-16/
LOCATION:Umrath House Conference Room
CATEGORIES:Calc I (Math 1510),Calculus,Mathematics
END:VEVENT
BEGIN:VEVENT
DTSTART;TZID=America/Chicago:20230423T170000
DTEND;TZID=America/Chicago:20230423T190000
DTSTAMP:20260424T015549
CREATED:20230126T215146Z
LAST-MODIFIED:20230126T215146Z
UID:5855-1682269200-1682276400@ctl.wustl.edu
SUMMARY:Calc 1 RPM hours - Jacob
DESCRIPTION:
URL:https://ctl.wustl.edu/learningcenter/mentoring-sessions/calc-1-rpm-hours-jacob-2/2023-04-23/
LOCATION:Umrath House Conference Room
CATEGORIES:Calc I (Math 1510),Calculus,Mathematics
END:VEVENT
BEGIN:VEVENT
DTSTART;TZID=America/Chicago:20230129T170000
DTEND;TZID=America/Chicago:20230129T190000
DTSTAMP:20260424T015549
CREATED:20230126T214455Z
LAST-MODIFIED:20230126T214455Z
UID:5831-1675011600-1675018800@ctl.wustl.edu
SUMMARY:Calc 1 RPM hours - Jacob
DESCRIPTION:
URL:https://ctl.wustl.edu/learningcenter/mentoring-sessions/calc-1-rpm-hours-jacob/
LOCATION:Umrath House Conference Room
CATEGORIES:Calc I (Math 1510),Calculus,Mathematics
END:VEVENT
BEGIN:VEVENT
DTSTART;TZID=America/Chicago:20220913T220000
DTEND;TZID=America/Chicago:20220914T000000
DTSTAMP:20260424T015549
CREATED:20220908T201202Z
LAST-MODIFIED:20220913T150416Z
UID:5014-1663106400-1663113600@ctl.wustl.edu
SUMMARY:Calculus II RPM - Jacob's Mentoring Hours
DESCRIPTION:Umrath House Seminar Room \nDrop-in Academic Mentoring and Residential Peer Mentoring (RPM) hours are open to all students in the course. Sessions are unstructured and informal – you can come and go at any point\, and you are welcome to make use of mentoring hours whether you have a specific question\, want to review concepts\, or are just looking for a regular time and place each week to focus on work for the class.
URL:https://ctl.wustl.edu/learningcenter/mentoring-sessions/calculus-ii-jacobs-mentoring-hours/2022-09-13/
LOCATION:Umrath House Seminar Room
CATEGORIES:Calc II (Math 1520),Calculus,Mathematics
END:VEVENT
BEGIN:VEVENT
DTSTART;TZID=America/Chicago:20220927T220000
DTEND;TZID=America/Chicago:20220928T000000
DTSTAMP:20260424T015549
CREATED:20220908T201202Z
LAST-MODIFIED:20220913T150416Z
UID:5017-1664316000-1664323200@ctl.wustl.edu
SUMMARY:Calculus II RPM - Jacob's Mentoring Hours
DESCRIPTION:Umrath House Seminar Room \nDrop-in Academic Mentoring and Residential Peer Mentoring (RPM) hours are open to all students in the course. Sessions are unstructured and informal – you can come and go at any point\, and you are welcome to make use of mentoring hours whether you have a specific question\, want to review concepts\, or are just looking for a regular time and place each week to focus on work for the class.
URL:https://ctl.wustl.edu/learningcenter/mentoring-sessions/calculus-ii-jacobs-mentoring-hours/2022-09-27/
LOCATION:Umrath House Seminar Room
CATEGORIES:Calc II (Math 1520),Calculus,Mathematics
END:VEVENT
BEGIN:VEVENT
DTSTART;TZID=America/Chicago:20221004T220000
DTEND;TZID=America/Chicago:20221005T000000
DTSTAMP:20260424T015549
CREATED:20220908T201202Z
LAST-MODIFIED:20220913T150417Z
UID:5018-1664920800-1664928000@ctl.wustl.edu
SUMMARY:Calculus II RPM - Jacob's Mentoring Hours
DESCRIPTION:Umrath House Seminar Room \nDrop-in Academic Mentoring and Residential Peer Mentoring (RPM) hours are open to all students in the course. Sessions are unstructured and informal – you can come and go at any point\, and you are welcome to make use of mentoring hours whether you have a specific question\, want to review concepts\, or are just looking for a regular time and place each week to focus on work for the class.
URL:https://ctl.wustl.edu/learningcenter/mentoring-sessions/calculus-ii-jacobs-mentoring-hours/2022-10-04/
LOCATION:Umrath House Seminar Room
CATEGORIES:Calc II (Math 1520),Calculus,Mathematics
END:VEVENT
BEGIN:VEVENT
DTSTART;TZID=America/Chicago:20221025T220000
DTEND;TZID=America/Chicago:20221026T000000
DTSTAMP:20260424T015549
CREATED:20220908T201202Z
LAST-MODIFIED:20220913T150418Z
UID:5021-1666735200-1666742400@ctl.wustl.edu
SUMMARY:Calculus II RPM - Jacob's Mentoring Hours
DESCRIPTION:Umrath House Seminar Room \nDrop-in Academic Mentoring and Residential Peer Mentoring (RPM) hours are open to all students in the course. Sessions are unstructured and informal – you can come and go at any point\, and you are welcome to make use of mentoring hours whether you have a specific question\, want to review concepts\, or are just looking for a regular time and place each week to focus on work for the class.
URL:https://ctl.wustl.edu/learningcenter/mentoring-sessions/calculus-ii-jacobs-mentoring-hours/2022-10-25/
LOCATION:Umrath House Seminar Room
CATEGORIES:Calc II (Math 1520),Calculus,Mathematics
END:VEVENT
BEGIN:VEVENT
DTSTART;TZID=America/Chicago:20221101T220000
DTEND;TZID=America/Chicago:20221102T000000
DTSTAMP:20260424T015549
CREATED:20220908T201202Z
LAST-MODIFIED:20220913T150418Z
UID:5022-1667340000-1667347200@ctl.wustl.edu
SUMMARY:Calculus II RPM - Jacob's Mentoring Hours
DESCRIPTION:Umrath House Seminar Room \nDrop-in Academic Mentoring and Residential Peer Mentoring (RPM) hours are open to all students in the course. Sessions are unstructured and informal – you can come and go at any point\, and you are welcome to make use of mentoring hours whether you have a specific question\, want to review concepts\, or are just looking for a regular time and place each week to focus on work for the class.
URL:https://ctl.wustl.edu/learningcenter/mentoring-sessions/calculus-ii-jacobs-mentoring-hours/2022-11-01/
LOCATION:Umrath House Seminar Room
CATEGORIES:Calc II (Math 1520),Calculus,Mathematics
END:VEVENT
BEGIN:VEVENT
DTSTART;TZID=America/Chicago:20221108T220000
DTEND;TZID=America/Chicago:20221109T000000
DTSTAMP:20260424T015549
CREATED:20220908T201202Z
LAST-MODIFIED:20220913T150419Z
UID:5023-1667944800-1667952000@ctl.wustl.edu
SUMMARY:Calculus II RPM - Jacob's Mentoring Hours
DESCRIPTION:Umrath House Seminar Room \nDrop-in Academic Mentoring and Residential Peer Mentoring (RPM) hours are open to all students in the course. Sessions are unstructured and informal – you can come and go at any point\, and you are welcome to make use of mentoring hours whether you have a specific question\, want to review concepts\, or are just looking for a regular time and place each week to focus on work for the class.
URL:https://ctl.wustl.edu/learningcenter/mentoring-sessions/calculus-ii-jacobs-mentoring-hours/2022-11-08/
LOCATION:Umrath House Seminar Room
CATEGORIES:Calc II (Math 1520),Calculus,Mathematics
END:VEVENT
BEGIN:VEVENT
DTSTART;TZID=America/Chicago:20221115T220000
DTEND;TZID=America/Chicago:20221116T000000
DTSTAMP:20260424T015549
CREATED:20220908T201202Z
LAST-MODIFIED:20220913T150419Z
UID:5024-1668549600-1668556800@ctl.wustl.edu
SUMMARY:Calculus II RPM - Jacob's Mentoring Hours
DESCRIPTION:Umrath House Seminar Room \nDrop-in Academic Mentoring and Residential Peer Mentoring (RPM) hours are open to all students in the course. Sessions are unstructured and informal – you can come and go at any point\, and you are welcome to make use of mentoring hours whether you have a specific question\, want to review concepts\, or are just looking for a regular time and place each week to focus on work for the class.
URL:https://ctl.wustl.edu/learningcenter/mentoring-sessions/calculus-ii-jacobs-mentoring-hours/2022-11-15/
LOCATION:Umrath House Seminar Room
CATEGORIES:Calc II (Math 1520),Calculus,Mathematics
END:VEVENT
BEGIN:VEVENT
DTSTART;TZID=America/Chicago:20221129T220000
DTEND;TZID=America/Chicago:20221130T000000
DTSTAMP:20260424T015549
CREATED:20220908T201202Z
LAST-MODIFIED:20220913T150422Z
UID:5026-1669759200-1669766400@ctl.wustl.edu
SUMMARY:Calculus II RPM - Jacob's Mentoring Hours
DESCRIPTION:Umrath House Seminar Room \nDrop-in Academic Mentoring and Residential Peer Mentoring (RPM) hours are open to all students in the course. Sessions are unstructured and informal – you can come and go at any point\, and you are welcome to make use of mentoring hours whether you have a specific question\, want to review concepts\, or are just looking for a regular time and place each week to focus on work for the class.
URL:https://ctl.wustl.edu/learningcenter/mentoring-sessions/calculus-ii-jacobs-mentoring-hours/2022-11-29/
LOCATION:Umrath House Seminar Room
CATEGORIES:Calc II (Math 1520),Calculus,Mathematics
END:VEVENT
BEGIN:VEVENT
DTSTART;TZID=America/Chicago:20221206T220000
DTEND;TZID=America/Chicago:20221207T000000
DTSTAMP:20260424T015549
CREATED:20220908T201202Z
LAST-MODIFIED:20220913T150423Z
UID:5027-1670364000-1670371200@ctl.wustl.edu
SUMMARY:Calculus II RPM - Jacob's Mentoring Hours
DESCRIPTION:Umrath House Seminar Room \nDrop-in Academic Mentoring and Residential Peer Mentoring (RPM) hours are open to all students in the course. Sessions are unstructured and informal – you can come and go at any point\, and you are welcome to make use of mentoring hours whether you have a specific question\, want to review concepts\, or are just looking for a regular time and place each week to focus on work for the class.
URL:https://ctl.wustl.edu/learningcenter/mentoring-sessions/calculus-ii-jacobs-mentoring-hours/2022-12-06/
LOCATION:Umrath House Seminar Room
CATEGORIES:Calc II (Math 1520),Calculus,Mathematics
END:VEVENT
BEGIN:VEVENT
DTSTART;TZID=America/Chicago:20220926T220000
DTEND;TZID=America/Chicago:20220927T000000
DTSTAMP:20260424T015549
CREATED:20220908T200246Z
LAST-MODIFIED:20220913T150527Z
UID:4977-1664229600-1664236800@ctl.wustl.edu
SUMMARY:Calculus I & II RPM - Jacob's Mentoring Sessions
DESCRIPTION:Eliot House Seminar Room \nDrop-in Academic Mentoring and Residential Peer Mentoring (RPM) hours are open to all students in the course. Sessions are unstructured and informal – you can come and go at any point\, and you are welcome to make use of mentoring hours whether you have a specific question\, want to review concepts\, or are just looking for a regular time and place each week to focus on work for the class.
URL:https://ctl.wustl.edu/learningcenter/mentoring-sessions/calculus-i-ii-jacobs-mentoring-sessions/2022-09-26/
LOCATION:Eliot House Seminar Room
CATEGORIES:Calc I (Math 1510),Calc II (Math 1520),Calculus,Mathematics
END:VEVENT
BEGIN:VEVENT
DTSTART;TZID=America/Chicago:20221003T220000
DTEND;TZID=America/Chicago:20221004T000000
DTSTAMP:20260424T015549
CREATED:20220908T200246Z
LAST-MODIFIED:20220913T150527Z
UID:4978-1664834400-1664841600@ctl.wustl.edu
SUMMARY:Calculus I & II RPM - Jacob's Mentoring Sessions
DESCRIPTION:Eliot House Seminar Room \nDrop-in Academic Mentoring and Residential Peer Mentoring (RPM) hours are open to all students in the course. Sessions are unstructured and informal – you can come and go at any point\, and you are welcome to make use of mentoring hours whether you have a specific question\, want to review concepts\, or are just looking for a regular time and place each week to focus on work for the class.
URL:https://ctl.wustl.edu/learningcenter/mentoring-sessions/calculus-i-ii-jacobs-mentoring-sessions/2022-10-03/
LOCATION:Eliot House Seminar Room
CATEGORIES:Calc I (Math 1510),Calc II (Math 1520),Calculus,Mathematics
END:VEVENT
BEGIN:VEVENT
DTSTART;TZID=America/Chicago:20221017T220000
DTEND;TZID=America/Chicago:20221018T000000
DTSTAMP:20260424T015549
CREATED:20220908T200246Z
LAST-MODIFIED:20220913T150528Z
UID:4980-1666044000-1666051200@ctl.wustl.edu
SUMMARY:Calculus I & II RPM - Jacob's Mentoring Sessions
DESCRIPTION:Eliot House Seminar Room \nDrop-in Academic Mentoring and Residential Peer Mentoring (RPM) hours are open to all students in the course. Sessions are unstructured and informal – you can come and go at any point\, and you are welcome to make use of mentoring hours whether you have a specific question\, want to review concepts\, or are just looking for a regular time and place each week to focus on work for the class.
URL:https://ctl.wustl.edu/learningcenter/mentoring-sessions/calculus-i-ii-jacobs-mentoring-sessions/2022-10-17/
LOCATION:Eliot House Seminar Room
CATEGORIES:Calc I (Math 1510),Calc II (Math 1520),Calculus,Mathematics
END:VEVENT
BEGIN:VEVENT
DTSTART;TZID=America/Chicago:20221024T220000
DTEND;TZID=America/Chicago:20221025T000000
DTSTAMP:20260424T015549
CREATED:20220908T200246Z
LAST-MODIFIED:20220913T150529Z
UID:4981-1666648800-1666656000@ctl.wustl.edu
SUMMARY:Calculus I & II RPM - Jacob's Mentoring Sessions
DESCRIPTION:Eliot House Seminar Room \nDrop-in Academic Mentoring and Residential Peer Mentoring (RPM) hours are open to all students in the course. Sessions are unstructured and informal – you can come and go at any point\, and you are welcome to make use of mentoring hours whether you have a specific question\, want to review concepts\, or are just looking for a regular time and place each week to focus on work for the class.
URL:https://ctl.wustl.edu/learningcenter/mentoring-sessions/calculus-i-ii-jacobs-mentoring-sessions/2022-10-24/
LOCATION:Eliot House Seminar Room
CATEGORIES:Calc I (Math 1510),Calc II (Math 1520),Calculus,Mathematics
END:VEVENT
BEGIN:VEVENT
DTSTART;TZID=America/Chicago:20221031T220000
DTEND;TZID=America/Chicago:20221101T000000
DTSTAMP:20260424T015549
CREATED:20220908T200246Z
LAST-MODIFIED:20220913T150529Z
UID:4982-1667253600-1667260800@ctl.wustl.edu
SUMMARY:Calculus I & II RPM - Jacob's Mentoring Sessions
DESCRIPTION:Eliot House Seminar Room \nDrop-in Academic Mentoring and Residential Peer Mentoring (RPM) hours are open to all students in the course. Sessions are unstructured and informal – you can come and go at any point\, and you are welcome to make use of mentoring hours whether you have a specific question\, want to review concepts\, or are just looking for a regular time and place each week to focus on work for the class.
URL:https://ctl.wustl.edu/learningcenter/mentoring-sessions/calculus-i-ii-jacobs-mentoring-sessions/2022-10-31/
LOCATION:Eliot House Seminar Room
CATEGORIES:Calc I (Math 1510),Calc II (Math 1520),Calculus,Mathematics
END:VEVENT
BEGIN:VEVENT
DTSTART;TZID=America/Chicago:20221107T220000
DTEND;TZID=America/Chicago:20221108T000000
DTSTAMP:20260424T015549
CREATED:20220908T200246Z
LAST-MODIFIED:20220913T150529Z
UID:4983-1667858400-1667865600@ctl.wustl.edu
SUMMARY:Calculus I & II RPM - Jacob's Mentoring Sessions
DESCRIPTION:Eliot House Seminar Room \nDrop-in Academic Mentoring and Residential Peer Mentoring (RPM) hours are open to all students in the course. Sessions are unstructured and informal – you can come and go at any point\, and you are welcome to make use of mentoring hours whether you have a specific question\, want to review concepts\, or are just looking for a regular time and place each week to focus on work for the class.
URL:https://ctl.wustl.edu/learningcenter/mentoring-sessions/calculus-i-ii-jacobs-mentoring-sessions/2022-11-07/
LOCATION:Eliot House Seminar Room
CATEGORIES:Calc I (Math 1510),Calc II (Math 1520),Calculus,Mathematics
END:VEVENT
BEGIN:VEVENT
DTSTART;TZID=America/Chicago:20221128T220000
DTEND;TZID=America/Chicago:20221129T000000
DTSTAMP:20260424T015549
CREATED:20220908T200246Z
LAST-MODIFIED:20220913T150533Z
UID:4986-1669672800-1669680000@ctl.wustl.edu
SUMMARY:Calculus I & II RPM - Jacob's Mentoring Sessions
DESCRIPTION:Eliot House Seminar Room \nDrop-in Academic Mentoring and Residential Peer Mentoring (RPM) hours are open to all students in the course. Sessions are unstructured and informal – you can come and go at any point\, and you are welcome to make use of mentoring hours whether you have a specific question\, want to review concepts\, or are just looking for a regular time and place each week to focus on work for the class.
URL:https://ctl.wustl.edu/learningcenter/mentoring-sessions/calculus-i-ii-jacobs-mentoring-sessions/2022-11-28/
LOCATION:Eliot House Seminar Room
CATEGORIES:Calc I (Math 1510),Calc II (Math 1520),Calculus,Mathematics
END:VEVENT
BEGIN:VEVENT
DTSTART;TZID=America/Chicago:20221205T220000
DTEND;TZID=America/Chicago:20221206T000000
DTSTAMP:20260424T015549
CREATED:20220908T200246Z
LAST-MODIFIED:20220913T150533Z
UID:4987-1670277600-1670284800@ctl.wustl.edu
SUMMARY:Calculus I & II RPM - Jacob's Mentoring Sessions
DESCRIPTION:Eliot House Seminar Room \nDrop-in Academic Mentoring and Residential Peer Mentoring (RPM) hours are open to all students in the course. Sessions are unstructured and informal – you can come and go at any point\, and you are welcome to make use of mentoring hours whether you have a specific question\, want to review concepts\, or are just looking for a regular time and place each week to focus on work for the class.
URL:https://ctl.wustl.edu/learningcenter/mentoring-sessions/calculus-i-ii-jacobs-mentoring-sessions/2022-12-05/
LOCATION:Eliot House Seminar Room
CATEGORIES:Calc I (Math 1510),Calc II (Math 1520),Calculus,Mathematics
END:VEVENT
BEGIN:VEVENT
DTSTART;TZID=America/Chicago:20220912T220000
DTEND;TZID=America/Chicago:20220913T000000
DTSTAMP:20260424T015549
CREATED:20220908T200246Z
LAST-MODIFIED:20220913T150527Z
UID:4973-1663020000-1663027200@ctl.wustl.edu
SUMMARY:Calculus I & II RPM - Jacob's Mentoring Sessions
DESCRIPTION:Eliot House Seminar Room \nDrop-in Academic Mentoring and Residential Peer Mentoring (RPM) hours are open to all students in the course. Sessions are unstructured and informal – you can come and go at any point\, and you are welcome to make use of mentoring hours whether you have a specific question\, want to review concepts\, or are just looking for a regular time and place each week to focus on work for the class.
URL:https://ctl.wustl.edu/learningcenter/mentoring-sessions/calculus-i-ii-jacobs-mentoring-sessions/2022-09-12/
LOCATION:Eliot House Seminar Room
CATEGORIES:Calc I (Math 1510),Calc II (Math 1520),Calculus,Mathematics
END:VEVENT
END:VCALENDAR