BEGIN:VCALENDAR
VERSION:2.0
PRODID:-//The Learning Center - ECPv6.15.16.1//NONSGML v1.0//EN
CALSCALE:GREGORIAN
METHOD:PUBLISH
X-ORIGINAL-URL:https://ctl.wustl.edu/learningcenter
X-WR-CALDESC:Events for The Learning Center
REFRESH-INTERVAL;VALUE=DURATION:PT1H
X-Robots-Tag:noindex
X-PUBLISHED-TTL:PT1H
BEGIN:VTIMEZONE
TZID:America/Chicago
BEGIN:DAYLIGHT
TZOFFSETFROM:-0600
TZOFFSETTO:-0500
TZNAME:CDT
DTSTART:20240310T080000
END:DAYLIGHT
BEGIN:STANDARD
TZOFFSETFROM:-0500
TZOFFSETTO:-0600
TZNAME:CST
DTSTART:20241103T070000
END:STANDARD
BEGIN:DAYLIGHT
TZOFFSETFROM:-0600
TZOFFSETTO:-0500
TZNAME:CDT
DTSTART:20250309T080000
END:DAYLIGHT
BEGIN:STANDARD
TZOFFSETFROM:-0500
TZOFFSETTO:-0600
TZNAME:CST
DTSTART:20251102T070000
END:STANDARD
BEGIN:DAYLIGHT
TZOFFSETFROM:-0600
TZOFFSETTO:-0500
TZNAME:CDT
DTSTART:20260308T080000
END:DAYLIGHT
BEGIN:STANDARD
TZOFFSETFROM:-0500
TZOFFSETTO:-0600
TZNAME:CST
DTSTART:20261101T070000
END:STANDARD
END:VTIMEZONE
BEGIN:VEVENT
DTSTART;TZID=America/Chicago:20250929T193000
DTEND;TZID=America/Chicago:20250929T213000
DTSTAMP:20260424T071725
CREATED:20250909T194241Z
LAST-MODIFIED:20250929T180555Z
UID:13081-1759174200-1759181400@ctl.wustl.edu
SUMMARY:Matrix Drop-In - Jonathan CANCELED
DESCRIPTION:
URL:https://ctl.wustl.edu/learningcenter/mentoring-sessions/matrix-drop-in-jonathan-12-2025-09-29/
LOCATION:Mallinckrodt 132
CATEGORIES:Mathematics,Matrix Algebra
END:VEVENT
BEGIN:VEVENT
DTSTART;TZID=America/Chicago:20251124T193000
DTEND;TZID=America/Chicago:20251124T213000
DTSTAMP:20260424T071725
CREATED:20250909T194241Z
LAST-MODIFIED:20250909T203452Z
UID:13089-1764012600-1764019800@ctl.wustl.edu
SUMMARY:Matrix Drop-In - Jonathan CANCELED
DESCRIPTION:
URL:https://ctl.wustl.edu/learningcenter/mentoring-sessions/matrix-drop-in-jonathan-12-2025-11-24/
LOCATION:Mallinckrodt 132
CATEGORIES:Mathematics,Matrix Algebra
END:VEVENT
BEGIN:VEVENT
DTSTART;TZID=America/Chicago:20251201T193000
DTEND;TZID=America/Chicago:20251201T213000
DTSTAMP:20260424T071725
CREATED:20250909T194241Z
LAST-MODIFIED:20250909T194241Z
UID:13090-1764617400-1764624600@ctl.wustl.edu
SUMMARY:Matrix Drop-In - Jonathan
DESCRIPTION:
URL:https://ctl.wustl.edu/learningcenter/mentoring-sessions/matrix-drop-in-jonathan-12/2025-12-01/
LOCATION:Mallinckrodt 132
CATEGORIES:Mathematics,Matrix Algebra
END:VEVENT
BEGIN:VEVENT
DTSTART;TZID=America/Chicago:20251117T193000
DTEND;TZID=America/Chicago:20251117T213000
DTSTAMP:20260424T071725
CREATED:20250909T194241Z
LAST-MODIFIED:20250909T194241Z
UID:13088-1763407800-1763415000@ctl.wustl.edu
SUMMARY:Matrix Drop-In - Jonathan
DESCRIPTION:
URL:https://ctl.wustl.edu/learningcenter/mentoring-sessions/matrix-drop-in-jonathan-12/2025-11-17/
LOCATION:Mallinckrodt 132
CATEGORIES:Mathematics,Matrix Algebra
END:VEVENT
BEGIN:VEVENT
DTSTART;TZID=America/Chicago:20251110T193000
DTEND;TZID=America/Chicago:20251110T213000
DTSTAMP:20260424T071725
CREATED:20250909T194241Z
LAST-MODIFIED:20250909T194241Z
UID:13087-1762803000-1762810200@ctl.wustl.edu
SUMMARY:Matrix Drop-In - Jonathan
DESCRIPTION:
URL:https://ctl.wustl.edu/learningcenter/mentoring-sessions/matrix-drop-in-jonathan-12/2025-11-10/
LOCATION:Mallinckrodt 132
CATEGORIES:Mathematics,Matrix Algebra
END:VEVENT
BEGIN:VEVENT
DTSTART;TZID=America/Chicago:20251103T193000
DTEND;TZID=America/Chicago:20251103T213000
DTSTAMP:20260424T071725
CREATED:20250909T194241Z
LAST-MODIFIED:20250909T194241Z
UID:13086-1762198200-1762205400@ctl.wustl.edu
SUMMARY:Matrix Drop-In - Jonathan
DESCRIPTION:
URL:https://ctl.wustl.edu/learningcenter/mentoring-sessions/matrix-drop-in-jonathan-12/2025-11-03/
LOCATION:Mallinckrodt 132
CATEGORIES:Mathematics,Matrix Algebra
END:VEVENT
BEGIN:VEVENT
DTSTART;TZID=America/Chicago:20251027T193000
DTEND;TZID=America/Chicago:20251027T213000
DTSTAMP:20260424T071725
CREATED:20250909T194241Z
LAST-MODIFIED:20250909T194241Z
UID:13085-1761593400-1761600600@ctl.wustl.edu
SUMMARY:Matrix Drop-In - Jonathan
DESCRIPTION:
URL:https://ctl.wustl.edu/learningcenter/mentoring-sessions/matrix-drop-in-jonathan-12/2025-10-27/
LOCATION:Mallinckrodt 132
CATEGORIES:Mathematics,Matrix Algebra
END:VEVENT
BEGIN:VEVENT
DTSTART;TZID=America/Chicago:20251020T193000
DTEND;TZID=America/Chicago:20251020T213000
DTSTAMP:20260424T071725
CREATED:20250909T194241Z
LAST-MODIFIED:20250909T194241Z
UID:13084-1760988600-1760995800@ctl.wustl.edu
SUMMARY:Matrix Drop-In - Jonathan
DESCRIPTION:
URL:https://ctl.wustl.edu/learningcenter/mentoring-sessions/matrix-drop-in-jonathan-12/2025-10-20/
LOCATION:Mallinckrodt 132
CATEGORIES:Mathematics,Matrix Algebra
END:VEVENT
BEGIN:VEVENT
DTSTART;TZID=America/Chicago:20251013T193000
DTEND;TZID=America/Chicago:20251013T213000
DTSTAMP:20260424T071725
CREATED:20250909T194241Z
LAST-MODIFIED:20250909T194241Z
UID:13083-1760383800-1760391000@ctl.wustl.edu
SUMMARY:Matrix Drop-In - Jonathan
DESCRIPTION:
URL:https://ctl.wustl.edu/learningcenter/mentoring-sessions/matrix-drop-in-jonathan-12/2025-10-13/
LOCATION:Mallinckrodt 132
CATEGORIES:Mathematics,Matrix Algebra
END:VEVENT
BEGIN:VEVENT
DTSTART;TZID=America/Chicago:20250922T193000
DTEND;TZID=America/Chicago:20250922T213000
DTSTAMP:20260424T071725
CREATED:20250909T194241Z
LAST-MODIFIED:20250909T194241Z
UID:13080-1758569400-1758576600@ctl.wustl.edu
SUMMARY:Matrix Drop-In - Jonathan
DESCRIPTION:
URL:https://ctl.wustl.edu/learningcenter/mentoring-sessions/matrix-drop-in-jonathan-12/2025-09-22/
LOCATION:Mallinckrodt 132
CATEGORIES:Mathematics,Matrix Algebra
END:VEVENT
BEGIN:VEVENT
DTSTART;TZID=America/Chicago:20250915T193000
DTEND;TZID=America/Chicago:20250915T213000
DTSTAMP:20260424T071725
CREATED:20250909T194241Z
LAST-MODIFIED:20250909T194241Z
UID:13079-1757964600-1757971800@ctl.wustl.edu
SUMMARY:Matrix Drop-In - Jonathan
DESCRIPTION:
URL:https://ctl.wustl.edu/learningcenter/mentoring-sessions/matrix-drop-in-jonathan-12/2025-09-15/
LOCATION:Mallinckrodt 132
CATEGORIES:Mathematics,Matrix Algebra
END:VEVENT
BEGIN:VEVENT
DTSTART;TZID=America/Chicago:20250908T193000
DTEND;TZID=America/Chicago:20250908T213000
DTSTAMP:20260424T071725
CREATED:20250909T194241Z
LAST-MODIFIED:20250909T194241Z
UID:13078-1757359800-1757367000@ctl.wustl.edu
SUMMARY:Matrix Drop-In - Jonathan
DESCRIPTION:
URL:https://ctl.wustl.edu/learningcenter/mentoring-sessions/matrix-drop-in-jonathan-12/2025-09-08/
LOCATION:Mallinckrodt 132
CATEGORIES:Mathematics,Matrix Algebra
END:VEVENT
BEGIN:VEVENT
DTSTART;TZID=America/Chicago:20250430T180000
DTEND;TZID=America/Chicago:20250430T200000
DTSTAMP:20260424T071725
CREATED:20250421T210846Z
LAST-MODIFIED:20250421T210846Z
UID:12193-1746036000-1746043200@ctl.wustl.edu
SUMMARY:Matrix Drop-In - Jonathan
DESCRIPTION:
URL:https://ctl.wustl.edu/learningcenter/mentoring-sessions/matrix-drop-in-jonathan-11/
LOCATION:Seigle 103
CATEGORIES:Mathematics,Matrix Algebra
END:VEVENT
BEGIN:VEVENT
DTSTART;TZID=America/Chicago:20250428T180000
DTEND;TZID=America/Chicago:20250428T200000
DTSTAMP:20260424T071725
CREATED:20250421T210750Z
LAST-MODIFIED:20250421T210750Z
UID:12192-1745863200-1745870400@ctl.wustl.edu
SUMMARY:Matrix Drop-In - Jonathan
DESCRIPTION:
URL:https://ctl.wustl.edu/learningcenter/mentoring-sessions/matrix-drop-in-jonathan-10/
LOCATION:Seigle 103
CATEGORIES:Mathematics,Matrix Algebra
END:VEVENT
BEGIN:VEVENT
DTSTART;TZID=America/Chicago:20250427T180000
DTEND;TZID=America/Chicago:20250427T200000
DTSTAMP:20260424T071725
CREATED:20250421T210620Z
LAST-MODIFIED:20250421T210620Z
UID:12191-1745776800-1745784000@ctl.wustl.edu
SUMMARY:Matrix Drop-In - Jonathan
DESCRIPTION:
URL:https://ctl.wustl.edu/learningcenter/mentoring-sessions/matrix-drop-in-jonathan-9/
LOCATION:Seigle 103
CATEGORIES:Mathematics,Matrix Algebra
END:VEVENT
BEGIN:VEVENT
DTSTART;TZID=America/Chicago:20250415T193000
DTEND;TZID=America/Chicago:20250415T213000
DTSTAMP:20260424T071725
CREATED:20250402T143735Z
LAST-MODIFIED:20250402T143735Z
UID:12170-1744745400-1744752600@ctl.wustl.edu
SUMMARY:Matrix Exam Review Drop-In - Jonathan
DESCRIPTION:
URL:https://ctl.wustl.edu/learningcenter/mentoring-sessions/matrix-exam-review-drop-in-jonathan-2/
LOCATION:Seigle 104
CATEGORIES:Mathematics,Matrix Algebra
END:VEVENT
BEGIN:VEVENT
DTSTART;TZID=America/Chicago:20250401T190000
DTEND;TZID=America/Chicago:20250401T210000
DTSTAMP:20260424T071725
CREATED:20250331T174330Z
LAST-MODIFIED:20250331T174330Z
UID:12165-1743534000-1743541200@ctl.wustl.edu
SUMMARY:Matrix Drop-In - Jonathan
DESCRIPTION:
URL:https://ctl.wustl.edu/learningcenter/mentoring-sessions/matrix-drop-in-jonathan-8/
LOCATION:Seigle 104
CATEGORIES:Mathematics,Matrix Algebra
END:VEVENT
BEGIN:VEVENT
DTSTART;TZID=America/Chicago:20250320T193000
DTEND;TZID=America/Chicago:20250320T213000
DTSTAMP:20260424T071725
CREATED:20250318T213124Z
LAST-MODIFIED:20250318T213124Z
UID:12149-1742499000-1742506200@ctl.wustl.edu
SUMMARY:Matrix Exam Review Drop-In - Jonathan
DESCRIPTION:
URL:https://ctl.wustl.edu/learningcenter/mentoring-sessions/matrix-exam-review-drop-in-jonathan/
LOCATION:Seigle 111
CATEGORIES:Mathematics,Matrix Algebra
END:VEVENT
BEGIN:VEVENT
DTSTART;TZID=America/Chicago:20250213T193000
DTEND;TZID=America/Chicago:20250213T213000
DTSTAMP:20260424T071725
CREATED:20250205T225205Z
LAST-MODIFIED:20250205T225205Z
UID:12090-1739475000-1739482200@ctl.wustl.edu
SUMMARY:Matrix Exam Review - Jonathan
DESCRIPTION:
URL:https://ctl.wustl.edu/learningcenter/mentoring-sessions/matrix-exam-review-jonathan/
LOCATION:Seigle 111
CATEGORIES:Mathematics,Matrix Algebra
END:VEVENT
BEGIN:VEVENT
DTSTART;TZID=America/Chicago:20250130T183000
DTEND;TZID=America/Chicago:20250130T203000
DTSTAMP:20260424T071725
CREATED:20250124T222259Z
LAST-MODIFIED:20250124T222259Z
UID:11810-1738261800-1738269000@ctl.wustl.edu
SUMMARY:Matrix Drop-In - Jonathan*
DESCRIPTION:*normally scheduled on Wednesdays
URL:https://ctl.wustl.edu/learningcenter/mentoring-sessions/matrix-drop-in-jonathan-7/
LOCATION:Mallindkrodt 131
CATEGORIES:Mathematics,Matrix Algebra
END:VEVENT
BEGIN:VEVENT
DTSTART;TZID=America/Chicago:20250226T183000
DTEND;TZID=America/Chicago:20250226T203000
DTSTAMP:20260424T071725
CREATED:20250124T222147Z
LAST-MODIFIED:20250127T164846Z
UID:11799-1740594600-1740601800@ctl.wustl.edu
SUMMARY:Matrix Drop-In - Jonathan
DESCRIPTION:
URL:https://ctl.wustl.edu/learningcenter/mentoring-sessions/matrix-drop-in-jonathan-6-2025-02-12/2025-02-26/
LOCATION:Mallindkrodt 131
CATEGORIES:Mathematics,Matrix Algebra
END:VEVENT
BEGIN:VEVENT
DTSTART;TZID=America/Chicago:20250212T183000
DTEND;TZID=America/Chicago:20250212T203000
DTSTAMP:20260424T071725
CREATED:20250124T222147Z
LAST-MODIFIED:20250127T164846Z
UID:11797-1739385000-1739392200@ctl.wustl.edu
SUMMARY:Matrix Drop-In - Jonathan
DESCRIPTION:
URL:https://ctl.wustl.edu/learningcenter/mentoring-sessions/matrix-drop-in-jonathan-6-2025-02-12/2025-02-12/
LOCATION:Mallindkrodt 131
CATEGORIES:Mathematics,Matrix Algebra
END:VEVENT
BEGIN:VEVENT
DTSTART;TZID=America/Chicago:20250423T183000
DTEND;TZID=America/Chicago:20250423T203000
DTSTAMP:20260424T071725
CREATED:20250124T222147Z
LAST-MODIFIED:20250127T164847Z
UID:11807-1745433000-1745440200@ctl.wustl.edu
SUMMARY:Matrix Drop-In - Jonathan
DESCRIPTION:
URL:https://ctl.wustl.edu/learningcenter/mentoring-sessions/matrix-drop-in-jonathan-6-2025-02-12/2025-04-23/
LOCATION:Mallindkrodt 131
CATEGORIES:Mathematics,Matrix Algebra
END:VEVENT
BEGIN:VEVENT
DTSTART;TZID=America/Chicago:20250416T183000
DTEND;TZID=America/Chicago:20250416T203000
DTSTAMP:20260424T071725
CREATED:20250124T222147Z
LAST-MODIFIED:20250127T164847Z
UID:11806-1744828200-1744835400@ctl.wustl.edu
SUMMARY:Matrix Drop-In - Jonathan
DESCRIPTION:
URL:https://ctl.wustl.edu/learningcenter/mentoring-sessions/matrix-drop-in-jonathan-6-2025-02-12/2025-04-16/
LOCATION:Mallindkrodt 131
CATEGORIES:Mathematics,Matrix Algebra
END:VEVENT
BEGIN:VEVENT
DTSTART;TZID=America/Chicago:20250409T183000
DTEND;TZID=America/Chicago:20250409T203000
DTSTAMP:20260424T071725
CREATED:20250124T222147Z
LAST-MODIFIED:20250127T164847Z
UID:11805-1744223400-1744230600@ctl.wustl.edu
SUMMARY:Matrix Drop-In - Jonathan
DESCRIPTION:
URL:https://ctl.wustl.edu/learningcenter/mentoring-sessions/matrix-drop-in-jonathan-6-2025-02-12/2025-04-09/
LOCATION:Mallindkrodt 131
CATEGORIES:Mathematics,Matrix Algebra
END:VEVENT
BEGIN:VEVENT
DTSTART;TZID=America/Chicago:20250402T183000
DTEND;TZID=America/Chicago:20250402T203000
DTSTAMP:20260424T071725
CREATED:20250124T222147Z
LAST-MODIFIED:20250127T164847Z
UID:11804-1743618600-1743625800@ctl.wustl.edu
SUMMARY:Matrix Drop-In - Jonathan
DESCRIPTION:
URL:https://ctl.wustl.edu/learningcenter/mentoring-sessions/matrix-drop-in-jonathan-6-2025-02-12/2025-04-02/
LOCATION:Mallindkrodt 131
CATEGORIES:Mathematics,Matrix Algebra
END:VEVENT
BEGIN:VEVENT
DTSTART;TZID=America/Chicago:20250326T183000
DTEND;TZID=America/Chicago:20250326T203000
DTSTAMP:20260424T071725
CREATED:20250124T222147Z
LAST-MODIFIED:20250127T164847Z
UID:11803-1743013800-1743021000@ctl.wustl.edu
SUMMARY:Matrix Drop-In - Jonathan
DESCRIPTION:
URL:https://ctl.wustl.edu/learningcenter/mentoring-sessions/matrix-drop-in-jonathan-6-2025-02-12/2025-03-26/
LOCATION:Mallindkrodt 131
CATEGORIES:Mathematics,Matrix Algebra
END:VEVENT
BEGIN:VEVENT
DTSTART;TZID=America/Chicago:20250319T183000
DTEND;TZID=America/Chicago:20250319T203000
DTSTAMP:20260424T071725
CREATED:20250124T222147Z
LAST-MODIFIED:20250127T164847Z
UID:11802-1742409000-1742416200@ctl.wustl.edu
SUMMARY:Matrix Drop-In - Jonathan
DESCRIPTION:
URL:https://ctl.wustl.edu/learningcenter/mentoring-sessions/matrix-drop-in-jonathan-6-2025-02-12/2025-03-19/
LOCATION:Mallindkrodt 131
CATEGORIES:Mathematics,Matrix Algebra
END:VEVENT
BEGIN:VEVENT
DTSTART;TZID=America/Chicago:20250305T183000
DTEND;TZID=America/Chicago:20250305T203000
DTSTAMP:20260424T071725
CREATED:20250124T222147Z
LAST-MODIFIED:20250127T164846Z
UID:11800-1741199400-1741206600@ctl.wustl.edu
SUMMARY:Matrix Drop-In - Jonathan
DESCRIPTION:
URL:https://ctl.wustl.edu/learningcenter/mentoring-sessions/matrix-drop-in-jonathan-6-2025-02-12/2025-03-05/
LOCATION:Mallindkrodt 131
CATEGORIES:Mathematics,Matrix Algebra
END:VEVENT
BEGIN:VEVENT
DTSTART;TZID=America/Chicago:20250219T183000
DTEND;TZID=America/Chicago:20250219T203000
DTSTAMP:20260424T071725
CREATED:20250124T222147Z
LAST-MODIFIED:20250127T164846Z
UID:11798-1739989800-1739997000@ctl.wustl.edu
SUMMARY:Matrix Drop-In - Jonathan
DESCRIPTION:
URL:https://ctl.wustl.edu/learningcenter/mentoring-sessions/matrix-drop-in-jonathan-6-2025-02-12/2025-02-19/
LOCATION:Mallindkrodt 131
CATEGORIES:Mathematics,Matrix Algebra
END:VEVENT
END:VCALENDAR