BEGIN:VCALENDAR
VERSION:2.0
PRODID:-//The Learning Center - ECPv6.15.16.1//NONSGML v1.0//EN
CALSCALE:GREGORIAN
METHOD:PUBLISH
X-WR-CALNAME:The Learning Center
X-ORIGINAL-URL:https://ctl.wustl.edu/learningcenter
X-WR-CALDESC:Events for The Learning Center
REFRESH-INTERVAL;VALUE=DURATION:PT1H
X-Robots-Tag:noindex
X-PUBLISHED-TTL:PT1H
BEGIN:VTIMEZONE
TZID:America/Chicago
BEGIN:DAYLIGHT
TZOFFSETFROM:-0600
TZOFFSETTO:-0500
TZNAME:CDT
DTSTART:20220313T080000
END:DAYLIGHT
BEGIN:STANDARD
TZOFFSETFROM:-0500
TZOFFSETTO:-0600
TZNAME:CST
DTSTART:20221106T070000
END:STANDARD
BEGIN:DAYLIGHT
TZOFFSETFROM:-0600
TZOFFSETTO:-0500
TZNAME:CDT
DTSTART:20230312T080000
END:DAYLIGHT
BEGIN:STANDARD
TZOFFSETFROM:-0500
TZOFFSETTO:-0600
TZNAME:CST
DTSTART:20231105T070000
END:STANDARD
BEGIN:DAYLIGHT
TZOFFSETFROM:-0600
TZOFFSETTO:-0500
TZNAME:CDT
DTSTART:20240310T080000
END:DAYLIGHT
BEGIN:STANDARD
TZOFFSETFROM:-0500
TZOFFSETTO:-0600
TZNAME:CST
DTSTART:20241103T070000
END:STANDARD
BEGIN:DAYLIGHT
TZOFFSETFROM:-0600
TZOFFSETTO:-0500
TZNAME:CDT
DTSTART:20250309T080000
END:DAYLIGHT
BEGIN:STANDARD
TZOFFSETFROM:-0500
TZOFFSETTO:-0600
TZNAME:CST
DTSTART:20251102T070000
END:STANDARD
END:VTIMEZONE
BEGIN:VEVENT
DTSTART;TZID=America/Chicago:20241105T190000
DTEND;TZID=America/Chicago:20241105T210000
DTSTAMP:20260421T213305
CREATED:20240907T025857Z
LAST-MODIFIED:20240907T025857Z
UID:10099-1730833200-1730840400@ctl.wustl.edu
SUMMARY:Calc III RPM Hours-Jonathan
DESCRIPTION:
URL:https://ctl.wustl.edu/learningcenter/mentoring-sessions/calc-iii-rpm-hours-jonathan/2024-11-05/
LOCATION:Wheeler House – Seminar Room
CATEGORIES:Calc III (Math 2130),Calculus
END:VEVENT
BEGIN:VEVENT
DTSTART;TZID=America/Chicago:20241107T190000
DTEND;TZID=America/Chicago:20241107T210000
DTSTAMP:20260421T213305
CREATED:20240907T025857Z
LAST-MODIFIED:20240907T025857Z
UID:10100-1731006000-1731013200@ctl.wustl.edu
SUMMARY:Calc III RPM Hours-Jonathan
DESCRIPTION:
URL:https://ctl.wustl.edu/learningcenter/mentoring-sessions/calc-iii-rpm-hours-jonathan/2024-11-07/
LOCATION:Wheeler House – Seminar Room
CATEGORIES:Calc III (Math 2130),Calculus
END:VEVENT
BEGIN:VEVENT
DTSTART;TZID=America/Chicago:20241119T190000
DTEND;TZID=America/Chicago:20241119T210000
DTSTAMP:20260421T213305
CREATED:20240907T025857Z
LAST-MODIFIED:20240907T025857Z
UID:10103-1732042800-1732050000@ctl.wustl.edu
SUMMARY:Calc III RPM Hours-Jonathan
DESCRIPTION:
URL:https://ctl.wustl.edu/learningcenter/mentoring-sessions/calc-iii-rpm-hours-jonathan/2024-11-19/
LOCATION:Wheeler House – Seminar Room
CATEGORIES:Calc III (Math 2130),Calculus
END:VEVENT
BEGIN:VEVENT
DTSTART;TZID=America/Chicago:20241121T190000
DTEND;TZID=America/Chicago:20241121T210000
DTSTAMP:20260421T213305
CREATED:20240907T025857Z
LAST-MODIFIED:20240907T025857Z
UID:10104-1732215600-1732222800@ctl.wustl.edu
SUMMARY:Calc III RPM Hours-Jonathan
DESCRIPTION:
URL:https://ctl.wustl.edu/learningcenter/mentoring-sessions/calc-iii-rpm-hours-jonathan/2024-11-21/
LOCATION:Wheeler House – Seminar Room
CATEGORIES:Calc III (Math 2130),Calculus
END:VEVENT
BEGIN:VEVENT
DTSTART;TZID=America/Chicago:20241010T190000
DTEND;TZID=America/Chicago:20241010T210000
DTSTAMP:20260421T213305
CREATED:20240907T025857Z
LAST-MODIFIED:20240930T163808Z
UID:10092-1728586800-1728594000@ctl.wustl.edu
SUMMARY:Calc III RPM Hours-Jonathan-CANCELED
DESCRIPTION:
URL:https://ctl.wustl.edu/learningcenter/mentoring-sessions/calc-iii-rpm-hours-jonathan-2024-10-10/
LOCATION:Wheeler House – Seminar Room
CATEGORIES:Calc III (Math 2130),Calculus
END:VEVENT
BEGIN:VEVENT
DTSTART;TZID=America/Chicago:20241112T190000
DTEND;TZID=America/Chicago:20241112T210000
DTSTAMP:20260421T213305
CREATED:20240907T025857Z
LAST-MODIFIED:20241111T130709Z
UID:10101-1731438000-1731445200@ctl.wustl.edu
SUMMARY:Calc III RPM Hours-Jonathan-CANCELED
DESCRIPTION:
URL:https://ctl.wustl.edu/learningcenter/mentoring-sessions/calc-iii-rpm-hours-jonathan-2024-11-12/
LOCATION:Wheeler House – Seminar Room
CATEGORIES:Calc III (Math 2130),Calculus
END:VEVENT
BEGIN:VEVENT
DTSTART;TZID=America/Chicago:20241114T190000
DTEND;TZID=America/Chicago:20241114T210000
DTSTAMP:20260421T213305
CREATED:20240907T025857Z
LAST-MODIFIED:20241111T130846Z
UID:10102-1731610800-1731618000@ctl.wustl.edu
SUMMARY:Calc III RPM Hours-Jonathan-CANCELED
DESCRIPTION:
URL:https://ctl.wustl.edu/learningcenter/mentoring-sessions/calc-iii-rpm-hours-jonathan-2024-11-14/
LOCATION:Wheeler House – Seminar Room
CATEGORIES:Calc III (Math 2130),Calculus
END:VEVENT
BEGIN:VEVENT
DTSTART;TZID=America/Chicago:20240912T190000
DTEND;TZID=America/Chicago:20240912T210000
DTSTAMP:20260421T213305
CREATED:20240907T025857Z
LAST-MODIFIED:20240907T025857Z
UID:10084-1726167600-1726174800@ctl.wustl.edu
SUMMARY:Calc III RPM Hours-Jonathan
DESCRIPTION:
URL:https://ctl.wustl.edu/learningcenter/mentoring-sessions/calc-iii-rpm-hours-jonathan/2024-09-12/
LOCATION:Wheeler House – Seminar Room
CATEGORIES:Calc III (Math 2130),Calculus
END:VEVENT
BEGIN:VEVENT
DTSTART;TZID=America/Chicago:20240910T190000
DTEND;TZID=America/Chicago:20240910T210000
DTSTAMP:20260421T213305
CREATED:20240907T025857Z
LAST-MODIFIED:20240907T025857Z
UID:10083-1725994800-1726002000@ctl.wustl.edu
SUMMARY:Calc III RPM Hours-Jonathan
DESCRIPTION:
URL:https://ctl.wustl.edu/learningcenter/mentoring-sessions/calc-iii-rpm-hours-jonathan/2024-09-10/
LOCATION:Wheeler House – Seminar Room
CATEGORIES:Calc III (Math 2130),Calculus
END:VEVENT
BEGIN:VEVENT
DTSTART;TZID=America/Chicago:20240220T193000
DTEND;TZID=America/Chicago:20240220T213000
DTSTAMP:20260421T213305
CREATED:20240220T002506Z
LAST-MODIFIED:20240220T002506Z
UID:8996-1708457400-1708464600@ctl.wustl.edu
SUMMARY:Matrix Drop-In hours_Jonathan
DESCRIPTION:
URL:https://ctl.wustl.edu/learningcenter/mentoring-sessions/matrix-drop-in-hours_jonathan-2/
LOCATION:Simon 020
CATEGORIES:Matrix Algebra
END:VEVENT
BEGIN:VEVENT
DTSTART;TZID=America/Chicago:20240214T193000
DTEND;TZID=America/Chicago:20240214T213000
DTSTAMP:20260421T213305
CREATED:20240130T223244Z
LAST-MODIFIED:20240130T223244Z
UID:8743-1707939000-1707946200@ctl.wustl.edu
SUMMARY:Matrix Drop-In hours_Jonathan
DESCRIPTION:
URL:https://ctl.wustl.edu/learningcenter/mentoring-sessions/matrix-drop-in-hours_jonathan/2024-02-14/
LOCATION:Simon 020
CATEGORIES:Mathematics,Matrix Algebra
END:VEVENT
BEGIN:VEVENT
DTSTART;TZID=America/Chicago:20240131T193000
DTEND;TZID=America/Chicago:20240131T213000
DTSTAMP:20260421T213305
CREATED:20240130T223244Z
LAST-MODIFIED:20240130T223244Z
UID:8740-1706729400-1706736600@ctl.wustl.edu
SUMMARY:Matrix Drop-In hours_Jonathan
DESCRIPTION:
URL:https://ctl.wustl.edu/learningcenter/mentoring-sessions/matrix-drop-in-hours_jonathan/2024-01-31/
LOCATION:Simon 020
CATEGORIES:Mathematics,Matrix Algebra
END:VEVENT
BEGIN:VEVENT
DTSTART;TZID=America/Chicago:20240207T193000
DTEND;TZID=America/Chicago:20240207T213000
DTSTAMP:20260421T213305
CREATED:20240130T223244Z
LAST-MODIFIED:20240130T223244Z
UID:8742-1707334200-1707341400@ctl.wustl.edu
SUMMARY:Matrix Drop-In hours_Jonathan
DESCRIPTION:
URL:https://ctl.wustl.edu/learningcenter/mentoring-sessions/matrix-drop-in-hours_jonathan/2024-02-07/
LOCATION:Simon 020
CATEGORIES:Mathematics,Matrix Algebra
END:VEVENT
BEGIN:VEVENT
DTSTART;TZID=America/Chicago:20240228T193000
DTEND;TZID=America/Chicago:20240228T213000
DTSTAMP:20260421T213305
CREATED:20240130T223244Z
LAST-MODIFIED:20240130T223244Z
UID:8745-1709148600-1709155800@ctl.wustl.edu
SUMMARY:Matrix Drop-In hours_Jonathan
DESCRIPTION:
URL:https://ctl.wustl.edu/learningcenter/mentoring-sessions/matrix-drop-in-hours_jonathan/2024-02-28/
LOCATION:Simon 020
CATEGORIES:Mathematics,Matrix Algebra
END:VEVENT
BEGIN:VEVENT
DTSTART;TZID=America/Chicago:20240306T193000
DTEND;TZID=America/Chicago:20240306T213000
DTSTAMP:20260421T213305
CREATED:20240130T223244Z
LAST-MODIFIED:20240130T223244Z
UID:8746-1709753400-1709760600@ctl.wustl.edu
SUMMARY:Matrix Drop-In hours_Jonathan
DESCRIPTION:
URL:https://ctl.wustl.edu/learningcenter/mentoring-sessions/matrix-drop-in-hours_jonathan/2024-03-06/
LOCATION:Simon 020
CATEGORIES:Mathematics,Matrix Algebra
END:VEVENT
BEGIN:VEVENT
DTSTART;TZID=America/Chicago:20240320T193000
DTEND;TZID=America/Chicago:20240320T213000
DTSTAMP:20260421T213305
CREATED:20240130T223244Z
LAST-MODIFIED:20240130T223244Z
UID:8748-1710963000-1710970200@ctl.wustl.edu
SUMMARY:Matrix Drop-In hours_Jonathan
DESCRIPTION:
URL:https://ctl.wustl.edu/learningcenter/mentoring-sessions/matrix-drop-in-hours_jonathan/2024-03-20/
LOCATION:Simon 020
CATEGORIES:Mathematics,Matrix Algebra
END:VEVENT
BEGIN:VEVENT
DTSTART;TZID=America/Chicago:20240403T193000
DTEND;TZID=America/Chicago:20240403T213000
DTSTAMP:20260421T213305
CREATED:20240130T223244Z
LAST-MODIFIED:20240130T223244Z
UID:8750-1712172600-1712179800@ctl.wustl.edu
SUMMARY:Matrix Drop-In hours_Jonathan
DESCRIPTION:
URL:https://ctl.wustl.edu/learningcenter/mentoring-sessions/matrix-drop-in-hours_jonathan/2024-04-03/
LOCATION:Simon 020
CATEGORIES:Mathematics,Matrix Algebra
END:VEVENT
BEGIN:VEVENT
DTSTART;TZID=America/Chicago:20240410T193000
DTEND;TZID=America/Chicago:20240410T213000
DTSTAMP:20260421T213305
CREATED:20240130T223244Z
LAST-MODIFIED:20240130T223244Z
UID:8751-1712777400-1712784600@ctl.wustl.edu
SUMMARY:Matrix Drop-In hours_Jonathan
DESCRIPTION:
URL:https://ctl.wustl.edu/learningcenter/mentoring-sessions/matrix-drop-in-hours_jonathan/2024-04-10/
LOCATION:Simon 020
CATEGORIES:Mathematics,Matrix Algebra
END:VEVENT
BEGIN:VEVENT
DTSTART;TZID=America/Chicago:20240417T193000
DTEND;TZID=America/Chicago:20240417T213000
DTSTAMP:20260421T213305
CREATED:20240130T223244Z
LAST-MODIFIED:20240130T223244Z
UID:8752-1713382200-1713389400@ctl.wustl.edu
SUMMARY:Matrix Drop-In hours_Jonathan
DESCRIPTION:
URL:https://ctl.wustl.edu/learningcenter/mentoring-sessions/matrix-drop-in-hours_jonathan/2024-04-17/
LOCATION:Simon 020
CATEGORIES:Mathematics,Matrix Algebra
END:VEVENT
BEGIN:VEVENT
DTSTART;TZID=America/Chicago:20240327T193000
DTEND;TZID=America/Chicago:20240327T213000
DTSTAMP:20260421T213305
CREATED:20240130T223244Z
LAST-MODIFIED:20240130T223244Z
UID:8749-1711567800-1711575000@ctl.wustl.edu
SUMMARY:Matrix Drop-In hours_Jonathan
DESCRIPTION:
URL:https://ctl.wustl.edu/learningcenter/mentoring-sessions/matrix-drop-in-hours_jonathan/2024-03-27/
LOCATION:Simon 020
CATEGORIES:Mathematics,Matrix Algebra
END:VEVENT
BEGIN:VEVENT
DTSTART;TZID=America/Chicago:20240424T193000
DTEND;TZID=America/Chicago:20240424T213000
DTSTAMP:20260421T213305
CREATED:20240130T223244Z
LAST-MODIFIED:20240130T223244Z
UID:8753-1713987000-1713994200@ctl.wustl.edu
SUMMARY:Matrix Drop-In hours_Jonathan
DESCRIPTION:
URL:https://ctl.wustl.edu/learningcenter/mentoring-sessions/matrix-drop-in-hours_jonathan/2024-04-24/
LOCATION:Simon 020
CATEGORIES:Mathematics,Matrix Algebra
END:VEVENT
BEGIN:VEVENT
DTSTART;TZID=America/Chicago:20240221T193000
DTEND;TZID=America/Chicago:20240221T213000
DTSTAMP:20260421T213305
CREATED:20240130T223244Z
LAST-MODIFIED:20240220T154034Z
UID:8744-1708543800-1708551000@ctl.wustl.edu
SUMMARY:Matrix Drop-In hours_Jonathan CANCELLED
DESCRIPTION:
URL:https://ctl.wustl.edu/learningcenter/mentoring-sessions/matrix-drop-in-hours_jonathan-2024-02-21/
LOCATION:Simon 020
CATEGORIES:Mathematics,Matrix Algebra
END:VEVENT
BEGIN:VEVENT
DTSTART;TZID=America/Chicago:20230913T190000
DTEND;TZID=America/Chicago:20230913T210000
DTSTAMP:20260421T213305
CREATED:20230906T193815Z
LAST-MODIFIED:20230906T193815Z
UID:7092-1694631600-1694638800@ctl.wustl.edu
SUMMARY:Jonathan_Matrix Drop-In hours
DESCRIPTION:
URL:https://ctl.wustl.edu/learningcenter/mentoring-sessions/jonathan_matrix-drop-in-hours/2023-09-13/
LOCATION:Mallinckrodt 132
CATEGORIES:Mathematics,Matrix Algebra
END:VEVENT
BEGIN:VEVENT
DTSTART;TZID=America/Chicago:20230920T190000
DTEND;TZID=America/Chicago:20230920T210000
DTSTAMP:20260421T213305
CREATED:20230906T193815Z
LAST-MODIFIED:20230906T193815Z
UID:7093-1695236400-1695243600@ctl.wustl.edu
SUMMARY:Jonathan_Matrix Drop-In hours
DESCRIPTION:
URL:https://ctl.wustl.edu/learningcenter/mentoring-sessions/jonathan_matrix-drop-in-hours/2023-09-20/
LOCATION:Mallinckrodt 132
CATEGORIES:Mathematics,Matrix Algebra
END:VEVENT
BEGIN:VEVENT
DTSTART;TZID=America/Chicago:20230927T190000
DTEND;TZID=America/Chicago:20230927T210000
DTSTAMP:20260421T213305
CREATED:20230906T193815Z
LAST-MODIFIED:20230906T193815Z
UID:7094-1695841200-1695848400@ctl.wustl.edu
SUMMARY:Jonathan_Matrix Drop-In hours
DESCRIPTION:
URL:https://ctl.wustl.edu/learningcenter/mentoring-sessions/jonathan_matrix-drop-in-hours/2023-09-27/
LOCATION:Mallinckrodt 132
CATEGORIES:Mathematics,Matrix Algebra
END:VEVENT
BEGIN:VEVENT
DTSTART;TZID=America/Chicago:20231018T190000
DTEND;TZID=America/Chicago:20231018T210000
DTSTAMP:20260421T213305
CREATED:20230906T193815Z
LAST-MODIFIED:20230906T193815Z
UID:7097-1697655600-1697662800@ctl.wustl.edu
SUMMARY:Jonathan_Matrix Drop-In hours
DESCRIPTION:
URL:https://ctl.wustl.edu/learningcenter/mentoring-sessions/jonathan_matrix-drop-in-hours/2023-10-18/
LOCATION:Mallinckrodt 132
CATEGORIES:Mathematics,Matrix Algebra
END:VEVENT
BEGIN:VEVENT
DTSTART;TZID=America/Chicago:20231025T190000
DTEND;TZID=America/Chicago:20231025T210000
DTSTAMP:20260421T213305
CREATED:20230906T193815Z
LAST-MODIFIED:20230906T193815Z
UID:7098-1698260400-1698267600@ctl.wustl.edu
SUMMARY:Jonathan_Matrix Drop-In hours
DESCRIPTION:
URL:https://ctl.wustl.edu/learningcenter/mentoring-sessions/jonathan_matrix-drop-in-hours/2023-10-25/
LOCATION:Mallinckrodt 132
CATEGORIES:Mathematics,Matrix Algebra
END:VEVENT
BEGIN:VEVENT
DTSTART;TZID=America/Chicago:20231108T190000
DTEND;TZID=America/Chicago:20231108T210000
DTSTAMP:20260421T213305
CREATED:20230906T193815Z
LAST-MODIFIED:20230906T193815Z
UID:7100-1699470000-1699477200@ctl.wustl.edu
SUMMARY:Jonathan_Matrix Drop-In hours
DESCRIPTION:
URL:https://ctl.wustl.edu/learningcenter/mentoring-sessions/jonathan_matrix-drop-in-hours/2023-11-08/
LOCATION:Mallinckrodt 132
CATEGORIES:Mathematics,Matrix Algebra
END:VEVENT
BEGIN:VEVENT
DTSTART;TZID=America/Chicago:20231115T190000
DTEND;TZID=America/Chicago:20231115T210000
DTSTAMP:20260421T213305
CREATED:20230906T193815Z
LAST-MODIFIED:20230906T193815Z
UID:7101-1700074800-1700082000@ctl.wustl.edu
SUMMARY:Jonathan_Matrix Drop-In hours
DESCRIPTION:
URL:https://ctl.wustl.edu/learningcenter/mentoring-sessions/jonathan_matrix-drop-in-hours/2023-11-15/
LOCATION:Mallinckrodt 132
CATEGORIES:Mathematics,Matrix Algebra
END:VEVENT
BEGIN:VEVENT
DTSTART;TZID=America/Chicago:20231129T190000
DTEND;TZID=America/Chicago:20231129T210000
DTSTAMP:20260421T213305
CREATED:20230906T193815Z
LAST-MODIFIED:20230906T193815Z
UID:7103-1701284400-1701291600@ctl.wustl.edu
SUMMARY:Jonathan_Matrix Drop-In hours
DESCRIPTION:
URL:https://ctl.wustl.edu/learningcenter/mentoring-sessions/jonathan_matrix-drop-in-hours/2023-11-29/
LOCATION:Mallinckrodt 132
CATEGORIES:Mathematics,Matrix Algebra
END:VEVENT
END:VCALENDAR