BEGIN:VCALENDAR
VERSION:2.0
PRODID:-//The Learning Center - ECPv6.15.16.1//NONSGML v1.0//EN
CALSCALE:GREGORIAN
METHOD:PUBLISH
X-WR-CALNAME:The Learning Center
X-ORIGINAL-URL:https://ctl.wustl.edu/learningcenter
X-WR-CALDESC:Events for The Learning Center
REFRESH-INTERVAL;VALUE=DURATION:PT1H
X-Robots-Tag:noindex
X-PUBLISHED-TTL:PT1H
BEGIN:VTIMEZONE
TZID:America/Chicago
BEGIN:DAYLIGHT
TZOFFSETFROM:-0600
TZOFFSETTO:-0500
TZNAME:CDT
DTSTART:20220313T080000
END:DAYLIGHT
BEGIN:STANDARD
TZOFFSETFROM:-0500
TZOFFSETTO:-0600
TZNAME:CST
DTSTART:20221106T070000
END:STANDARD
BEGIN:DAYLIGHT
TZOFFSETFROM:-0600
TZOFFSETTO:-0500
TZNAME:CDT
DTSTART:20230312T080000
END:DAYLIGHT
BEGIN:STANDARD
TZOFFSETFROM:-0500
TZOFFSETTO:-0600
TZNAME:CST
DTSTART:20231105T070000
END:STANDARD
BEGIN:DAYLIGHT
TZOFFSETFROM:-0600
TZOFFSETTO:-0500
TZNAME:CDT
DTSTART:20240310T080000
END:DAYLIGHT
BEGIN:STANDARD
TZOFFSETFROM:-0500
TZOFFSETTO:-0600
TZNAME:CST
DTSTART:20241103T070000
END:STANDARD
BEGIN:DAYLIGHT
TZOFFSETFROM:-0600
TZOFFSETTO:-0500
TZNAME:CDT
DTSTART:20250309T080000
END:DAYLIGHT
BEGIN:STANDARD
TZOFFSETFROM:-0500
TZOFFSETTO:-0600
TZNAME:CST
DTSTART:20251102T070000
END:STANDARD
END:VTIMEZONE
BEGIN:VEVENT
DTSTART;TZID=America/Chicago:20240131T180000
DTEND;TZID=America/Chicago:20240131T200000
DTSTAMP:20260420T233331
CREATED:20240128T194341Z
LAST-MODIFIED:20240128T194341Z
UID:8483-1706724000-1706731200@ctl.wustl.edu
SUMMARY:Chem 106 RPM hours_Leah
DESCRIPTION:
URL:https://ctl.wustl.edu/learningcenter/mentoring-sessions/chem-106-rpm-hours_leah-2/2024-01-31/
LOCATION:Rutledge House Study Room
CATEGORIES:Chem 1601/1602,Chemistry
END:VEVENT
BEGIN:VEVENT
DTSTART;TZID=America/Chicago:20240207T180000
DTEND;TZID=America/Chicago:20240207T200000
DTSTAMP:20260420T233331
CREATED:20240128T194341Z
LAST-MODIFIED:20240128T194341Z
UID:8484-1707328800-1707336000@ctl.wustl.edu
SUMMARY:Chem 106 RPM hours_Leah
DESCRIPTION:
URL:https://ctl.wustl.edu/learningcenter/mentoring-sessions/chem-106-rpm-hours_leah-2/2024-02-07/
LOCATION:Rutledge House Study Room
CATEGORIES:Chem 1601/1602,Chemistry
END:VEVENT
BEGIN:VEVENT
DTSTART;TZID=America/Chicago:20240221T180000
DTEND;TZID=America/Chicago:20240221T200000
DTSTAMP:20260420T233331
CREATED:20240128T194341Z
LAST-MODIFIED:20240128T194341Z
UID:8486-1708538400-1708545600@ctl.wustl.edu
SUMMARY:Chem 106 RPM hours_Leah
DESCRIPTION:
URL:https://ctl.wustl.edu/learningcenter/mentoring-sessions/chem-106-rpm-hours_leah-2/2024-02-21/
LOCATION:Rutledge House Study Room
CATEGORIES:Chem 1601/1602,Chemistry
END:VEVENT
BEGIN:VEVENT
DTSTART;TZID=America/Chicago:20240228T180000
DTEND;TZID=America/Chicago:20240228T200000
DTSTAMP:20260420T233331
CREATED:20240128T194341Z
LAST-MODIFIED:20240128T194341Z
UID:8487-1709143200-1709150400@ctl.wustl.edu
SUMMARY:Chem 106 RPM hours_Leah
DESCRIPTION:
URL:https://ctl.wustl.edu/learningcenter/mentoring-sessions/chem-106-rpm-hours_leah-2/2024-02-28/
LOCATION:Rutledge House Study Room
CATEGORIES:Chem 1601/1602,Chemistry
END:VEVENT
BEGIN:VEVENT
DTSTART;TZID=America/Chicago:20240306T180000
DTEND;TZID=America/Chicago:20240306T200000
DTSTAMP:20260420T233331
CREATED:20240128T194341Z
LAST-MODIFIED:20240128T194341Z
UID:8488-1709748000-1709755200@ctl.wustl.edu
SUMMARY:Chem 106 RPM hours_Leah
DESCRIPTION:
URL:https://ctl.wustl.edu/learningcenter/mentoring-sessions/chem-106-rpm-hours_leah-2/2024-03-06/
LOCATION:Rutledge House Study Room
CATEGORIES:Chem 1601/1602,Chemistry
END:VEVENT
BEGIN:VEVENT
DTSTART;TZID=America/Chicago:20240410T180000
DTEND;TZID=America/Chicago:20240410T200000
DTSTAMP:20260420T233331
CREATED:20240128T194341Z
LAST-MODIFIED:20240128T194341Z
UID:8493-1712772000-1712779200@ctl.wustl.edu
SUMMARY:Chem 106 RPM hours_Leah
DESCRIPTION:
URL:https://ctl.wustl.edu/learningcenter/mentoring-sessions/chem-106-rpm-hours_leah-2/2024-04-10/
LOCATION:Rutledge House Study Room
CATEGORIES:Chem 1601/1602,Chemistry
END:VEVENT
BEGIN:VEVENT
DTSTART;TZID=America/Chicago:20240403T180000
DTEND;TZID=America/Chicago:20240403T200000
DTSTAMP:20260420T233331
CREATED:20240128T194341Z
LAST-MODIFIED:20240128T194341Z
UID:8492-1712167200-1712174400@ctl.wustl.edu
SUMMARY:Chem 106 RPM hours_Leah
DESCRIPTION:
URL:https://ctl.wustl.edu/learningcenter/mentoring-sessions/chem-106-rpm-hours_leah-2/2024-04-03/
LOCATION:Rutledge House Study Room
CATEGORIES:Chem 1601/1602,Chemistry
END:VEVENT
BEGIN:VEVENT
DTSTART;TZID=America/Chicago:20240327T180000
DTEND;TZID=America/Chicago:20240327T200000
DTSTAMP:20260420T233331
CREATED:20240128T194341Z
LAST-MODIFIED:20240128T194341Z
UID:8491-1711562400-1711569600@ctl.wustl.edu
SUMMARY:Chem 106 RPM hours_Leah
DESCRIPTION:
URL:https://ctl.wustl.edu/learningcenter/mentoring-sessions/chem-106-rpm-hours_leah-2/2024-03-27/
LOCATION:Rutledge House Study Room
CATEGORIES:Chem 1601/1602,Chemistry
END:VEVENT
BEGIN:VEVENT
DTSTART;TZID=America/Chicago:20240408T190000
DTEND;TZID=America/Chicago:20240408T210000
DTSTAMP:20260420T233331
CREATED:20240128T182354Z
LAST-MODIFIED:20240208T171824Z
UID:8442-1712602800-1712610000@ctl.wustl.edu
SUMMARY:Chem 106 RPM hours_Leah
DESCRIPTION:
URL:https://ctl.wustl.edu/learningcenter/mentoring-sessions/chem-106-rpm-hours_leah/2024-04-08/
LOCATION:Nemerov House Seminar Room B
CATEGORIES:Chem 1601/1602,Chemistry
END:VEVENT
BEGIN:VEVENT
DTSTART;TZID=America/Chicago:20240205T190000
DTEND;TZID=America/Chicago:20240205T210000
DTSTAMP:20260420T233331
CREATED:20240128T182354Z
LAST-MODIFIED:20240208T171820Z
UID:8433-1707159600-1707166800@ctl.wustl.edu
SUMMARY:Chem 106 RPM hours_Leah
DESCRIPTION:
URL:https://ctl.wustl.edu/learningcenter/mentoring-sessions/chem-106-rpm-hours_leah/2024-02-05/
LOCATION:Nemerov House Seminar Room B
CATEGORIES:Chem 1601/1602,Chemistry
END:VEVENT
BEGIN:VEVENT
DTSTART;TZID=America/Chicago:20240226T190000
DTEND;TZID=America/Chicago:20240226T210000
DTSTAMP:20260420T233331
CREATED:20240128T182354Z
LAST-MODIFIED:20240208T171821Z
UID:8436-1708974000-1708981200@ctl.wustl.edu
SUMMARY:Chem 106 RPM hours_Leah
DESCRIPTION:
URL:https://ctl.wustl.edu/learningcenter/mentoring-sessions/chem-106-rpm-hours_leah/2024-02-26/
LOCATION:Nemerov House Seminar Room B
CATEGORIES:Chem 1601/1602,Chemistry
END:VEVENT
BEGIN:VEVENT
DTSTART;TZID=America/Chicago:20240304T190000
DTEND;TZID=America/Chicago:20240304T210000
DTSTAMP:20260420T233331
CREATED:20240128T182354Z
LAST-MODIFIED:20240208T171822Z
UID:8437-1709578800-1709586000@ctl.wustl.edu
SUMMARY:Chem 106 RPM hours_Leah
DESCRIPTION:
URL:https://ctl.wustl.edu/learningcenter/mentoring-sessions/chem-106-rpm-hours_leah/2024-03-04/
LOCATION:Nemerov House Seminar Room B
CATEGORIES:Chem 1601/1602,Chemistry
END:VEVENT
BEGIN:VEVENT
DTSTART;TZID=America/Chicago:20240325T190000
DTEND;TZID=America/Chicago:20240325T210000
DTSTAMP:20260420T233331
CREATED:20240128T182354Z
LAST-MODIFIED:20240208T171823Z
UID:8440-1711393200-1711400400@ctl.wustl.edu
SUMMARY:Chem 106 RPM hours_Leah
DESCRIPTION:
URL:https://ctl.wustl.edu/learningcenter/mentoring-sessions/chem-106-rpm-hours_leah/2024-03-25/
LOCATION:Nemerov House Seminar Room B
CATEGORIES:Chem 1601/1602,Chemistry
END:VEVENT
BEGIN:VEVENT
DTSTART;TZID=America/Chicago:20240401T190000
DTEND;TZID=America/Chicago:20240401T210000
DTSTAMP:20260420T233331
CREATED:20240128T182354Z
LAST-MODIFIED:20240208T171824Z
UID:8441-1711998000-1712005200@ctl.wustl.edu
SUMMARY:Chem 106 RPM hours_Leah
DESCRIPTION:
URL:https://ctl.wustl.edu/learningcenter/mentoring-sessions/chem-106-rpm-hours_leah/2024-04-01/
LOCATION:Nemerov House Seminar Room B
CATEGORIES:Chem 1601/1602,Chemistry
END:VEVENT
BEGIN:VEVENT
DTSTART;TZID=America/Chicago:20240219T190000
DTEND;TZID=America/Chicago:20240219T210000
DTSTAMP:20260420T233331
CREATED:20240128T182354Z
LAST-MODIFIED:20240208T171821Z
UID:8435-1708369200-1708376400@ctl.wustl.edu
SUMMARY:Chem 106 RPM hours_Leah
DESCRIPTION:
URL:https://ctl.wustl.edu/learningcenter/mentoring-sessions/chem-106-rpm-hours_leah/2024-02-19/
LOCATION:Nemerov House Seminar Room B
CATEGORIES:Chem 1601/1602,Chemistry
END:VEVENT
BEGIN:VEVENT
DTSTART;TZID=America/Chicago:20231127T190000
DTEND;TZID=America/Chicago:20231127T210000
DTSTAMP:20260420T233331
CREATED:20230909T125632Z
LAST-MODIFIED:20230911T151858Z
UID:7678-1701111600-1701118800@ctl.wustl.edu
SUMMARY:Leah_Chem 105 RPM hours
DESCRIPTION:
URL:https://ctl.wustl.edu/learningcenter/mentoring-sessions/leah_chem-105-rpm-hours-2-2023-09-18/2023-11-27/
LOCATION:Nemerov House Seminar Room B
CATEGORIES:Chem 1601/1602,Chemistry
END:VEVENT
BEGIN:VEVENT
DTSTART;TZID=America/Chicago:20230911T180000
DTEND;TZID=America/Chicago:20230911T210000
DTSTAMP:20260420T233331
CREATED:20230909T125632Z
LAST-MODIFIED:20230911T151911Z
UID:7667-1694455200-1694466000@ctl.wustl.edu
SUMMARY:Leah_Chem 105 RPM hours
DESCRIPTION:
URL:https://ctl.wustl.edu/learningcenter/mentoring-sessions/leah_chem-105-rpm-hours-2/
LOCATION:Nemerov House Seminar Room B
CATEGORIES:Chem 1601/1602,Chemistry
END:VEVENT
BEGIN:VEVENT
DTSTART;TZID=America/Chicago:20230925T190000
DTEND;TZID=America/Chicago:20230925T210000
DTSTAMP:20260420T233331
CREATED:20230909T125632Z
LAST-MODIFIED:20230911T151855Z
UID:7669-1695668400-1695675600@ctl.wustl.edu
SUMMARY:Leah_Chem 105 RPM hours
DESCRIPTION:
URL:https://ctl.wustl.edu/learningcenter/mentoring-sessions/leah_chem-105-rpm-hours-2-2023-09-18/2023-09-25/
LOCATION:Nemerov House Seminar Room B
CATEGORIES:Chem 1601/1602,Chemistry
END:VEVENT
BEGIN:VEVENT
DTSTART;TZID=America/Chicago:20231002T190000
DTEND;TZID=America/Chicago:20231002T210000
DTSTAMP:20260420T233331
CREATED:20230909T125632Z
LAST-MODIFIED:20230911T151855Z
UID:7670-1696273200-1696280400@ctl.wustl.edu
SUMMARY:Leah_Chem 105 RPM hours
DESCRIPTION:
URL:https://ctl.wustl.edu/learningcenter/mentoring-sessions/leah_chem-105-rpm-hours-2-2023-09-18/2023-10-02/
LOCATION:Nemerov House Seminar Room B
CATEGORIES:Chem 1601/1602,Chemistry
END:VEVENT
BEGIN:VEVENT
DTSTART;TZID=America/Chicago:20231016T190000
DTEND;TZID=America/Chicago:20231016T210000
DTSTAMP:20260420T233331
CREATED:20230909T125632Z
LAST-MODIFIED:20230911T151856Z
UID:7672-1697482800-1697490000@ctl.wustl.edu
SUMMARY:Leah_Chem 105 RPM hours
DESCRIPTION:
URL:https://ctl.wustl.edu/learningcenter/mentoring-sessions/leah_chem-105-rpm-hours-2-2023-09-18/2023-10-16/
LOCATION:Nemerov House Seminar Room B
CATEGORIES:Chem 1601/1602,Chemistry
END:VEVENT
BEGIN:VEVENT
DTSTART;TZID=America/Chicago:20231023T190000
DTEND;TZID=America/Chicago:20231023T210000
DTSTAMP:20260420T233331
CREATED:20230909T125632Z
LAST-MODIFIED:20230911T151856Z
UID:7673-1698087600-1698094800@ctl.wustl.edu
SUMMARY:Leah_Chem 105 RPM hours
DESCRIPTION:
URL:https://ctl.wustl.edu/learningcenter/mentoring-sessions/leah_chem-105-rpm-hours-2-2023-09-18/2023-10-23/
LOCATION:Nemerov House Seminar Room B
CATEGORIES:Chem 1601/1602,Chemistry
END:VEVENT
BEGIN:VEVENT
DTSTART;TZID=America/Chicago:20231106T190000
DTEND;TZID=America/Chicago:20231106T210000
DTSTAMP:20260420T233331
CREATED:20230909T125632Z
LAST-MODIFIED:20230911T151857Z
UID:7675-1699297200-1699304400@ctl.wustl.edu
SUMMARY:Leah_Chem 105 RPM hours
DESCRIPTION:
URL:https://ctl.wustl.edu/learningcenter/mentoring-sessions/leah_chem-105-rpm-hours-2-2023-09-18/2023-11-06/
LOCATION:Nemerov House Seminar Room B
CATEGORIES:Chem 1601/1602,Chemistry
END:VEVENT
BEGIN:VEVENT
DTSTART;TZID=America/Chicago:20231113T190000
DTEND;TZID=America/Chicago:20231113T210000
DTSTAMP:20260420T233331
CREATED:20230909T125632Z
LAST-MODIFIED:20230911T151857Z
UID:7676-1699902000-1699909200@ctl.wustl.edu
SUMMARY:Leah_Chem 105 RPM hours
DESCRIPTION:
URL:https://ctl.wustl.edu/learningcenter/mentoring-sessions/leah_chem-105-rpm-hours-2-2023-09-18/2023-11-13/
LOCATION:Nemerov House Seminar Room B
CATEGORIES:Chem 1601/1602,Chemistry
END:VEVENT
BEGIN:VEVENT
DTSTART;TZID=America/Chicago:20230918T190000
DTEND;TZID=America/Chicago:20230918T210000
DTSTAMP:20260420T233331
CREATED:20230909T125632Z
LAST-MODIFIED:20230911T151854Z
UID:7668-1695063600-1695070800@ctl.wustl.edu
SUMMARY:Leah_Chem 105 RPM hours
DESCRIPTION:
URL:https://ctl.wustl.edu/learningcenter/mentoring-sessions/leah_chem-105-rpm-hours-2-2023-09-18/2023-09-18/
LOCATION:Nemerov House Seminar Room B
CATEGORIES:Chem 1601/1602,Chemistry
END:VEVENT
BEGIN:VEVENT
DTSTART;TZID=America/Chicago:20231030T190000
DTEND;TZID=America/Chicago:20231030T210000
DTSTAMP:20260420T233331
CREATED:20230909T125632Z
LAST-MODIFIED:20231030T213413Z
UID:7674-1698692400-1698699600@ctl.wustl.edu
SUMMARY:Leah_Chem 105 RPM hours CANCELED*
DESCRIPTION:*Exam Review instead
URL:https://ctl.wustl.edu/learningcenter/mentoring-sessions/leah_chem-105-rpm-hours-2-2023-10-30/
LOCATION:Nemerov House Seminar Room B
CATEGORIES:Chem 1601/1602,Chemistry
END:VEVENT
BEGIN:VEVENT
DTSTART;TZID=America/Chicago:20230920T190000
DTEND;TZID=America/Chicago:20230920T210000
DTSTAMP:20260420T233331
CREATED:20230909T125524Z
LAST-MODIFIED:20230911T152059Z
UID:7655-1695236400-1695243600@ctl.wustl.edu
SUMMARY:Leah_Chem 105 RPM hours
DESCRIPTION:
URL:https://ctl.wustl.edu/learningcenter/mentoring-sessions/leah_chem-105-rpm-hours-2023-09-20/2023-09-20/
LOCATION:Rutledge House Study Room
CATEGORIES:Chem 1601/1602,Chemistry
END:VEVENT
BEGIN:VEVENT
DTSTART;TZID=America/Chicago:20231115T190000
DTEND;TZID=America/Chicago:20231115T210000
DTSTAMP:20260420T233331
CREATED:20230909T125524Z
LAST-MODIFIED:20230911T152102Z
UID:7663-1700074800-1700082000@ctl.wustl.edu
SUMMARY:Leah_Chem 105 RPM hours
DESCRIPTION:
URL:https://ctl.wustl.edu/learningcenter/mentoring-sessions/leah_chem-105-rpm-hours-2023-09-20/2023-11-15/
LOCATION:Rutledge House Study Room
CATEGORIES:Chem 1601/1602,Chemistry
END:VEVENT
BEGIN:VEVENT
DTSTART;TZID=America/Chicago:20231129T190000
DTEND;TZID=America/Chicago:20231129T210000
DTSTAMP:20260420T233331
CREATED:20230909T125524Z
LAST-MODIFIED:20230911T152103Z
UID:7665-1701284400-1701291600@ctl.wustl.edu
SUMMARY:Leah_Chem 105 RPM hours
DESCRIPTION:
URL:https://ctl.wustl.edu/learningcenter/mentoring-sessions/leah_chem-105-rpm-hours-2023-09-20/2023-11-29/
LOCATION:Rutledge House Study Room
CATEGORIES:Chem 1601/1602,Chemistry
END:VEVENT
BEGIN:VEVENT
DTSTART;TZID=America/Chicago:20231108T190000
DTEND;TZID=America/Chicago:20231108T210000
DTSTAMP:20260420T233331
CREATED:20230909T125524Z
LAST-MODIFIED:20230911T152102Z
UID:7662-1699470000-1699477200@ctl.wustl.edu
SUMMARY:Leah_Chem 105 RPM hours
DESCRIPTION:
URL:https://ctl.wustl.edu/learningcenter/mentoring-sessions/leah_chem-105-rpm-hours-2023-09-20/2023-11-08/
LOCATION:Rutledge House Study Room
CATEGORIES:Chem 1601/1602,Chemistry
END:VEVENT
BEGIN:VEVENT
DTSTART;TZID=America/Chicago:20231025T190000
DTEND;TZID=America/Chicago:20231025T210000
DTSTAMP:20260420T233331
CREATED:20230909T125524Z
LAST-MODIFIED:20230911T152101Z
UID:7660-1698260400-1698267600@ctl.wustl.edu
SUMMARY:Leah_Chem 105 RPM hours
DESCRIPTION:
URL:https://ctl.wustl.edu/learningcenter/mentoring-sessions/leah_chem-105-rpm-hours-2023-09-20/2023-10-25/
LOCATION:Rutledge House Study Room
CATEGORIES:Chem 1601/1602,Chemistry
END:VEVENT
END:VCALENDAR