BEGIN:VCALENDAR
VERSION:2.0
PRODID:-//The Learning Center - ECPv6.15.16.1//NONSGML v1.0//EN
CALSCALE:GREGORIAN
METHOD:PUBLISH
X-WR-CALNAME:The Learning Center
X-ORIGINAL-URL:https://ctl.wustl.edu/learningcenter
X-WR-CALDESC:Events for The Learning Center
REFRESH-INTERVAL;VALUE=DURATION:PT1H
X-Robots-Tag:noindex
X-PUBLISHED-TTL:PT1H
BEGIN:VTIMEZONE
TZID:America/Chicago
BEGIN:DAYLIGHT
TZOFFSETFROM:-0600
TZOFFSETTO:-0500
TZNAME:CDT
DTSTART:20220313T080000
END:DAYLIGHT
BEGIN:STANDARD
TZOFFSETFROM:-0500
TZOFFSETTO:-0600
TZNAME:CST
DTSTART:20221106T070000
END:STANDARD
BEGIN:DAYLIGHT
TZOFFSETFROM:-0600
TZOFFSETTO:-0500
TZNAME:CDT
DTSTART:20230312T080000
END:DAYLIGHT
BEGIN:STANDARD
TZOFFSETFROM:-0500
TZOFFSETTO:-0600
TZNAME:CST
DTSTART:20231105T070000
END:STANDARD
BEGIN:DAYLIGHT
TZOFFSETFROM:-0600
TZOFFSETTO:-0500
TZNAME:CDT
DTSTART:20240310T080000
END:DAYLIGHT
BEGIN:STANDARD
TZOFFSETFROM:-0500
TZOFFSETTO:-0600
TZNAME:CST
DTSTART:20241103T070000
END:STANDARD
END:VTIMEZONE
BEGIN:VEVENT
DTSTART;TZID=America/Chicago:20231023T190000
DTEND;TZID=America/Chicago:20231023T210000
DTSTAMP:20260425T081050
CREATED:20230909T125632Z
LAST-MODIFIED:20230911T151856Z
UID:7673-1698087600-1698094800@ctl.wustl.edu
SUMMARY:Leah_Chem 105 RPM hours
DESCRIPTION:
URL:https://ctl.wustl.edu/learningcenter/mentoring-sessions/leah_chem-105-rpm-hours-2-2023-09-18/2023-10-23/
LOCATION:Nemerov House Seminar Room B
CATEGORIES:Chem 1601/1602,Chemistry
END:VEVENT
BEGIN:VEVENT
DTSTART;TZID=America/Chicago:20231106T190000
DTEND;TZID=America/Chicago:20231106T210000
DTSTAMP:20260425T081050
CREATED:20230909T125632Z
LAST-MODIFIED:20230911T151857Z
UID:7675-1699297200-1699304400@ctl.wustl.edu
SUMMARY:Leah_Chem 105 RPM hours
DESCRIPTION:
URL:https://ctl.wustl.edu/learningcenter/mentoring-sessions/leah_chem-105-rpm-hours-2-2023-09-18/2023-11-06/
LOCATION:Nemerov House Seminar Room B
CATEGORIES:Chem 1601/1602,Chemistry
END:VEVENT
BEGIN:VEVENT
DTSTART;TZID=America/Chicago:20231113T190000
DTEND;TZID=America/Chicago:20231113T210000
DTSTAMP:20260425T081050
CREATED:20230909T125632Z
LAST-MODIFIED:20230911T151857Z
UID:7676-1699902000-1699909200@ctl.wustl.edu
SUMMARY:Leah_Chem 105 RPM hours
DESCRIPTION:
URL:https://ctl.wustl.edu/learningcenter/mentoring-sessions/leah_chem-105-rpm-hours-2-2023-09-18/2023-11-13/
LOCATION:Nemerov House Seminar Room B
CATEGORIES:Chem 1601/1602,Chemistry
END:VEVENT
BEGIN:VEVENT
DTSTART;TZID=America/Chicago:20230918T190000
DTEND;TZID=America/Chicago:20230918T210000
DTSTAMP:20260425T081050
CREATED:20230909T125632Z
LAST-MODIFIED:20230911T151854Z
UID:7668-1695063600-1695070800@ctl.wustl.edu
SUMMARY:Leah_Chem 105 RPM hours
DESCRIPTION:
URL:https://ctl.wustl.edu/learningcenter/mentoring-sessions/leah_chem-105-rpm-hours-2-2023-09-18/2023-09-18/
LOCATION:Nemerov House Seminar Room B
CATEGORIES:Chem 1601/1602,Chemistry
END:VEVENT
BEGIN:VEVENT
DTSTART;TZID=America/Chicago:20231030T190000
DTEND;TZID=America/Chicago:20231030T210000
DTSTAMP:20260425T081050
CREATED:20230909T125632Z
LAST-MODIFIED:20231030T213413Z
UID:7674-1698692400-1698699600@ctl.wustl.edu
SUMMARY:Leah_Chem 105 RPM hours CANCELED*
DESCRIPTION:*Exam Review instead
URL:https://ctl.wustl.edu/learningcenter/mentoring-sessions/leah_chem-105-rpm-hours-2-2023-10-30/
LOCATION:Nemerov House Seminar Room B
CATEGORIES:Chem 1601/1602,Chemistry
END:VEVENT
BEGIN:VEVENT
DTSTART;TZID=America/Chicago:20230920T190000
DTEND;TZID=America/Chicago:20230920T210000
DTSTAMP:20260425T081050
CREATED:20230909T125524Z
LAST-MODIFIED:20230911T152059Z
UID:7655-1695236400-1695243600@ctl.wustl.edu
SUMMARY:Leah_Chem 105 RPM hours
DESCRIPTION:
URL:https://ctl.wustl.edu/learningcenter/mentoring-sessions/leah_chem-105-rpm-hours-2023-09-20/2023-09-20/
LOCATION:Rutledge House Study Room
CATEGORIES:Chem 1601/1602,Chemistry
END:VEVENT
BEGIN:VEVENT
DTSTART;TZID=America/Chicago:20231115T190000
DTEND;TZID=America/Chicago:20231115T210000
DTSTAMP:20260425T081050
CREATED:20230909T125524Z
LAST-MODIFIED:20230911T152102Z
UID:7663-1700074800-1700082000@ctl.wustl.edu
SUMMARY:Leah_Chem 105 RPM hours
DESCRIPTION:
URL:https://ctl.wustl.edu/learningcenter/mentoring-sessions/leah_chem-105-rpm-hours-2023-09-20/2023-11-15/
LOCATION:Rutledge House Study Room
CATEGORIES:Chem 1601/1602,Chemistry
END:VEVENT
BEGIN:VEVENT
DTSTART;TZID=America/Chicago:20231129T190000
DTEND;TZID=America/Chicago:20231129T210000
DTSTAMP:20260425T081050
CREATED:20230909T125524Z
LAST-MODIFIED:20230911T152103Z
UID:7665-1701284400-1701291600@ctl.wustl.edu
SUMMARY:Leah_Chem 105 RPM hours
DESCRIPTION:
URL:https://ctl.wustl.edu/learningcenter/mentoring-sessions/leah_chem-105-rpm-hours-2023-09-20/2023-11-29/
LOCATION:Rutledge House Study Room
CATEGORIES:Chem 1601/1602,Chemistry
END:VEVENT
BEGIN:VEVENT
DTSTART;TZID=America/Chicago:20231108T190000
DTEND;TZID=America/Chicago:20231108T210000
DTSTAMP:20260425T081050
CREATED:20230909T125524Z
LAST-MODIFIED:20230911T152102Z
UID:7662-1699470000-1699477200@ctl.wustl.edu
SUMMARY:Leah_Chem 105 RPM hours
DESCRIPTION:
URL:https://ctl.wustl.edu/learningcenter/mentoring-sessions/leah_chem-105-rpm-hours-2023-09-20/2023-11-08/
LOCATION:Rutledge House Study Room
CATEGORIES:Chem 1601/1602,Chemistry
END:VEVENT
BEGIN:VEVENT
DTSTART;TZID=America/Chicago:20231025T190000
DTEND;TZID=America/Chicago:20231025T210000
DTSTAMP:20260425T081050
CREATED:20230909T125524Z
LAST-MODIFIED:20230911T152101Z
UID:7660-1698260400-1698267600@ctl.wustl.edu
SUMMARY:Leah_Chem 105 RPM hours
DESCRIPTION:
URL:https://ctl.wustl.edu/learningcenter/mentoring-sessions/leah_chem-105-rpm-hours-2023-09-20/2023-10-25/
LOCATION:Rutledge House Study Room
CATEGORIES:Chem 1601/1602,Chemistry
END:VEVENT
BEGIN:VEVENT
DTSTART;TZID=America/Chicago:20231018T190000
DTEND;TZID=America/Chicago:20231018T210000
DTSTAMP:20260425T081050
CREATED:20230909T125524Z
LAST-MODIFIED:20230911T152101Z
UID:7659-1697655600-1697662800@ctl.wustl.edu
SUMMARY:Leah_Chem 105 RPM hours
DESCRIPTION:
URL:https://ctl.wustl.edu/learningcenter/mentoring-sessions/leah_chem-105-rpm-hours-2023-09-20/2023-10-18/
LOCATION:Rutledge House Study Room
CATEGORIES:Chem 1601/1602,Chemistry
END:VEVENT
BEGIN:VEVENT
DTSTART;TZID=America/Chicago:20231011T190000
DTEND;TZID=America/Chicago:20231011T210000
DTSTAMP:20260425T081050
CREATED:20230909T125524Z
LAST-MODIFIED:20230911T152101Z
UID:7658-1697050800-1697058000@ctl.wustl.edu
SUMMARY:Leah_Chem 105 RPM hours
DESCRIPTION:
URL:https://ctl.wustl.edu/learningcenter/mentoring-sessions/leah_chem-105-rpm-hours-2023-09-20/2023-10-11/
LOCATION:Rutledge House Study Room
CATEGORIES:Chem 1601/1602,Chemistry
END:VEVENT
BEGIN:VEVENT
DTSTART;TZID=America/Chicago:20230927T190000
DTEND;TZID=America/Chicago:20230927T210000
DTSTAMP:20260425T081050
CREATED:20230909T125524Z
LAST-MODIFIED:20230911T152100Z
UID:7656-1695841200-1695848400@ctl.wustl.edu
SUMMARY:Leah_Chem 105 RPM hours
DESCRIPTION:
URL:https://ctl.wustl.edu/learningcenter/mentoring-sessions/leah_chem-105-rpm-hours-2023-09-20/2023-09-27/
LOCATION:Rutledge House Study Room
CATEGORIES:Chem 1601/1602,Chemistry
END:VEVENT
BEGIN:VEVENT
DTSTART;TZID=America/Chicago:20230913T190000
DTEND;TZID=America/Chicago:20230913T210000
DTSTAMP:20260425T081050
CREATED:20230909T125524Z
LAST-MODIFIED:20230911T161547Z
UID:7654-1694631600-1694638800@ctl.wustl.edu
SUMMARY:Leah_Chem 105 RPM hours CANCELED TODAY
DESCRIPTION:session canceled this week
URL:https://ctl.wustl.edu/learningcenter/mentoring-sessions/leah_chem-105-rpm-hours/
LOCATION:Rutledge House Study Room
CATEGORIES:Chem 1601/1602,Chemistry
END:VEVENT
BEGIN:VEVENT
DTSTART;TZID=America/Chicago:20230506T190000
DTEND;TZID=America/Chicago:20230506T210000
DTSTAMP:20260425T081050
CREATED:20230502T153735Z
LAST-MODIFIED:20230502T153735Z
UID:6727-1683399600-1683406800@ctl.wustl.edu
SUMMARY:Chem 106 RPM - Leah
DESCRIPTION:
URL:https://ctl.wustl.edu/learningcenter/mentoring-sessions/chem-106-rpm-leah/
LOCATION:Dardick House Seminar Room
CATEGORIES:Chem 1601/1602,Chemistry
END:VEVENT
BEGIN:VEVENT
DTSTART;TZID=America/Chicago:20230308T160000
DTEND;TZID=America/Chicago:20230308T170000
DTSTAMP:20260425T081050
CREATED:20230127T180408Z
LAST-MODIFIED:20230127T180408Z
UID:6374-1678291200-1678294800@ctl.wustl.edu
SUMMARY:Chem 106 RPM hours - Leah
DESCRIPTION:
URL:https://ctl.wustl.edu/learningcenter/mentoring-sessions/chem-106-rpm-hours-leah-2/2023-03-08/
LOCATION:Rutledge House Study Room
CATEGORIES:Chem 1601/1602,Chemistry
END:VEVENT
BEGIN:VEVENT
DTSTART;TZID=America/Chicago:20230201T160000
DTEND;TZID=America/Chicago:20230201T170000
DTSTAMP:20260425T081050
CREATED:20230127T180408Z
LAST-MODIFIED:20230127T180408Z
UID:6369-1675267200-1675270800@ctl.wustl.edu
SUMMARY:Chem 106 RPM hours - Leah
DESCRIPTION:
URL:https://ctl.wustl.edu/learningcenter/mentoring-sessions/chem-106-rpm-hours-leah-2/2023-02-01/
LOCATION:Rutledge House Study Room
CATEGORIES:Chem 1601/1602,Chemistry
END:VEVENT
BEGIN:VEVENT
DTSTART;TZID=America/Chicago:20230208T160000
DTEND;TZID=America/Chicago:20230208T170000
DTSTAMP:20260425T081050
CREATED:20230127T180408Z
LAST-MODIFIED:20230127T180408Z
UID:6370-1675872000-1675875600@ctl.wustl.edu
SUMMARY:Chem 106 RPM hours - Leah
DESCRIPTION:
URL:https://ctl.wustl.edu/learningcenter/mentoring-sessions/chem-106-rpm-hours-leah-2/2023-02-08/
LOCATION:Rutledge House Study Room
CATEGORIES:Chem 1601/1602,Chemistry
END:VEVENT
BEGIN:VEVENT
DTSTART;TZID=America/Chicago:20230215T160000
DTEND;TZID=America/Chicago:20230215T170000
DTSTAMP:20260425T081050
CREATED:20230127T180408Z
LAST-MODIFIED:20230127T180408Z
UID:6371-1676476800-1676480400@ctl.wustl.edu
SUMMARY:Chem 106 RPM hours - Leah
DESCRIPTION:
URL:https://ctl.wustl.edu/learningcenter/mentoring-sessions/chem-106-rpm-hours-leah-2/2023-02-15/
LOCATION:Rutledge House Study Room
CATEGORIES:Chem 1601/1602,Chemistry
END:VEVENT
BEGIN:VEVENT
DTSTART;TZID=America/Chicago:20230222T160000
DTEND;TZID=America/Chicago:20230222T170000
DTSTAMP:20260425T081050
CREATED:20230127T180408Z
LAST-MODIFIED:20230127T180408Z
UID:6372-1677081600-1677085200@ctl.wustl.edu
SUMMARY:Chem 106 RPM hours - Leah
DESCRIPTION:
URL:https://ctl.wustl.edu/learningcenter/mentoring-sessions/chem-106-rpm-hours-leah-2/2023-02-22/
LOCATION:Rutledge House Study Room
CATEGORIES:Chem 1601/1602,Chemistry
END:VEVENT
BEGIN:VEVENT
DTSTART;TZID=America/Chicago:20230301T160000
DTEND;TZID=America/Chicago:20230301T170000
DTSTAMP:20260425T081050
CREATED:20230127T180408Z
LAST-MODIFIED:20230127T180408Z
UID:6373-1677686400-1677690000@ctl.wustl.edu
SUMMARY:Chem 106 RPM hours - Leah
DESCRIPTION:
URL:https://ctl.wustl.edu/learningcenter/mentoring-sessions/chem-106-rpm-hours-leah-2/2023-03-01/
LOCATION:Rutledge House Study Room
CATEGORIES:Chem 1601/1602,Chemistry
END:VEVENT
BEGIN:VEVENT
DTSTART;TZID=America/Chicago:20230329T210000
DTEND;TZID=America/Chicago:20230329T223000
DTSTAMP:20260425T081050
CREATED:20230127T180408Z
LAST-MODIFIED:20230327T220929Z
UID:6377-1680123600-1680129000@ctl.wustl.edu
SUMMARY:Chem 106 RPM hours - Leah
DESCRIPTION:
URL:https://ctl.wustl.edu/learningcenter/mentoring-sessions/chem-106-rpm-hours-leah-2-2023-03-29/2023-03-29/
LOCATION:Gregg House – Seminar Room
CATEGORIES:Chem 1601/1602,Chemistry
END:VEVENT
BEGIN:VEVENT
DTSTART;TZID=America/Chicago:20230412T210000
DTEND;TZID=America/Chicago:20230412T223000
DTSTAMP:20260425T081050
CREATED:20230127T180408Z
LAST-MODIFIED:20230127T180408Z
UID:6689-1681333200-1681338600@ctl.wustl.edu
SUMMARY:Chem 106 RPM hours - Leah
DESCRIPTION:
URL:https://ctl.wustl.edu/learningcenter/mentoring-sessions/chem-106-rpm-hours-leah-2-2023-03-29/2023-04-12/
LOCATION:Gregg House – Seminar Room
CATEGORIES:Chem 1601/1602,Chemistry
END:VEVENT
BEGIN:VEVENT
DTSTART;TZID=America/Chicago:20230419T210000
DTEND;TZID=America/Chicago:20230419T223000
DTSTAMP:20260425T081050
CREATED:20230127T180408Z
LAST-MODIFIED:20230127T180408Z
UID:6690-1681938000-1681943400@ctl.wustl.edu
SUMMARY:Chem 106 RPM hours - Leah
DESCRIPTION:
URL:https://ctl.wustl.edu/learningcenter/mentoring-sessions/chem-106-rpm-hours-leah-2-2023-03-29/2023-04-19/
LOCATION:Gregg House – Seminar Room
CATEGORIES:Chem 1601/1602,Chemistry
END:VEVENT
BEGIN:VEVENT
DTSTART;TZID=America/Chicago:20230426T210000
DTEND;TZID=America/Chicago:20230426T223000
DTSTAMP:20260425T081050
CREATED:20230127T180408Z
LAST-MODIFIED:20230127T180408Z
UID:6691-1682542800-1682548200@ctl.wustl.edu
SUMMARY:Chem 106 RPM hours - Leah
DESCRIPTION:
URL:https://ctl.wustl.edu/learningcenter/mentoring-sessions/chem-106-rpm-hours-leah-2-2023-03-29/2023-04-26/
LOCATION:Gregg House – Seminar Room
CATEGORIES:Chem 1601/1602,Chemistry
END:VEVENT
BEGIN:VEVENT
DTSTART;TZID=America/Chicago:20230405T213000
DTEND;TZID=America/Chicago:20230405T223000
DTSTAMP:20260425T081050
CREATED:20230127T180408Z
LAST-MODIFIED:20230403T203435Z
UID:6688-1680730200-1680733800@ctl.wustl.edu
SUMMARY:(Time Updated) Chem 106 RPM hours - Leah
DESCRIPTION:
URL:https://ctl.wustl.edu/learningcenter/mentoring-sessions/chem-106-rpm-hours-leah-2-2023-03-29-2023-04-05/
LOCATION:Gregg House – Seminar Room
CATEGORIES:Chem 1601/1602,Chemistry
END:VEVENT
BEGIN:VEVENT
DTSTART;TZID=America/Chicago:20230206T190000
DTEND;TZID=America/Chicago:20230206T210000
DTSTAMP:20260425T081050
CREATED:20230127T175941Z
LAST-MODIFIED:20230201T213526Z
UID:6344-1675710000-1675717200@ctl.wustl.edu
SUMMARY:Chem 106 RPM hours - Leah
DESCRIPTION:
URL:https://ctl.wustl.edu/learningcenter/mentoring-sessions/chem-106-rpm-hours-leah-2023-02-06/
LOCATION:Liggett House Seminar Room
CATEGORIES:Chem 1601/1602,Chemistry
END:VEVENT
BEGIN:VEVENT
DTSTART;TZID=America/Chicago:20230130T190000
DTEND;TZID=America/Chicago:20230130T210000
DTSTAMP:20260425T081050
CREATED:20230127T175941Z
LAST-MODIFIED:20230127T175941Z
UID:6342-1675105200-1675112400@ctl.wustl.edu
SUMMARY:Chem 106 RPM hours - Leah
DESCRIPTION:
URL:https://ctl.wustl.edu/learningcenter/mentoring-sessions/chem-106-rpm-hours-leah/2023-01-30/
LOCATION:Dardick House Seminar Room
CATEGORIES:Chem 1601/1602,Chemistry
END:VEVENT
BEGIN:VEVENT
DTSTART;TZID=America/Chicago:20230424T190000
DTEND;TZID=America/Chicago:20230424T210000
DTSTAMP:20260425T081050
CREATED:20230127T175941Z
LAST-MODIFIED:20230127T175941Z
UID:6355-1682362800-1682370000@ctl.wustl.edu
SUMMARY:Chem 106 RPM hours - Leah
DESCRIPTION:
URL:https://ctl.wustl.edu/learningcenter/mentoring-sessions/chem-106-rpm-hours-leah/2023-04-24/
LOCATION:Dardick House Seminar Room
CATEGORIES:Chem 1601/1602,Chemistry
END:VEVENT
BEGIN:VEVENT
DTSTART;TZID=America/Chicago:20230410T190000
DTEND;TZID=America/Chicago:20230410T210000
DTSTAMP:20260425T081050
CREATED:20230127T175941Z
LAST-MODIFIED:20230127T175941Z
UID:6353-1681153200-1681160400@ctl.wustl.edu
SUMMARY:Chem 106 RPM hours - Leah
DESCRIPTION:
URL:https://ctl.wustl.edu/learningcenter/mentoring-sessions/chem-106-rpm-hours-leah/2023-04-10/
LOCATION:Dardick House Seminar Room
CATEGORIES:Chem 1601/1602,Chemistry
END:VEVENT
END:VCALENDAR