BEGIN:VCALENDAR
VERSION:2.0
PRODID:-//The Learning Center - ECPv6.15.16.1//NONSGML v1.0//EN
CALSCALE:GREGORIAN
METHOD:PUBLISH
X-WR-CALNAME:The Learning Center
X-ORIGINAL-URL:https://ctl.wustl.edu/learningcenter
X-WR-CALDESC:Events for The Learning Center
REFRESH-INTERVAL;VALUE=DURATION:PT1H
X-Robots-Tag:noindex
X-PUBLISHED-TTL:PT1H
BEGIN:VTIMEZONE
TZID:America/Chicago
BEGIN:DAYLIGHT
TZOFFSETFROM:-0600
TZOFFSETTO:-0500
TZNAME:CDT
DTSTART:20210314T080000
END:DAYLIGHT
BEGIN:STANDARD
TZOFFSETFROM:-0500
TZOFFSETTO:-0600
TZNAME:CST
DTSTART:20211107T070000
END:STANDARD
BEGIN:DAYLIGHT
TZOFFSETFROM:-0600
TZOFFSETTO:-0500
TZNAME:CDT
DTSTART:20220313T080000
END:DAYLIGHT
BEGIN:STANDARD
TZOFFSETFROM:-0500
TZOFFSETTO:-0600
TZNAME:CST
DTSTART:20221106T070000
END:STANDARD
BEGIN:DAYLIGHT
TZOFFSETFROM:-0600
TZOFFSETTO:-0500
TZNAME:CDT
DTSTART:20230312T080000
END:DAYLIGHT
BEGIN:STANDARD
TZOFFSETFROM:-0500
TZOFFSETTO:-0600
TZNAME:CST
DTSTART:20231105T070000
END:STANDARD
BEGIN:DAYLIGHT
TZOFFSETFROM:-0600
TZOFFSETTO:-0500
TZNAME:CDT
DTSTART:20240310T080000
END:DAYLIGHT
BEGIN:STANDARD
TZOFFSETFROM:-0500
TZOFFSETTO:-0600
TZNAME:CST
DTSTART:20241103T070000
END:STANDARD
END:VTIMEZONE
BEGIN:VEVENT
DTSTART;TZID=America/Chicago:20230201T160000
DTEND;TZID=America/Chicago:20230201T180000
DTSTAMP:20260421T154945
CREATED:20230131T175748Z
LAST-MODIFIED:20230131T180144Z
UID:6565-1675267200-1675274400@ctl.wustl.edu
SUMMARY:Matrix Algebra Drop-In - Lidya
DESCRIPTION:
URL:https://ctl.wustl.edu/learningcenter/mentoring-sessions/matrix-algebra-drop-in-lidya/2023-02-01/
LOCATION:Eads 112
CATEGORIES:Mathematics,Matrix Algebra
END:VEVENT
BEGIN:VEVENT
DTSTART;TZID=America/Chicago:20230426T160000
DTEND;TZID=America/Chicago:20230426T180000
DTSTAMP:20260421T154945
CREATED:20230131T175748Z
LAST-MODIFIED:20230131T180154Z
UID:6578-1682524800-1682532000@ctl.wustl.edu
SUMMARY:Matrix Algebra Drop-In - Lidya
DESCRIPTION:
URL:https://ctl.wustl.edu/learningcenter/mentoring-sessions/matrix-algebra-drop-in-lidya/2023-04-26/
LOCATION:Eads 112
CATEGORIES:Mathematics,Matrix Algebra
END:VEVENT
BEGIN:VEVENT
DTSTART;TZID=America/Chicago:20230412T160000
DTEND;TZID=America/Chicago:20230412T180000
DTSTAMP:20260421T154945
CREATED:20230131T175748Z
LAST-MODIFIED:20230131T180151Z
UID:6576-1681315200-1681322400@ctl.wustl.edu
SUMMARY:Matrix Algebra Drop-In - Lidya
DESCRIPTION:
URL:https://ctl.wustl.edu/learningcenter/mentoring-sessions/matrix-algebra-drop-in-lidya/2023-04-12/
LOCATION:Eads 112
CATEGORIES:Mathematics,Matrix Algebra
END:VEVENT
BEGIN:VEVENT
DTSTART;TZID=America/Chicago:20230405T160000
DTEND;TZID=America/Chicago:20230405T180000
DTSTAMP:20260421T154945
CREATED:20230131T175748Z
LAST-MODIFIED:20230131T180150Z
UID:6575-1680710400-1680717600@ctl.wustl.edu
SUMMARY:Matrix Algebra Drop-In - Lidya
DESCRIPTION:
URL:https://ctl.wustl.edu/learningcenter/mentoring-sessions/matrix-algebra-drop-in-lidya/2023-04-05/
LOCATION:Eads 112
CATEGORIES:Mathematics,Matrix Algebra
END:VEVENT
BEGIN:VEVENT
DTSTART;TZID=America/Chicago:20230329T160000
DTEND;TZID=America/Chicago:20230329T180000
DTSTAMP:20260421T154945
CREATED:20230131T175748Z
LAST-MODIFIED:20230131T180149Z
UID:6574-1680105600-1680112800@ctl.wustl.edu
SUMMARY:Matrix Algebra Drop-In - Lidya
DESCRIPTION:
URL:https://ctl.wustl.edu/learningcenter/mentoring-sessions/matrix-algebra-drop-in-lidya/2023-03-29/
LOCATION:Eads 112
CATEGORIES:Mathematics,Matrix Algebra
END:VEVENT
BEGIN:VEVENT
DTSTART;TZID=America/Chicago:20230322T160000
DTEND;TZID=America/Chicago:20230322T180000
DTSTAMP:20260421T154945
CREATED:20230131T175748Z
LAST-MODIFIED:20230131T180148Z
UID:6573-1679500800-1679508000@ctl.wustl.edu
SUMMARY:Matrix Algebra Drop-In - Lidya
DESCRIPTION:
URL:https://ctl.wustl.edu/learningcenter/mentoring-sessions/matrix-algebra-drop-in-lidya/2023-03-22/
LOCATION:Eads 112
CATEGORIES:Mathematics,Matrix Algebra
END:VEVENT
BEGIN:VEVENT
DTSTART;TZID=America/Chicago:20230308T160000
DTEND;TZID=America/Chicago:20230308T180000
DTSTAMP:20260421T154945
CREATED:20230131T175748Z
LAST-MODIFIED:20230131T180147Z
UID:6571-1678291200-1678298400@ctl.wustl.edu
SUMMARY:Matrix Algebra Drop-In - Lidya
DESCRIPTION:
URL:https://ctl.wustl.edu/learningcenter/mentoring-sessions/matrix-algebra-drop-in-lidya/2023-03-08/
LOCATION:Eads 112
CATEGORIES:Mathematics,Matrix Algebra
END:VEVENT
BEGIN:VEVENT
DTSTART;TZID=America/Chicago:20230301T160000
DTEND;TZID=America/Chicago:20230301T180000
DTSTAMP:20260421T154945
CREATED:20230131T175748Z
LAST-MODIFIED:20230131T180147Z
UID:6570-1677686400-1677693600@ctl.wustl.edu
SUMMARY:Matrix Algebra Drop-In - Lidya
DESCRIPTION:
URL:https://ctl.wustl.edu/learningcenter/mentoring-sessions/matrix-algebra-drop-in-lidya/2023-03-01/
LOCATION:Eads 112
CATEGORIES:Mathematics,Matrix Algebra
END:VEVENT
BEGIN:VEVENT
DTSTART;TZID=America/Chicago:20230222T160000
DTEND;TZID=America/Chicago:20230222T180000
DTSTAMP:20260421T154945
CREATED:20230131T175748Z
LAST-MODIFIED:20230131T180146Z
UID:6569-1677081600-1677088800@ctl.wustl.edu
SUMMARY:Matrix Algebra Drop-In - Lidya
DESCRIPTION:
URL:https://ctl.wustl.edu/learningcenter/mentoring-sessions/matrix-algebra-drop-in-lidya/2023-02-22/
LOCATION:Eads 112
CATEGORIES:Mathematics,Matrix Algebra
END:VEVENT
BEGIN:VEVENT
DTSTART;TZID=America/Chicago:20230215T160000
DTEND;TZID=America/Chicago:20230215T180000
DTSTAMP:20260421T154945
CREATED:20230131T175748Z
LAST-MODIFIED:20230131T180145Z
UID:6568-1676476800-1676484000@ctl.wustl.edu
SUMMARY:Matrix Algebra Drop-In - Lidya
DESCRIPTION:
URL:https://ctl.wustl.edu/learningcenter/mentoring-sessions/matrix-algebra-drop-in-lidya/2023-02-15/
LOCATION:Eads 112
CATEGORIES:Mathematics,Matrix Algebra
END:VEVENT
BEGIN:VEVENT
DTSTART;TZID=America/Chicago:20230208T160000
DTEND;TZID=America/Chicago:20230208T180000
DTSTAMP:20260421T154945
CREATED:20230131T175748Z
LAST-MODIFIED:20230131T180145Z
UID:6567-1675872000-1675879200@ctl.wustl.edu
SUMMARY:Matrix Algebra Drop-In - Lidya
DESCRIPTION:
URL:https://ctl.wustl.edu/learningcenter/mentoring-sessions/matrix-algebra-drop-in-lidya/2023-02-08/
LOCATION:Eads 112
CATEGORIES:Mathematics,Matrix Algebra
END:VEVENT
BEGIN:VEVENT
DTSTART;TZID=America/Chicago:20220912T170000
DTEND;TZID=America/Chicago:20220912T190000
DTSTAMP:20260421T154945
CREATED:20220908T162618Z
LAST-MODIFIED:20220919T163550Z
UID:4759-1663002000-1663009200@ctl.wustl.edu
SUMMARY:Matrix Algebra - Lidya's Mentoring Hours
DESCRIPTION:Session located in Simon 017 \nDrop-in Academic Mentoring and Residential Peer Mentoring (RPM) hours are open to all students in the course. Sessions are unstructured and informal – you can come and go at any point\, and you are welcome to make use of mentoring hours whether you have a specific question\, want to review concepts\, or are just looking for a regular time and place each week to focus on work for the class.
URL:https://ctl.wustl.edu/learningcenter/mentoring-sessions/matrix-algebra-lidyas-mentoring-hours/2022-09-12/
LOCATION:Simon 017
CATEGORIES:Mathematics,Matrix Algebra
END:VEVENT
BEGIN:VEVENT
DTSTART;TZID=America/Chicago:20221121T170000
DTEND;TZID=America/Chicago:20221121T190000
DTSTAMP:20260421T154945
CREATED:20220908T162618Z
LAST-MODIFIED:20220919T163553Z
UID:4770-1669050000-1669057200@ctl.wustl.edu
SUMMARY:Matrix Algebra - Lidya's Mentoring Hours
DESCRIPTION:Session located in Simon 017 \nDrop-in Academic Mentoring and Residential Peer Mentoring (RPM) hours are open to all students in the course. Sessions are unstructured and informal – you can come and go at any point\, and you are welcome to make use of mentoring hours whether you have a specific question\, want to review concepts\, or are just looking for a regular time and place each week to focus on work for the class.
URL:https://ctl.wustl.edu/learningcenter/mentoring-sessions/matrix-algebra-lidyas-mentoring-hours/2022-11-21/
LOCATION:Simon 017
CATEGORIES:Mathematics,Matrix Algebra
END:VEVENT
BEGIN:VEVENT
DTSTART;TZID=America/Chicago:20221107T170000
DTEND;TZID=America/Chicago:20221107T190000
DTSTAMP:20260421T154945
CREATED:20220908T162618Z
LAST-MODIFIED:20220919T163553Z
UID:4768-1667840400-1667847600@ctl.wustl.edu
SUMMARY:Matrix Algebra - Lidya's Mentoring Hours
DESCRIPTION:Session located in Simon 017 \nDrop-in Academic Mentoring and Residential Peer Mentoring (RPM) hours are open to all students in the course. Sessions are unstructured and informal – you can come and go at any point\, and you are welcome to make use of mentoring hours whether you have a specific question\, want to review concepts\, or are just looking for a regular time and place each week to focus on work for the class.
URL:https://ctl.wustl.edu/learningcenter/mentoring-sessions/matrix-algebra-lidyas-mentoring-hours/2022-11-07/
LOCATION:Simon 017
CATEGORIES:Mathematics,Matrix Algebra
END:VEVENT
BEGIN:VEVENT
DTSTART;TZID=America/Chicago:20221031T170000
DTEND;TZID=America/Chicago:20221031T190000
DTSTAMP:20260421T154945
CREATED:20220908T162618Z
LAST-MODIFIED:20220919T163552Z
UID:4767-1667235600-1667242800@ctl.wustl.edu
SUMMARY:Matrix Algebra - Lidya's Mentoring Hours
DESCRIPTION:Session located in Simon 017 \nDrop-in Academic Mentoring and Residential Peer Mentoring (RPM) hours are open to all students in the course. Sessions are unstructured and informal – you can come and go at any point\, and you are welcome to make use of mentoring hours whether you have a specific question\, want to review concepts\, or are just looking for a regular time and place each week to focus on work for the class.
URL:https://ctl.wustl.edu/learningcenter/mentoring-sessions/matrix-algebra-lidyas-mentoring-hours/2022-10-31/
LOCATION:Simon 017
CATEGORIES:Mathematics,Matrix Algebra
END:VEVENT
BEGIN:VEVENT
DTSTART;TZID=America/Chicago:20221024T170000
DTEND;TZID=America/Chicago:20221024T190000
DTSTAMP:20260421T154945
CREATED:20220908T162618Z
LAST-MODIFIED:20220919T163552Z
UID:4766-1666630800-1666638000@ctl.wustl.edu
SUMMARY:Matrix Algebra - Lidya's Mentoring Hours
DESCRIPTION:Session located in Simon 017 \nDrop-in Academic Mentoring and Residential Peer Mentoring (RPM) hours are open to all students in the course. Sessions are unstructured and informal – you can come and go at any point\, and you are welcome to make use of mentoring hours whether you have a specific question\, want to review concepts\, or are just looking for a regular time and place each week to focus on work for the class.
URL:https://ctl.wustl.edu/learningcenter/mentoring-sessions/matrix-algebra-lidyas-mentoring-hours/2022-10-24/
LOCATION:Simon 017
CATEGORIES:Mathematics,Matrix Algebra
END:VEVENT
BEGIN:VEVENT
DTSTART;TZID=America/Chicago:20221017T170000
DTEND;TZID=America/Chicago:20221017T190000
DTSTAMP:20260421T154945
CREATED:20220908T162618Z
LAST-MODIFIED:20220919T163552Z
UID:4765-1666026000-1666033200@ctl.wustl.edu
SUMMARY:Matrix Algebra - Lidya's Mentoring Hours
DESCRIPTION:Session located in Simon 017 \nDrop-in Academic Mentoring and Residential Peer Mentoring (RPM) hours are open to all students in the course. Sessions are unstructured and informal – you can come and go at any point\, and you are welcome to make use of mentoring hours whether you have a specific question\, want to review concepts\, or are just looking for a regular time and place each week to focus on work for the class.
URL:https://ctl.wustl.edu/learningcenter/mentoring-sessions/matrix-algebra-lidyas-mentoring-hours/2022-10-17/
LOCATION:Simon 017
CATEGORIES:Mathematics,Matrix Algebra
END:VEVENT
BEGIN:VEVENT
DTSTART;TZID=America/Chicago:20221003T170000
DTEND;TZID=America/Chicago:20221003T190000
DTSTAMP:20260421T154945
CREATED:20220908T162618Z
LAST-MODIFIED:20220919T163551Z
UID:4763-1664816400-1664823600@ctl.wustl.edu
SUMMARY:Matrix Algebra - Lidya's Mentoring Hours
DESCRIPTION:Session located in Simon 017 \nDrop-in Academic Mentoring and Residential Peer Mentoring (RPM) hours are open to all students in the course. Sessions are unstructured and informal – you can come and go at any point\, and you are welcome to make use of mentoring hours whether you have a specific question\, want to review concepts\, or are just looking for a regular time and place each week to focus on work for the class.
URL:https://ctl.wustl.edu/learningcenter/mentoring-sessions/matrix-algebra-lidyas-mentoring-hours/2022-10-03/
LOCATION:Simon 017
CATEGORIES:Mathematics,Matrix Algebra
END:VEVENT
BEGIN:VEVENT
DTSTART;TZID=America/Chicago:20220926T170000
DTEND;TZID=America/Chicago:20220926T190000
DTSTAMP:20260421T154945
CREATED:20220908T162618Z
LAST-MODIFIED:20220919T163551Z
UID:4762-1664211600-1664218800@ctl.wustl.edu
SUMMARY:Matrix Algebra - Lidya's Mentoring Hours
DESCRIPTION:Session located in Simon 017 \nDrop-in Academic Mentoring and Residential Peer Mentoring (RPM) hours are open to all students in the course. Sessions are unstructured and informal – you can come and go at any point\, and you are welcome to make use of mentoring hours whether you have a specific question\, want to review concepts\, or are just looking for a regular time and place each week to focus on work for the class.
URL:https://ctl.wustl.edu/learningcenter/mentoring-sessions/matrix-algebra-lidyas-mentoring-hours/2022-09-26/
LOCATION:Simon 017
CATEGORIES:Mathematics,Matrix Algebra
END:VEVENT
BEGIN:VEVENT
DTSTART;TZID=America/Chicago:20220919T170000
DTEND;TZID=America/Chicago:20220919T190000
DTSTAMP:20260421T154945
CREATED:20220908T162618Z
LAST-MODIFIED:20220919T163550Z
UID:4761-1663606800-1663614000@ctl.wustl.edu
SUMMARY:Matrix Algebra - Lidya's Mentoring Hours
DESCRIPTION:Session located in Simon 017 \nDrop-in Academic Mentoring and Residential Peer Mentoring (RPM) hours are open to all students in the course. Sessions are unstructured and informal – you can come and go at any point\, and you are welcome to make use of mentoring hours whether you have a specific question\, want to review concepts\, or are just looking for a regular time and place each week to focus on work for the class.
URL:https://ctl.wustl.edu/learningcenter/mentoring-sessions/matrix-algebra-lidyas-mentoring-hours/2022-09-19/
LOCATION:Simon 017
CATEGORIES:Mathematics,Matrix Algebra
END:VEVENT
BEGIN:VEVENT
DTSTART;TZID=America/Chicago:20221205T170000
DTEND;TZID=America/Chicago:20221205T190000
DTSTAMP:20260421T154945
CREATED:20220908T162618Z
LAST-MODIFIED:20220908T172142Z
UID:4772-1670259600-1670266800@ctl.wustl.edu
SUMMARY:Matrix Algebra - Lidya's Mentoring Hours
DESCRIPTION:Location to be determined. \nDrop-in Academic Mentoring and Residential Peer Mentoring (RPM) hours are open to all students in the course. Sessions are unstructured and informal – you can come and go at any point\, and you are welcome to make use of mentoring hours whether you have a specific question\, want to review concepts\, or are just looking for a regular time and place each week to focus on work for the class.
URL:https://ctl.wustl.edu/learningcenter/mentoring-sessions/matrix-algebra-lidyas-mentoring-hours/2022-12-05/
LOCATION:Location to be determined.
CATEGORIES:Mathematics,Matrix Algebra
END:VEVENT
BEGIN:VEVENT
DTSTART;TZID=America/Chicago:20221128T170000
DTEND;TZID=America/Chicago:20221128T190000
DTSTAMP:20260421T154945
CREATED:20220908T162618Z
LAST-MODIFIED:20220908T172142Z
UID:4771-1669654800-1669662000@ctl.wustl.edu
SUMMARY:Matrix Algebra - Lidya's Mentoring Hours
DESCRIPTION:Location to be determined. \nDrop-in Academic Mentoring and Residential Peer Mentoring (RPM) hours are open to all students in the course. Sessions are unstructured and informal – you can come and go at any point\, and you are welcome to make use of mentoring hours whether you have a specific question\, want to review concepts\, or are just looking for a regular time and place each week to focus on work for the class.
URL:https://ctl.wustl.edu/learningcenter/mentoring-sessions/matrix-algebra-lidyas-mentoring-hours/2022-11-28/
LOCATION:Location to be determined.
CATEGORIES:Mathematics,Matrix Algebra
END:VEVENT
END:VCALENDAR