BEGIN:VCALENDAR
VERSION:2.0
PRODID:-//The Learning Center - ECPv6.15.16.1//NONSGML v1.0//EN
CALSCALE:GREGORIAN
METHOD:PUBLISH
X-WR-CALNAME:The Learning Center
X-ORIGINAL-URL:https://ctl.wustl.edu/learningcenter
X-WR-CALDESC:Events for The Learning Center
REFRESH-INTERVAL;VALUE=DURATION:PT1H
X-Robots-Tag:noindex
X-PUBLISHED-TTL:PT1H
BEGIN:VTIMEZONE
TZID:America/Chicago
BEGIN:DAYLIGHT
TZOFFSETFROM:-0600
TZOFFSETTO:-0500
TZNAME:CDT
DTSTART:20210314T080000
END:DAYLIGHT
BEGIN:STANDARD
TZOFFSETFROM:-0500
TZOFFSETTO:-0600
TZNAME:CST
DTSTART:20211107T070000
END:STANDARD
BEGIN:DAYLIGHT
TZOFFSETFROM:-0600
TZOFFSETTO:-0500
TZNAME:CDT
DTSTART:20220313T080000
END:DAYLIGHT
BEGIN:STANDARD
TZOFFSETFROM:-0500
TZOFFSETTO:-0600
TZNAME:CST
DTSTART:20221106T070000
END:STANDARD
BEGIN:DAYLIGHT
TZOFFSETFROM:-0600
TZOFFSETTO:-0500
TZNAME:CDT
DTSTART:20230312T080000
END:DAYLIGHT
BEGIN:STANDARD
TZOFFSETFROM:-0500
TZOFFSETTO:-0600
TZNAME:CST
DTSTART:20231105T070000
END:STANDARD
BEGIN:DAYLIGHT
TZOFFSETFROM:-0600
TZOFFSETTO:-0500
TZNAME:CDT
DTSTART:20240310T080000
END:DAYLIGHT
BEGIN:STANDARD
TZOFFSETFROM:-0500
TZOFFSETTO:-0600
TZNAME:CST
DTSTART:20241103T070000
END:STANDARD
END:VTIMEZONE
BEGIN:VEVENT
DTSTART;TZID=America/Chicago:20230215T190000
DTEND;TZID=America/Chicago:20230215T220000
DTSTAMP:20260424T173648
CREATED:20230127T180722Z
LAST-MODIFIED:20230127T180722Z
UID:6397-1676487600-1676498400@ctl.wustl.edu
SUMMARY:Chem 106 RPM hours - Mahsheeb
DESCRIPTION:
URL:https://ctl.wustl.edu/learningcenter/mentoring-sessions/chem-106-rpm-hours-mahsheeb-2/2023-02-15/
LOCATION:Thomas Eliot Seminar Room
CATEGORIES:Chem 1601/1602,Chemistry
END:VEVENT
BEGIN:VEVENT
DTSTART;TZID=America/Chicago:20230201T190000
DTEND;TZID=America/Chicago:20230201T220000
DTSTAMP:20260424T173648
CREATED:20230127T180722Z
LAST-MODIFIED:20230127T180722Z
UID:6395-1675278000-1675288800@ctl.wustl.edu
SUMMARY:Chem 106 RPM hours - Mahsheeb
DESCRIPTION:
URL:https://ctl.wustl.edu/learningcenter/mentoring-sessions/chem-106-rpm-hours-mahsheeb-2/2023-02-01/
LOCATION:Thomas Eliot Seminar Room
CATEGORIES:Chem 1601/1602,Chemistry
END:VEVENT
BEGIN:VEVENT
DTSTART;TZID=America/Chicago:20230206T210000
DTEND;TZID=America/Chicago:20230206T230000
DTSTAMP:20260424T173648
CREATED:20230127T180211Z
LAST-MODIFIED:20230201T213413Z
UID:6357-1675717200-1675724400@ctl.wustl.edu
SUMMARY:Chem 106 RPM hours - Mahsheeb
DESCRIPTION:
URL:https://ctl.wustl.edu/learningcenter/mentoring-sessions/chem-106-rpm-hours-mahsheeb-2023-02-06/
LOCATION:Liggett House Seminar Room
CATEGORIES:Chem 1601/1602,Chemistry
END:VEVENT
BEGIN:VEVENT
DTSTART;TZID=America/Chicago:20230130T210000
DTEND;TZID=America/Chicago:20230130T230000
DTSTAMP:20260424T173648
CREATED:20230127T180211Z
LAST-MODIFIED:20230127T180211Z
UID:6356-1675112400-1675119600@ctl.wustl.edu
SUMMARY:Chem 106 RPM hours - Mahsheeb
DESCRIPTION:
URL:https://ctl.wustl.edu/learningcenter/mentoring-sessions/chem-106-rpm-hours-mahsheeb/2023-01-30/
LOCATION:Dardick House Seminar Room
CATEGORIES:Chem 1601/1602,Chemistry
END:VEVENT
BEGIN:VEVENT
DTSTART;TZID=America/Chicago:20230213T210000
DTEND;TZID=America/Chicago:20230213T230000
DTSTAMP:20260424T173648
CREATED:20230127T180211Z
LAST-MODIFIED:20230127T180211Z
UID:6358-1676322000-1676329200@ctl.wustl.edu
SUMMARY:Chem 106 RPM hours - Mahsheeb
DESCRIPTION:
URL:https://ctl.wustl.edu/learningcenter/mentoring-sessions/chem-106-rpm-hours-mahsheeb/2023-02-13/
LOCATION:Dardick House Seminar Room
CATEGORIES:Chem 1601/1602,Chemistry
END:VEVENT
BEGIN:VEVENT
DTSTART;TZID=America/Chicago:20230220T210000
DTEND;TZID=America/Chicago:20230220T230000
DTSTAMP:20260424T173648
CREATED:20230127T180211Z
LAST-MODIFIED:20230127T180211Z
UID:6359-1676926800-1676934000@ctl.wustl.edu
SUMMARY:Chem 106 RPM hours - Mahsheeb
DESCRIPTION:
URL:https://ctl.wustl.edu/learningcenter/mentoring-sessions/chem-106-rpm-hours-mahsheeb/2023-02-20/
LOCATION:Dardick House Seminar Room
CATEGORIES:Chem 1601/1602,Chemistry
END:VEVENT
BEGIN:VEVENT
DTSTART;TZID=America/Chicago:20230227T210000
DTEND;TZID=America/Chicago:20230227T230000
DTSTAMP:20260424T173648
CREATED:20230127T180211Z
LAST-MODIFIED:20230127T180211Z
UID:6360-1677531600-1677538800@ctl.wustl.edu
SUMMARY:Chem 106 RPM hours - Mahsheeb
DESCRIPTION:
URL:https://ctl.wustl.edu/learningcenter/mentoring-sessions/chem-106-rpm-hours-mahsheeb/2023-02-27/
LOCATION:Dardick House Seminar Room
CATEGORIES:Chem 1601/1602,Chemistry
END:VEVENT
BEGIN:VEVENT
DTSTART;TZID=America/Chicago:20230306T210000
DTEND;TZID=America/Chicago:20230306T230000
DTSTAMP:20260424T173648
CREATED:20230127T180211Z
LAST-MODIFIED:20230127T180211Z
UID:6361-1678136400-1678143600@ctl.wustl.edu
SUMMARY:Chem 106 RPM hours - Mahsheeb
DESCRIPTION:
URL:https://ctl.wustl.edu/learningcenter/mentoring-sessions/chem-106-rpm-hours-mahsheeb/2023-03-06/
LOCATION:Dardick House Seminar Room
CATEGORIES:Chem 1601/1602,Chemistry
END:VEVENT
BEGIN:VEVENT
DTSTART;TZID=America/Chicago:20230403T210000
DTEND;TZID=America/Chicago:20230403T230000
DTSTAMP:20260424T173648
CREATED:20230127T180211Z
LAST-MODIFIED:20230127T180211Z
UID:6365-1680555600-1680562800@ctl.wustl.edu
SUMMARY:Chem 106 RPM hours - Mahsheeb
DESCRIPTION:
URL:https://ctl.wustl.edu/learningcenter/mentoring-sessions/chem-106-rpm-hours-mahsheeb/2023-04-03/
LOCATION:Dardick House Seminar Room
CATEGORIES:Chem 1601/1602,Chemistry
END:VEVENT
BEGIN:VEVENT
DTSTART;TZID=America/Chicago:20230410T210000
DTEND;TZID=America/Chicago:20230410T230000
DTSTAMP:20260424T173648
CREATED:20230127T180211Z
LAST-MODIFIED:20230127T180211Z
UID:6366-1681160400-1681167600@ctl.wustl.edu
SUMMARY:Chem 106 RPM hours - Mahsheeb
DESCRIPTION:
URL:https://ctl.wustl.edu/learningcenter/mentoring-sessions/chem-106-rpm-hours-mahsheeb/2023-04-10/
LOCATION:Dardick House Seminar Room
CATEGORIES:Chem 1601/1602,Chemistry
END:VEVENT
BEGIN:VEVENT
DTSTART;TZID=America/Chicago:20230425T190000
DTEND;TZID=America/Chicago:20230425T220000
DTSTAMP:20260424T173648
CREATED:20230127T180211Z
LAST-MODIFIED:20230424T204544Z
UID:6368-1682449200-1682460000@ctl.wustl.edu
SUMMARY:(Changed date and time) Chem 106 RPM hours - Mahsheeb
DESCRIPTION:
URL:https://ctl.wustl.edu/learningcenter/mentoring-sessions/chem-106-rpm-hours-mahsheeb-2023-04-24/
LOCATION:Dardick House Seminar Room
CATEGORIES:Chem 1601/1602,Chemistry
END:VEVENT
BEGIN:VEVENT
DTSTART;TZID=America/Chicago:20230327T210000
DTEND;TZID=America/Chicago:20230327T230000
DTSTAMP:20260424T173648
CREATED:20230127T180211Z
LAST-MODIFIED:20230127T180211Z
UID:6364-1679950800-1679958000@ctl.wustl.edu
SUMMARY:Chem 106 RPM hours - Mahsheeb
DESCRIPTION:
URL:https://ctl.wustl.edu/learningcenter/mentoring-sessions/chem-106-rpm-hours-mahsheeb/2023-03-27/
LOCATION:Dardick House Seminar Room
CATEGORIES:Chem 1601/1602,Chemistry
END:VEVENT
BEGIN:VEVENT
DTSTART;TZID=America/Chicago:20221216T170000
DTEND;TZID=America/Chicago:20221216T210000
DTSTAMP:20260424T173648
CREATED:20221216T161143Z
LAST-MODIFIED:20221216T161143Z
UID:5805-1671210000-1671224400@ctl.wustl.edu
SUMMARY:Chem 105 - Mahsheeb's RPM Hours
DESCRIPTION:
URL:https://ctl.wustl.edu/learningcenter/mentoring-sessions/chem-105-mahsheebs-rpm-hours/
LOCATION:Thomas Eliot Seminar Room
CATEGORIES:Chem 1601/1602,Chemistry
END:VEVENT
BEGIN:VEVENT
DTSTART;TZID=America/Chicago:20221116T190000
DTEND;TZID=America/Chicago:20221116T210000
DTSTAMP:20260424T173648
CREATED:20220913T154719Z
LAST-MODIFIED:20220913T154719Z
UID:5414-1668625200-1668632400@ctl.wustl.edu
SUMMARY:Chem 105 RPM - Mahsheeb's Mentoring Sessions
DESCRIPTION:Thomas Eliot Seminar Room \nDrop-in Academic Mentoring and Residential Peer Mentoring (RPM) hours are open to all students in the course. Sessions are unstructured and informal – you can come and go at any point\, and you are welcome to make use of mentoring hours whether you have a specific question\, want to review concepts\, or are just looking for a regular time and place each week to focus on work for the class.
URL:https://ctl.wustl.edu/learningcenter/mentoring-sessions/chem-105-rpm-mahsheebs-mentoring-sessions/2022-11-16/
LOCATION:Thomas Eliot Seminar Room
CATEGORIES:Chem 1601/1602,Chemistry
END:VEVENT
BEGIN:VEVENT
DTSTART;TZID=America/Chicago:20220914T190000
DTEND;TZID=America/Chicago:20220914T210000
DTSTAMP:20260424T173648
CREATED:20220913T154719Z
LAST-MODIFIED:20220913T154719Z
UID:5404-1663182000-1663189200@ctl.wustl.edu
SUMMARY:Chem 105 RPM - Mahsheeb's Mentoring Sessions
DESCRIPTION:Thomas Eliot Seminar Room \nDrop-in Academic Mentoring and Residential Peer Mentoring (RPM) hours are open to all students in the course. Sessions are unstructured and informal – you can come and go at any point\, and you are welcome to make use of mentoring hours whether you have a specific question\, want to review concepts\, or are just looking for a regular time and place each week to focus on work for the class.
URL:https://ctl.wustl.edu/learningcenter/mentoring-sessions/chem-105-rpm-mahsheebs-mentoring-sessions/2022-09-14/
LOCATION:Thomas Eliot Seminar Room
CATEGORIES:Chem 1601/1602,Chemistry
END:VEVENT
BEGIN:VEVENT
DTSTART;TZID=America/Chicago:20220921T190000
DTEND;TZID=America/Chicago:20220921T210000
DTSTAMP:20260424T173648
CREATED:20220913T154719Z
LAST-MODIFIED:20220913T154719Z
UID:5406-1663786800-1663794000@ctl.wustl.edu
SUMMARY:Chem 105 RPM - Mahsheeb's Mentoring Sessions
DESCRIPTION:Thomas Eliot Seminar Room \nDrop-in Academic Mentoring and Residential Peer Mentoring (RPM) hours are open to all students in the course. Sessions are unstructured and informal – you can come and go at any point\, and you are welcome to make use of mentoring hours whether you have a specific question\, want to review concepts\, or are just looking for a regular time and place each week to focus on work for the class.
URL:https://ctl.wustl.edu/learningcenter/mentoring-sessions/chem-105-rpm-mahsheebs-mentoring-sessions/2022-09-21/
LOCATION:Thomas Eliot Seminar Room
CATEGORIES:Chem 1601/1602,Chemistry
END:VEVENT
BEGIN:VEVENT
DTSTART;TZID=America/Chicago:20220928T190000
DTEND;TZID=America/Chicago:20220928T210000
DTSTAMP:20260424T173648
CREATED:20220913T154719Z
LAST-MODIFIED:20220913T154719Z
UID:5407-1664391600-1664398800@ctl.wustl.edu
SUMMARY:Chem 105 RPM - Mahsheeb's Mentoring Sessions
DESCRIPTION:Thomas Eliot Seminar Room \nDrop-in Academic Mentoring and Residential Peer Mentoring (RPM) hours are open to all students in the course. Sessions are unstructured and informal – you can come and go at any point\, and you are welcome to make use of mentoring hours whether you have a specific question\, want to review concepts\, or are just looking for a regular time and place each week to focus on work for the class.
URL:https://ctl.wustl.edu/learningcenter/mentoring-sessions/chem-105-rpm-mahsheebs-mentoring-sessions/2022-09-28/
LOCATION:Thomas Eliot Seminar Room
CATEGORIES:Chem 1601/1602,Chemistry
END:VEVENT
BEGIN:VEVENT
DTSTART;TZID=America/Chicago:20221012T190000
DTEND;TZID=America/Chicago:20221012T210000
DTSTAMP:20260424T173648
CREATED:20220913T154719Z
LAST-MODIFIED:20220913T154719Z
UID:5409-1665601200-1665608400@ctl.wustl.edu
SUMMARY:Chem 105 RPM - Mahsheeb's Mentoring Sessions
DESCRIPTION:Thomas Eliot Seminar Room \nDrop-in Academic Mentoring and Residential Peer Mentoring (RPM) hours are open to all students in the course. Sessions are unstructured and informal – you can come and go at any point\, and you are welcome to make use of mentoring hours whether you have a specific question\, want to review concepts\, or are just looking for a regular time and place each week to focus on work for the class.
URL:https://ctl.wustl.edu/learningcenter/mentoring-sessions/chem-105-rpm-mahsheebs-mentoring-sessions/2022-10-12/
LOCATION:Thomas Eliot Seminar Room
CATEGORIES:Chem 1601/1602,Chemistry
END:VEVENT
BEGIN:VEVENT
DTSTART;TZID=America/Chicago:20221019T190000
DTEND;TZID=America/Chicago:20221019T210000
DTSTAMP:20260424T173648
CREATED:20220913T154719Z
LAST-MODIFIED:20220913T154719Z
UID:5410-1666206000-1666213200@ctl.wustl.edu
SUMMARY:Chem 105 RPM - Mahsheeb's Mentoring Sessions
DESCRIPTION:Thomas Eliot Seminar Room \nDrop-in Academic Mentoring and Residential Peer Mentoring (RPM) hours are open to all students in the course. Sessions are unstructured and informal – you can come and go at any point\, and you are welcome to make use of mentoring hours whether you have a specific question\, want to review concepts\, or are just looking for a regular time and place each week to focus on work for the class.
URL:https://ctl.wustl.edu/learningcenter/mentoring-sessions/chem-105-rpm-mahsheebs-mentoring-sessions/2022-10-19/
LOCATION:Thomas Eliot Seminar Room
CATEGORIES:Chem 1601/1602,Chemistry
END:VEVENT
BEGIN:VEVENT
DTSTART;TZID=America/Chicago:20221109T190000
DTEND;TZID=America/Chicago:20221109T210000
DTSTAMP:20260424T173648
CREATED:20220913T154719Z
LAST-MODIFIED:20220913T154719Z
UID:5413-1668020400-1668027600@ctl.wustl.edu
SUMMARY:Chem 105 RPM - Mahsheeb's Mentoring Sessions
DESCRIPTION:Thomas Eliot Seminar Room \nDrop-in Academic Mentoring and Residential Peer Mentoring (RPM) hours are open to all students in the course. Sessions are unstructured and informal – you can come and go at any point\, and you are welcome to make use of mentoring hours whether you have a specific question\, want to review concepts\, or are just looking for a regular time and place each week to focus on work for the class.
URL:https://ctl.wustl.edu/learningcenter/mentoring-sessions/chem-105-rpm-mahsheebs-mentoring-sessions/2022-11-09/
LOCATION:Thomas Eliot Seminar Room
CATEGORIES:Chem 1601/1602,Chemistry
END:VEVENT
BEGIN:VEVENT
DTSTART;TZID=America/Chicago:20221130T190000
DTEND;TZID=America/Chicago:20221130T210000
DTSTAMP:20260424T173648
CREATED:20220913T154719Z
LAST-MODIFIED:20220913T154719Z
UID:5416-1669834800-1669842000@ctl.wustl.edu
SUMMARY:Chem 105 RPM - Mahsheeb's Mentoring Sessions
DESCRIPTION:Thomas Eliot Seminar Room \nDrop-in Academic Mentoring and Residential Peer Mentoring (RPM) hours are open to all students in the course. Sessions are unstructured and informal – you can come and go at any point\, and you are welcome to make use of mentoring hours whether you have a specific question\, want to review concepts\, or are just looking for a regular time and place each week to focus on work for the class.
URL:https://ctl.wustl.edu/learningcenter/mentoring-sessions/chem-105-rpm-mahsheebs-mentoring-sessions/2022-11-30/
LOCATION:Thomas Eliot Seminar Room
CATEGORIES:Chem 1601/1602,Chemistry
END:VEVENT
BEGIN:VEVENT
DTSTART;TZID=America/Chicago:20221207T190000
DTEND;TZID=America/Chicago:20221207T210000
DTSTAMP:20260424T173648
CREATED:20220913T154719Z
LAST-MODIFIED:20220913T154719Z
UID:5417-1670439600-1670446800@ctl.wustl.edu
SUMMARY:Chem 105 RPM - Mahsheeb's Mentoring Sessions
DESCRIPTION:Thomas Eliot Seminar Room \nDrop-in Academic Mentoring and Residential Peer Mentoring (RPM) hours are open to all students in the course. Sessions are unstructured and informal – you can come and go at any point\, and you are welcome to make use of mentoring hours whether you have a specific question\, want to review concepts\, or are just looking for a regular time and place each week to focus on work for the class.
URL:https://ctl.wustl.edu/learningcenter/mentoring-sessions/chem-105-rpm-mahsheebs-mentoring-sessions/2022-12-07/
LOCATION:Thomas Eliot Seminar Room
CATEGORIES:Chem 1601/1602,Chemistry
END:VEVENT
BEGIN:VEVENT
DTSTART;TZID=America/Chicago:20221026T210000
DTEND;TZID=America/Chicago:20221026T230000
DTSTAMP:20260424T173648
CREATED:20220913T154719Z
LAST-MODIFIED:20221024T220637Z
UID:5411-1666818000-1666825200@ctl.wustl.edu
SUMMARY:Chem 105 RPM - Mahsheeb's Mentoring Sessions
DESCRIPTION:Dardick House Seminar Room \nDrop-in Academic Mentoring and Residential Peer Mentoring (RPM) hours are open to all students in the course. Sessions are unstructured and informal – you can come and go at any point\, and you are welcome to make use of mentoring hours whether you have a specific question\, want to review concepts\, or are just looking for a regular time and place each week to focus on work for the class.
URL:https://ctl.wustl.edu/learningcenter/mentoring-sessions/chem-105-rpm-mahsheebs-mentoring-sessions-2022-10-26/
LOCATION:Dardick House Seminar Room
CATEGORIES:Chem 1601/1602,Chemistry
END:VEVENT
BEGIN:VEVENT
DTSTART;TZID=America/Chicago:20220920T180000
DTEND;TZID=America/Chicago:20220920T210000
DTSTAMP:20260424T173648
CREATED:20220910T145912Z
LAST-MODIFIED:20220913T154205Z
UID:5391-1663696800-1663707600@ctl.wustl.edu
SUMMARY:Chemistry 105 - Mahsheeb's RPM Hours
DESCRIPTION:Liggett House Seminar Room \nDrop-in Academic Mentoring and Residential Peer Mentoring (RPM) hours are open to all students in the course. Sessions are unstructured and informal – you can come and go at any point\, and you are welcome to make use of mentoring hours whether you have a specific question\, want to review concepts\, or are just looking for a regular time and place each week to focus on work for the class.
URL:https://ctl.wustl.edu/learningcenter/mentoring-sessions/chemistry-105-mahsheebs-mentoring-hours/2022-09-20/
LOCATION:Liggett House Seminar Room
CATEGORIES:Chem 1601/1602,Chemistry
END:VEVENT
BEGIN:VEVENT
DTSTART;TZID=America/Chicago:20220927T180000
DTEND;TZID=America/Chicago:20220927T210000
DTSTAMP:20260424T173648
CREATED:20220910T145912Z
LAST-MODIFIED:20220913T154205Z
UID:5392-1664301600-1664312400@ctl.wustl.edu
SUMMARY:Chemistry 105 - Mahsheeb's RPM Hours
DESCRIPTION:Liggett House Seminar Room \nDrop-in Academic Mentoring and Residential Peer Mentoring (RPM) hours are open to all students in the course. Sessions are unstructured and informal – you can come and go at any point\, and you are welcome to make use of mentoring hours whether you have a specific question\, want to review concepts\, or are just looking for a regular time and place each week to focus on work for the class.
URL:https://ctl.wustl.edu/learningcenter/mentoring-sessions/chemistry-105-mahsheebs-mentoring-hours/2022-09-27/
LOCATION:Liggett House Seminar Room
CATEGORIES:Chem 1601/1602,Chemistry
END:VEVENT
BEGIN:VEVENT
DTSTART;TZID=America/Chicago:20221018T180000
DTEND;TZID=America/Chicago:20221018T210000
DTSTAMP:20260424T173648
CREATED:20220910T145912Z
LAST-MODIFIED:20220913T154206Z
UID:5395-1666116000-1666126800@ctl.wustl.edu
SUMMARY:Chemistry 105 - Mahsheeb's RPM Hours
DESCRIPTION:Liggett House Seminar Room \nDrop-in Academic Mentoring and Residential Peer Mentoring (RPM) hours are open to all students in the course. Sessions are unstructured and informal – you can come and go at any point\, and you are welcome to make use of mentoring hours whether you have a specific question\, want to review concepts\, or are just looking for a regular time and place each week to focus on work for the class.
URL:https://ctl.wustl.edu/learningcenter/mentoring-sessions/chemistry-105-mahsheebs-mentoring-hours/2022-10-18/
LOCATION:Liggett House Seminar Room
CATEGORIES:Chem 1601/1602,Chemistry
END:VEVENT
BEGIN:VEVENT
DTSTART;TZID=America/Chicago:20221025T180000
DTEND;TZID=America/Chicago:20221025T210000
DTSTAMP:20260424T173648
CREATED:20220910T145912Z
LAST-MODIFIED:20220913T154207Z
UID:5396-1666720800-1666731600@ctl.wustl.edu
SUMMARY:Chemistry 105 - Mahsheeb's RPM Hours
DESCRIPTION:Liggett House Seminar Room \nDrop-in Academic Mentoring and Residential Peer Mentoring (RPM) hours are open to all students in the course. Sessions are unstructured and informal – you can come and go at any point\, and you are welcome to make use of mentoring hours whether you have a specific question\, want to review concepts\, or are just looking for a regular time and place each week to focus on work for the class.
URL:https://ctl.wustl.edu/learningcenter/mentoring-sessions/chemistry-105-mahsheebs-mentoring-hours/2022-10-25/
LOCATION:Liggett House Seminar Room
CATEGORIES:Chem 1601/1602,Chemistry
END:VEVENT
BEGIN:VEVENT
DTSTART;TZID=America/Chicago:20221108T180000
DTEND;TZID=America/Chicago:20221108T210000
DTSTAMP:20260424T173648
CREATED:20220910T145912Z
LAST-MODIFIED:20220913T154207Z
UID:5398-1667930400-1667941200@ctl.wustl.edu
SUMMARY:Chemistry 105 - Mahsheeb's RPM Hours
DESCRIPTION:Liggett House Seminar Room \nDrop-in Academic Mentoring and Residential Peer Mentoring (RPM) hours are open to all students in the course. Sessions are unstructured and informal – you can come and go at any point\, and you are welcome to make use of mentoring hours whether you have a specific question\, want to review concepts\, or are just looking for a regular time and place each week to focus on work for the class.
URL:https://ctl.wustl.edu/learningcenter/mentoring-sessions/chemistry-105-mahsheebs-mentoring-hours/2022-11-08/
LOCATION:Liggett House Seminar Room
CATEGORIES:Chem 1601/1602,Chemistry
END:VEVENT
BEGIN:VEVENT
DTSTART;TZID=America/Chicago:20221115T180000
DTEND;TZID=America/Chicago:20221115T210000
DTSTAMP:20260424T173648
CREATED:20220910T145912Z
LAST-MODIFIED:20220913T154208Z
UID:5399-1668535200-1668546000@ctl.wustl.edu
SUMMARY:Chemistry 105 - Mahsheeb's RPM Hours
DESCRIPTION:Liggett House Seminar Room \nDrop-in Academic Mentoring and Residential Peer Mentoring (RPM) hours are open to all students in the course. Sessions are unstructured and informal – you can come and go at any point\, and you are welcome to make use of mentoring hours whether you have a specific question\, want to review concepts\, or are just looking for a regular time and place each week to focus on work for the class.
URL:https://ctl.wustl.edu/learningcenter/mentoring-sessions/chemistry-105-mahsheebs-mentoring-hours/2022-11-15/
LOCATION:Liggett House Seminar Room
CATEGORIES:Chem 1601/1602,Chemistry
END:VEVENT
BEGIN:VEVENT
DTSTART;TZID=America/Chicago:20221129T180000
DTEND;TZID=America/Chicago:20221129T210000
DTSTAMP:20260424T173648
CREATED:20220910T145912Z
LAST-MODIFIED:20220913T154211Z
UID:5401-1669744800-1669755600@ctl.wustl.edu
SUMMARY:Chemistry 105 - Mahsheeb's RPM Hours
DESCRIPTION:Liggett House Seminar Room \nDrop-in Academic Mentoring and Residential Peer Mentoring (RPM) hours are open to all students in the course. Sessions are unstructured and informal – you can come and go at any point\, and you are welcome to make use of mentoring hours whether you have a specific question\, want to review concepts\, or are just looking for a regular time and place each week to focus on work for the class.
URL:https://ctl.wustl.edu/learningcenter/mentoring-sessions/chemistry-105-mahsheebs-mentoring-hours/2022-11-29/
LOCATION:Liggett House Seminar Room
CATEGORIES:Chem 1601/1602,Chemistry
END:VEVENT
END:VCALENDAR