BEGIN:VCALENDAR
VERSION:2.0
PRODID:-//The Learning Center - ECPv6.15.16.1//NONSGML v1.0//EN
CALSCALE:GREGORIAN
METHOD:PUBLISH
X-WR-CALNAME:The Learning Center
X-ORIGINAL-URL:https://ctl.wustl.edu/learningcenter
X-WR-CALDESC:Events for The Learning Center
REFRESH-INTERVAL;VALUE=DURATION:PT1H
X-Robots-Tag:noindex
X-PUBLISHED-TTL:PT1H
BEGIN:VTIMEZONE
TZID:America/Chicago
BEGIN:DAYLIGHT
TZOFFSETFROM:-0600
TZOFFSETTO:-0500
TZNAME:CDT
DTSTART:20220313T080000
END:DAYLIGHT
BEGIN:STANDARD
TZOFFSETFROM:-0500
TZOFFSETTO:-0600
TZNAME:CST
DTSTART:20221106T070000
END:STANDARD
BEGIN:DAYLIGHT
TZOFFSETFROM:-0600
TZOFFSETTO:-0500
TZNAME:CDT
DTSTART:20230312T080000
END:DAYLIGHT
BEGIN:STANDARD
TZOFFSETFROM:-0500
TZOFFSETTO:-0600
TZNAME:CST
DTSTART:20231105T070000
END:STANDARD
BEGIN:DAYLIGHT
TZOFFSETFROM:-0600
TZOFFSETTO:-0500
TZNAME:CDT
DTSTART:20240310T080000
END:DAYLIGHT
BEGIN:STANDARD
TZOFFSETFROM:-0500
TZOFFSETTO:-0600
TZNAME:CST
DTSTART:20241103T070000
END:STANDARD
END:VTIMEZONE
BEGIN:VEVENT
DTSTART;TZID=America/Chicago:20230613T170000
DTEND;TZID=America/Chicago:20230613T190000
DTSTAMP:20260424T140303
CREATED:20230606T215621Z
LAST-MODIFIED:20230606T215621Z
UID:6732-1686675600-1686682800@ctl.wustl.edu
SUMMARY:Summer Physics 191/192 - Mason
DESCRIPTION:
URL:https://ctl.wustl.edu/learningcenter/mentoring-sessions/summer-physics-191-192-mason/2023-06-13/
LOCATION:Mallinckrodt 132
CATEGORIES:Physics,Physics 1740/1742
END:VEVENT
BEGIN:VEVENT
DTSTART;TZID=America/Chicago:20230620T170000
DTEND;TZID=America/Chicago:20230620T190000
DTSTAMP:20260424T140303
CREATED:20230606T215621Z
LAST-MODIFIED:20230606T215621Z
UID:6734-1687280400-1687287600@ctl.wustl.edu
SUMMARY:Summer Physics 191/192 - Mason
DESCRIPTION:
URL:https://ctl.wustl.edu/learningcenter/mentoring-sessions/summer-physics-191-192-mason/2023-06-20/
LOCATION:Mallinckrodt 132
CATEGORIES:Physics,Physics 1740/1742
END:VEVENT
BEGIN:VEVENT
DTSTART;TZID=America/Chicago:20230627T170000
DTEND;TZID=America/Chicago:20230627T190000
DTSTAMP:20260424T140303
CREATED:20230606T215621Z
LAST-MODIFIED:20230606T215621Z
UID:6735-1687885200-1687892400@ctl.wustl.edu
SUMMARY:Summer Physics 191/192 - Mason
DESCRIPTION:
URL:https://ctl.wustl.edu/learningcenter/mentoring-sessions/summer-physics-191-192-mason/2023-06-27/
LOCATION:Mallinckrodt 132
CATEGORIES:Physics,Physics 1740/1742
END:VEVENT
BEGIN:VEVENT
DTSTART;TZID=America/Chicago:20230711T170000
DTEND;TZID=America/Chicago:20230711T190000
DTSTAMP:20260424T140303
CREATED:20230606T215621Z
LAST-MODIFIED:20230606T215621Z
UID:6737-1689094800-1689102000@ctl.wustl.edu
SUMMARY:Summer Physics 191/192 - Mason
DESCRIPTION:
URL:https://ctl.wustl.edu/learningcenter/mentoring-sessions/summer-physics-191-192-mason/2023-07-11/
LOCATION:Mallinckrodt 132
CATEGORIES:Physics,Physics 1740/1742
END:VEVENT
BEGIN:VEVENT
DTSTART;TZID=America/Chicago:20230718T170000
DTEND;TZID=America/Chicago:20230718T190000
DTSTAMP:20260424T140303
CREATED:20230606T215621Z
LAST-MODIFIED:20230606T215621Z
UID:6738-1689699600-1689706800@ctl.wustl.edu
SUMMARY:Summer Physics 191/192 - Mason
DESCRIPTION:
URL:https://ctl.wustl.edu/learningcenter/mentoring-sessions/summer-physics-191-192-mason/2023-07-18/
LOCATION:Mallinckrodt 132
CATEGORIES:Physics,Physics 1740/1742
END:VEVENT
BEGIN:VEVENT
DTSTART;TZID=America/Chicago:20230725T170000
DTEND;TZID=America/Chicago:20230725T190000
DTSTAMP:20260424T140303
CREATED:20230606T215621Z
LAST-MODIFIED:20230606T215621Z
UID:6739-1690304400-1690311600@ctl.wustl.edu
SUMMARY:Summer Physics 191/192 - Mason
DESCRIPTION:
URL:https://ctl.wustl.edu/learningcenter/mentoring-sessions/summer-physics-191-192-mason/2023-07-25/
LOCATION:Mallinckrodt 132
CATEGORIES:Physics,Physics 1740/1742
END:VEVENT
BEGIN:VEVENT
DTSTART;TZID=America/Chicago:20230801T170000
DTEND;TZID=America/Chicago:20230801T190000
DTSTAMP:20260424T140303
CREATED:20230606T215621Z
LAST-MODIFIED:20230606T215621Z
UID:6740-1690909200-1690916400@ctl.wustl.edu
SUMMARY:Summer Physics 191/192 - Mason
DESCRIPTION:
URL:https://ctl.wustl.edu/learningcenter/mentoring-sessions/summer-physics-191-192-mason/2023-08-01/
LOCATION:Mallinckrodt 132
CATEGORIES:Physics,Physics 1740/1742
END:VEVENT
BEGIN:VEVENT
DTSTART;TZID=America/Chicago:20230808T170000
DTEND;TZID=America/Chicago:20230808T190000
DTSTAMP:20260424T140303
CREATED:20230606T215621Z
LAST-MODIFIED:20230606T215621Z
UID:6741-1691514000-1691521200@ctl.wustl.edu
SUMMARY:Summer Physics 191/192 - Mason
DESCRIPTION:
URL:https://ctl.wustl.edu/learningcenter/mentoring-sessions/summer-physics-191-192-mason/2023-08-08/
LOCATION:Mallinckrodt 132
CATEGORIES:Physics,Physics 1740/1742
END:VEVENT
BEGIN:VEVENT
DTSTART;TZID=America/Chicago:20230815T170000
DTEND;TZID=America/Chicago:20230815T190000
DTSTAMP:20260424T140303
CREATED:20230606T215621Z
LAST-MODIFIED:20230606T215621Z
UID:6742-1692118800-1692126000@ctl.wustl.edu
SUMMARY:Summer Physics 191/192 - Mason
DESCRIPTION:
URL:https://ctl.wustl.edu/learningcenter/mentoring-sessions/summer-physics-191-192-mason/2023-08-15/
LOCATION:Mallinckrodt 132
CATEGORIES:Physics,Physics 1740/1742
END:VEVENT
BEGIN:VEVENT
DTSTART;TZID=America/Chicago:20230703T170000
DTEND;TZID=America/Chicago:20230703T190000
DTSTAMP:20260424T140303
CREATED:20230606T215621Z
LAST-MODIFIED:20230703T214422Z
UID:6736-1688403600-1688410800@ctl.wustl.edu
SUMMARY:(Date change) Summer Physics 191/192 - Mason
DESCRIPTION:
URL:https://ctl.wustl.edu/learningcenter/mentoring-sessions/summer-physics-191-192-mason-2023-07-04/
LOCATION:Mallinckrodt 132
CATEGORIES:Physics,Physics 1740/1742
END:VEVENT
END:VCALENDAR