BEGIN:VCALENDAR
VERSION:2.0
PRODID:-//The Learning Center - ECPv6.15.16.1//NONSGML v1.0//EN
CALSCALE:GREGORIAN
METHOD:PUBLISH
X-WR-CALNAME:The Learning Center
X-ORIGINAL-URL:https://ctl.wustl.edu/learningcenter
X-WR-CALDESC:Events for The Learning Center
REFRESH-INTERVAL;VALUE=DURATION:PT1H
X-Robots-Tag:noindex
X-PUBLISHED-TTL:PT1H
BEGIN:VTIMEZONE
TZID:America/Chicago
BEGIN:DAYLIGHT
TZOFFSETFROM:-0600
TZOFFSETTO:-0500
TZNAME:CDT
DTSTART:20230312T080000
END:DAYLIGHT
BEGIN:STANDARD
TZOFFSETFROM:-0500
TZOFFSETTO:-0600
TZNAME:CST
DTSTART:20231105T070000
END:STANDARD
BEGIN:DAYLIGHT
TZOFFSETFROM:-0600
TZOFFSETTO:-0500
TZNAME:CDT
DTSTART:20240310T080000
END:DAYLIGHT
BEGIN:STANDARD
TZOFFSETFROM:-0500
TZOFFSETTO:-0600
TZNAME:CST
DTSTART:20241103T070000
END:STANDARD
BEGIN:DAYLIGHT
TZOFFSETFROM:-0600
TZOFFSETTO:-0500
TZNAME:CDT
DTSTART:20250309T080000
END:DAYLIGHT
BEGIN:STANDARD
TZOFFSETFROM:-0500
TZOFFSETTO:-0600
TZNAME:CST
DTSTART:20251102T070000
END:STANDARD
END:VTIMEZONE
BEGIN:VEVENT
DTSTART;TZID=America/Chicago:20240930T163000
DTEND;TZID=America/Chicago:20240930T183000
DTSTAMP:20260425T104910
CREATED:20240926T191127Z
LAST-MODIFIED:20240926T191136Z
UID:10933-1727713800-1727721000@ctl.wustl.edu
SUMMARY:Orgo Drop-In - Nicole*
DESCRIPTION:*one-off session this week
URL:https://ctl.wustl.edu/learningcenter/mentoring-sessions/orgo-drop-in-nicole-2/
LOCATION:Mallinckrodt 132
CATEGORIES:Chemistry,Organic Chemistry
END:VEVENT
BEGIN:VEVENT
DTSTART;TZID=America/Chicago:20241120T170000
DTEND;TZID=America/Chicago:20241120T190000
DTSTAMP:20260425T104910
CREATED:20240909T201317Z
LAST-MODIFIED:20241120T190303Z
UID:10341-1732122000-1732129200@ctl.wustl.edu
SUMMARY:Orgo Drop-In - Nicole CANCELED
DESCRIPTION:
URL:https://ctl.wustl.edu/learningcenter/mentoring-sessions/orgo-drop-in-nicole-2024-11-20/
LOCATION:Mallinckrodt 132
CATEGORIES:Chemistry,Organic Chemistry
END:VEVENT
BEGIN:VEVENT
DTSTART;TZID=America/Chicago:20240911T170000
DTEND;TZID=America/Chicago:20240911T190000
DTSTAMP:20260425T104910
CREATED:20240909T201317Z
LAST-MODIFIED:20240909T201317Z
UID:10331-1726074000-1726081200@ctl.wustl.edu
SUMMARY:Orgo Drop-In - Nicole
DESCRIPTION:
URL:https://ctl.wustl.edu/learningcenter/mentoring-sessions/orgo-drop-in-nicole/2024-09-11/
LOCATION:Mallinckrodt 132
CATEGORIES:Chemistry,Organic Chemistry
END:VEVENT
BEGIN:VEVENT
DTSTART;TZID=America/Chicago:20240918T170000
DTEND;TZID=America/Chicago:20240918T190000
DTSTAMP:20260425T104910
CREATED:20240909T201317Z
LAST-MODIFIED:20240909T201317Z
UID:10332-1726678800-1726686000@ctl.wustl.edu
SUMMARY:Orgo Drop-In - Nicole
DESCRIPTION:
URL:https://ctl.wustl.edu/learningcenter/mentoring-sessions/orgo-drop-in-nicole/2024-09-18/
LOCATION:Mallinckrodt 132
CATEGORIES:Chemistry,Organic Chemistry
END:VEVENT
BEGIN:VEVENT
DTSTART;TZID=America/Chicago:20240925T170000
DTEND;TZID=America/Chicago:20240925T190000
DTSTAMP:20260425T104910
CREATED:20240909T201317Z
LAST-MODIFIED:20240909T201317Z
UID:10333-1727283600-1727290800@ctl.wustl.edu
SUMMARY:Orgo Drop-In - Nicole
DESCRIPTION:
URL:https://ctl.wustl.edu/learningcenter/mentoring-sessions/orgo-drop-in-nicole/2024-09-25/
LOCATION:Mallinckrodt 132
CATEGORIES:Chemistry,Organic Chemistry
END:VEVENT
BEGIN:VEVENT
DTSTART;TZID=America/Chicago:20241002T170000
DTEND;TZID=America/Chicago:20241002T190000
DTSTAMP:20260425T104910
CREATED:20240909T201317Z
LAST-MODIFIED:20240909T201317Z
UID:10334-1727888400-1727895600@ctl.wustl.edu
SUMMARY:Orgo Drop-In - Nicole
DESCRIPTION:
URL:https://ctl.wustl.edu/learningcenter/mentoring-sessions/orgo-drop-in-nicole/2024-10-02/
LOCATION:Mallinckrodt 132
CATEGORIES:Chemistry,Organic Chemistry
END:VEVENT
BEGIN:VEVENT
DTSTART;TZID=America/Chicago:20241009T170000
DTEND;TZID=America/Chicago:20241009T190000
DTSTAMP:20260425T104910
CREATED:20240909T201317Z
LAST-MODIFIED:20240909T201317Z
UID:10335-1728493200-1728500400@ctl.wustl.edu
SUMMARY:Orgo Drop-In - Nicole
DESCRIPTION:
URL:https://ctl.wustl.edu/learningcenter/mentoring-sessions/orgo-drop-in-nicole/2024-10-09/
LOCATION:Mallinckrodt 132
CATEGORIES:Chemistry,Organic Chemistry
END:VEVENT
BEGIN:VEVENT
DTSTART;TZID=America/Chicago:20241016T170000
DTEND;TZID=America/Chicago:20241016T190000
DTSTAMP:20260425T104910
CREATED:20240909T201317Z
LAST-MODIFIED:20240909T201317Z
UID:10336-1729098000-1729105200@ctl.wustl.edu
SUMMARY:Orgo Drop-In - Nicole
DESCRIPTION:
URL:https://ctl.wustl.edu/learningcenter/mentoring-sessions/orgo-drop-in-nicole/2024-10-16/
LOCATION:Mallinckrodt 132
CATEGORIES:Chemistry,Organic Chemistry
END:VEVENT
BEGIN:VEVENT
DTSTART;TZID=America/Chicago:20241023T170000
DTEND;TZID=America/Chicago:20241023T190000
DTSTAMP:20260425T104910
CREATED:20240909T201317Z
LAST-MODIFIED:20240909T201317Z
UID:10337-1729702800-1729710000@ctl.wustl.edu
SUMMARY:Orgo Drop-In - Nicole
DESCRIPTION:
URL:https://ctl.wustl.edu/learningcenter/mentoring-sessions/orgo-drop-in-nicole/2024-10-23/
LOCATION:Mallinckrodt 132
CATEGORIES:Chemistry,Organic Chemistry
END:VEVENT
BEGIN:VEVENT
DTSTART;TZID=America/Chicago:20241030T170000
DTEND;TZID=America/Chicago:20241030T190000
DTSTAMP:20260425T104910
CREATED:20240909T201317Z
LAST-MODIFIED:20240909T201317Z
UID:10338-1730307600-1730314800@ctl.wustl.edu
SUMMARY:Orgo Drop-In - Nicole
DESCRIPTION:
URL:https://ctl.wustl.edu/learningcenter/mentoring-sessions/orgo-drop-in-nicole/2024-10-30/
LOCATION:Mallinckrodt 132
CATEGORIES:Chemistry,Organic Chemistry
END:VEVENT
BEGIN:VEVENT
DTSTART;TZID=America/Chicago:20241106T170000
DTEND;TZID=America/Chicago:20241106T190000
DTSTAMP:20260425T104910
CREATED:20240909T201317Z
LAST-MODIFIED:20240909T201317Z
UID:10339-1730912400-1730919600@ctl.wustl.edu
SUMMARY:Orgo Drop-In - Nicole
DESCRIPTION:
URL:https://ctl.wustl.edu/learningcenter/mentoring-sessions/orgo-drop-in-nicole/2024-11-06/
LOCATION:Mallinckrodt 132
CATEGORIES:Chemistry,Organic Chemistry
END:VEVENT
BEGIN:VEVENT
DTSTART;TZID=America/Chicago:20241113T170000
DTEND;TZID=America/Chicago:20241113T190000
DTSTAMP:20260425T104910
CREATED:20240909T201317Z
LAST-MODIFIED:20240909T201317Z
UID:10340-1731517200-1731524400@ctl.wustl.edu
SUMMARY:Orgo Drop-In - Nicole
DESCRIPTION:
URL:https://ctl.wustl.edu/learningcenter/mentoring-sessions/orgo-drop-in-nicole/2024-11-13/
LOCATION:Mallinckrodt 132
CATEGORIES:Chemistry,Organic Chemistry
END:VEVENT
BEGIN:VEVENT
DTSTART;TZID=America/Chicago:20241204T170000
DTEND;TZID=America/Chicago:20241204T190000
DTSTAMP:20260425T104910
CREATED:20240909T201317Z
LAST-MODIFIED:20240909T201317Z
UID:10343-1733331600-1733338800@ctl.wustl.edu
SUMMARY:Orgo Drop-In - Nicole
DESCRIPTION:
URL:https://ctl.wustl.edu/learningcenter/mentoring-sessions/orgo-drop-in-nicole/2024-12-04/
LOCATION:Mallinckrodt 132
CATEGORIES:Chemistry,Organic Chemistry
END:VEVENT
BEGIN:VEVENT
DTSTART;TZID=America/Chicago:20240717T163000
DTEND;TZID=America/Chicago:20240717T183000
DTSTAMP:20260425T104910
CREATED:20240607T185728Z
LAST-MODIFIED:20240610T191537Z
UID:9087-1721233800-1721241000@ctl.wustl.edu
SUMMARY:Physics Drop-In hours_Nicole
DESCRIPTION:
URL:https://ctl.wustl.edu/learningcenter/mentoring-sessions/physics-su24-drop-in-hours_nicole-2/2024-07-17/
LOCATION:Mallinckrodt 132
CATEGORIES:Physics
END:VEVENT
BEGIN:VEVENT
DTSTART;TZID=America/Chicago:20240814T163000
DTEND;TZID=America/Chicago:20240814T183000
DTSTAMP:20260425T104910
CREATED:20240607T185728Z
LAST-MODIFIED:20240610T191539Z
UID:9091-1723653000-1723660200@ctl.wustl.edu
SUMMARY:Physics Drop-In hours_Nicole
DESCRIPTION:
URL:https://ctl.wustl.edu/learningcenter/mentoring-sessions/physics-su24-drop-in-hours_nicole-2/2024-08-14/
LOCATION:Mallinckrodt 132
CATEGORIES:Physics
END:VEVENT
BEGIN:VEVENT
DTSTART;TZID=America/Chicago:20240807T163000
DTEND;TZID=America/Chicago:20240807T183000
DTSTAMP:20260425T104910
CREATED:20240607T185728Z
LAST-MODIFIED:20240610T191538Z
UID:9090-1723048200-1723055400@ctl.wustl.edu
SUMMARY:Physics Drop-In hours_Nicole
DESCRIPTION:
URL:https://ctl.wustl.edu/learningcenter/mentoring-sessions/physics-su24-drop-in-hours_nicole-2/2024-08-07/
LOCATION:Mallinckrodt 132
CATEGORIES:Physics
END:VEVENT
BEGIN:VEVENT
DTSTART;TZID=America/Chicago:20240731T163000
DTEND;TZID=America/Chicago:20240731T183000
DTSTAMP:20260425T104910
CREATED:20240607T185728Z
LAST-MODIFIED:20240610T191538Z
UID:9089-1722443400-1722450600@ctl.wustl.edu
SUMMARY:Physics Drop-In hours_Nicole
DESCRIPTION:
URL:https://ctl.wustl.edu/learningcenter/mentoring-sessions/physics-su24-drop-in-hours_nicole-2/2024-07-31/
LOCATION:Mallinckrodt 132
CATEGORIES:Physics
END:VEVENT
BEGIN:VEVENT
DTSTART;TZID=America/Chicago:20240724T163000
DTEND;TZID=America/Chicago:20240724T183000
DTSTAMP:20260425T104910
CREATED:20240607T185728Z
LAST-MODIFIED:20240610T191538Z
UID:9088-1721838600-1721845800@ctl.wustl.edu
SUMMARY:Physics Drop-In hours_Nicole
DESCRIPTION:
URL:https://ctl.wustl.edu/learningcenter/mentoring-sessions/physics-su24-drop-in-hours_nicole-2/2024-07-24/
LOCATION:Mallinckrodt 132
CATEGORIES:Physics
END:VEVENT
BEGIN:VEVENT
DTSTART;TZID=America/Chicago:20240710T163000
DTEND;TZID=America/Chicago:20240710T183000
DTSTAMP:20260425T104910
CREATED:20240607T185728Z
LAST-MODIFIED:20240610T191537Z
UID:9086-1720629000-1720636200@ctl.wustl.edu
SUMMARY:Physics Drop-In hours_Nicole
DESCRIPTION:
URL:https://ctl.wustl.edu/learningcenter/mentoring-sessions/physics-su24-drop-in-hours_nicole-2/2024-07-10/
LOCATION:Mallinckrodt 132
CATEGORIES:Physics
END:VEVENT
BEGIN:VEVENT
DTSTART;TZID=America/Chicago:20240703T163000
DTEND;TZID=America/Chicago:20240703T183000
DTSTAMP:20260425T104910
CREATED:20240607T185728Z
LAST-MODIFIED:20240610T191536Z
UID:9085-1720024200-1720031400@ctl.wustl.edu
SUMMARY:Physics Drop-In hours_Nicole
DESCRIPTION:
URL:https://ctl.wustl.edu/learningcenter/mentoring-sessions/physics-su24-drop-in-hours_nicole-2/2024-07-03/
LOCATION:Mallinckrodt 132
CATEGORIES:Physics
END:VEVENT
BEGIN:VEVENT
DTSTART;TZID=America/Chicago:20240626T163000
DTEND;TZID=America/Chicago:20240626T183000
DTSTAMP:20260425T104910
CREATED:20240607T185728Z
LAST-MODIFIED:20240610T191536Z
UID:9084-1719419400-1719426600@ctl.wustl.edu
SUMMARY:Physics Drop-In hours_Nicole
DESCRIPTION:
URL:https://ctl.wustl.edu/learningcenter/mentoring-sessions/physics-su24-drop-in-hours_nicole-2/2024-06-26/
LOCATION:Mallinckrodt 132
CATEGORIES:Physics
END:VEVENT
BEGIN:VEVENT
DTSTART;TZID=America/Chicago:20240619T163000
DTEND;TZID=America/Chicago:20240619T183000
DTSTAMP:20260425T104910
CREATED:20240607T185728Z
LAST-MODIFIED:20240610T191535Z
UID:9083-1718814600-1718821800@ctl.wustl.edu
SUMMARY:Physics Drop-In hours_Nicole
DESCRIPTION:
URL:https://ctl.wustl.edu/learningcenter/mentoring-sessions/physics-su24-drop-in-hours_nicole-2/2024-06-19/
LOCATION:Mallinckrodt 132
CATEGORIES:Physics
END:VEVENT
BEGIN:VEVENT
DTSTART;TZID=America/Chicago:20240612T163000
DTEND;TZID=America/Chicago:20240612T183000
DTSTAMP:20260425T104910
CREATED:20240607T185728Z
LAST-MODIFIED:20240610T191535Z
UID:9082-1718209800-1718217000@ctl.wustl.edu
SUMMARY:Physics Drop-In hours_Nicole
DESCRIPTION:
URL:https://ctl.wustl.edu/learningcenter/mentoring-sessions/physics-su24-drop-in-hours_nicole-2/2024-06-12/
LOCATION:Mallinckrodt 132
CATEGORIES:Physics
END:VEVENT
BEGIN:VEVENT
DTSTART;TZID=America/Chicago:20240610T170000
DTEND;TZID=America/Chicago:20240610T183000
DTSTAMP:20260425T104910
CREATED:20240607T185552Z
LAST-MODIFIED:20240610T191624Z
UID:9072-1718038800-1718044200@ctl.wustl.edu
SUMMARY:Physics Drop-In hours_Nicole
DESCRIPTION:
URL:https://ctl.wustl.edu/learningcenter/mentoring-sessions/physics-su24-drop-in-hours_nicole/2024-06-10/
LOCATION:Mallinckrodt 132
CATEGORIES:Physics
END:VEVENT
BEGIN:VEVENT
DTSTART;TZID=America/Chicago:20240812T170000
DTEND;TZID=America/Chicago:20240812T183000
DTSTAMP:20260425T104910
CREATED:20240607T185552Z
LAST-MODIFIED:20240610T191628Z
UID:9081-1723482000-1723487400@ctl.wustl.edu
SUMMARY:Physics Drop-In hours_Nicole
DESCRIPTION:
URL:https://ctl.wustl.edu/learningcenter/mentoring-sessions/physics-su24-drop-in-hours_nicole/2024-08-12/
LOCATION:Mallinckrodt 132
CATEGORIES:Physics
END:VEVENT
BEGIN:VEVENT
DTSTART;TZID=America/Chicago:20240805T170000
DTEND;TZID=America/Chicago:20240805T183000
DTSTAMP:20260425T104910
CREATED:20240607T185552Z
LAST-MODIFIED:20240610T191628Z
UID:9080-1722877200-1722882600@ctl.wustl.edu
SUMMARY:Physics Drop-In hours_Nicole
DESCRIPTION:
URL:https://ctl.wustl.edu/learningcenter/mentoring-sessions/physics-su24-drop-in-hours_nicole/2024-08-05/
LOCATION:Mallinckrodt 132
CATEGORIES:Physics
END:VEVENT
BEGIN:VEVENT
DTSTART;TZID=America/Chicago:20240729T170000
DTEND;TZID=America/Chicago:20240729T183000
DTSTAMP:20260425T104910
CREATED:20240607T185552Z
LAST-MODIFIED:20240610T191627Z
UID:9079-1722272400-1722277800@ctl.wustl.edu
SUMMARY:Physics Drop-In hours_Nicole
DESCRIPTION:
URL:https://ctl.wustl.edu/learningcenter/mentoring-sessions/physics-su24-drop-in-hours_nicole/2024-07-29/
LOCATION:Mallinckrodt 132
CATEGORIES:Physics
END:VEVENT
BEGIN:VEVENT
DTSTART;TZID=America/Chicago:20240722T170000
DTEND;TZID=America/Chicago:20240722T183000
DTSTAMP:20260425T104910
CREATED:20240607T185552Z
LAST-MODIFIED:20240610T191627Z
UID:9078-1721667600-1721673000@ctl.wustl.edu
SUMMARY:Physics Drop-In hours_Nicole
DESCRIPTION:
URL:https://ctl.wustl.edu/learningcenter/mentoring-sessions/physics-su24-drop-in-hours_nicole/2024-07-22/
LOCATION:Mallinckrodt 132
CATEGORIES:Physics
END:VEVENT
BEGIN:VEVENT
DTSTART;TZID=America/Chicago:20240715T170000
DTEND;TZID=America/Chicago:20240715T183000
DTSTAMP:20260425T104910
CREATED:20240607T185552Z
LAST-MODIFIED:20240610T191626Z
UID:9077-1721062800-1721068200@ctl.wustl.edu
SUMMARY:Physics Drop-In hours_Nicole
DESCRIPTION:
URL:https://ctl.wustl.edu/learningcenter/mentoring-sessions/physics-su24-drop-in-hours_nicole/2024-07-15/
LOCATION:Mallinckrodt 132
CATEGORIES:Physics
END:VEVENT
BEGIN:VEVENT
DTSTART;TZID=America/Chicago:20240708T170000
DTEND;TZID=America/Chicago:20240708T183000
DTSTAMP:20260425T104910
CREATED:20240607T185552Z
LAST-MODIFIED:20240610T191626Z
UID:9076-1720458000-1720463400@ctl.wustl.edu
SUMMARY:Physics Drop-In hours_Nicole
DESCRIPTION:
URL:https://ctl.wustl.edu/learningcenter/mentoring-sessions/physics-su24-drop-in-hours_nicole/2024-07-08/
LOCATION:Mallinckrodt 132
CATEGORIES:Physics
END:VEVENT
END:VCALENDAR