BEGIN:VCALENDAR
VERSION:2.0
PRODID:-//The Learning Center - ECPv6.15.16.1//NONSGML v1.0//EN
CALSCALE:GREGORIAN
METHOD:PUBLISH
X-WR-CALNAME:The Learning Center
X-ORIGINAL-URL:https://ctl.wustl.edu/learningcenter
X-WR-CALDESC:Events for The Learning Center
REFRESH-INTERVAL;VALUE=DURATION:PT1H
X-Robots-Tag:noindex
X-PUBLISHED-TTL:PT1H
BEGIN:VTIMEZONE
TZID:America/Chicago
BEGIN:DAYLIGHT
TZOFFSETFROM:-0600
TZOFFSETTO:-0500
TZNAME:CDT
DTSTART:20240310T080000
END:DAYLIGHT
BEGIN:STANDARD
TZOFFSETFROM:-0500
TZOFFSETTO:-0600
TZNAME:CST
DTSTART:20241103T070000
END:STANDARD
BEGIN:DAYLIGHT
TZOFFSETFROM:-0600
TZOFFSETTO:-0500
TZNAME:CDT
DTSTART:20250309T080000
END:DAYLIGHT
BEGIN:STANDARD
TZOFFSETFROM:-0500
TZOFFSETTO:-0600
TZNAME:CST
DTSTART:20251102T070000
END:STANDARD
BEGIN:DAYLIGHT
TZOFFSETFROM:-0600
TZOFFSETTO:-0500
TZNAME:CDT
DTSTART:20260308T080000
END:DAYLIGHT
BEGIN:STANDARD
TZOFFSETFROM:-0500
TZOFFSETTO:-0600
TZNAME:CST
DTSTART:20261101T070000
END:STANDARD
BEGIN:DAYLIGHT
TZOFFSETFROM:-0600
TZOFFSETTO:-0500
TZNAME:CDT
DTSTART:20270314T080000
END:DAYLIGHT
BEGIN:STANDARD
TZOFFSETFROM:-0500
TZOFFSETTO:-0600
TZNAME:CST
DTSTART:20271107T070000
END:STANDARD
END:VTIMEZONE
BEGIN:VEVENT
DTSTART;TZID=America/Chicago:20260317T190000
DTEND;TZID=America/Chicago:20260317T210000
DTSTAMP:20260420T014632
CREATED:20260202T181138Z
LAST-MODIFIED:20260202T181148Z
UID:14522-1773774000-1773781200@ctl.wustl.edu
SUMMARY:CHEM 1702 EXAM REVIEW
DESCRIPTION:
URL:https://ctl.wustl.edu/learningcenter/mentoring-sessions/chem-1702-exam-review-2/2026-03-17/
LOCATION:Simon 023
CATEGORIES:Chem 1701/1702,Chemistry
END:VEVENT
BEGIN:VEVENT
DTSTART;TZID=America/Chicago:20260414T190000
DTEND;TZID=America/Chicago:20260414T210000
DTSTAMP:20260420T014632
CREATED:20260202T181138Z
LAST-MODIFIED:20260202T181148Z
UID:14535-1776193200-1776200400@ctl.wustl.edu
SUMMARY:CHEM 1702 EXAM REVIEW
DESCRIPTION:
URL:https://ctl.wustl.edu/learningcenter/mentoring-sessions/chem-1702-exam-review-2/2026-04-14/
LOCATION:Simon 023
CATEGORIES:Chem 1701/1702,Chemistry
END:VEVENT
BEGIN:VEVENT
DTSTART;TZID=America/Chicago:20260210T190000
DTEND;TZID=America/Chicago:20260210T210000
DTSTAMP:20260420T014632
CREATED:20260202T180835Z
LAST-MODIFIED:20260202T180835Z
UID:14519-1770750000-1770757200@ctl.wustl.edu
SUMMARY:CHEM 1702 EXAM REVIEW
DESCRIPTION:
URL:https://ctl.wustl.edu/learningcenter/mentoring-sessions/chem-1702-exam-review/
LOCATION:Eads 116
CATEGORIES:Chem 1701/1702,Chemistry
END:VEVENT
BEGIN:VEVENT
DTSTART;TZID=America/Chicago:20260128T180000
DTEND;TZID=America/Chicago:20260128T200000
DTSTAMP:20260420T014632
CREATED:20260126T173147Z
LAST-MODIFIED:20260126T173147Z
UID:14030-1769623200-1769630400@ctl.wustl.edu
SUMMARY:Chem 1702 RPM Hours- Rujula
DESCRIPTION:
URL:https://ctl.wustl.edu/learningcenter/mentoring-sessions/chem-1702-rpm-hours-rujula/2026-01-28/
LOCATION:Gregg House – Seminar Room
CATEGORIES:Chem 1701/1702,Chemistry
END:VEVENT
BEGIN:VEVENT
DTSTART;TZID=America/Chicago:20260202T180000
DTEND;TZID=America/Chicago:20260202T200000
DTSTAMP:20260420T014632
CREATED:20260126T173147Z
LAST-MODIFIED:20260126T173147Z
UID:14031-1770055200-1770062400@ctl.wustl.edu
SUMMARY:Chem 1702 RPM Hours- Rujula
DESCRIPTION:
URL:https://ctl.wustl.edu/learningcenter/mentoring-sessions/chem-1702-rpm-hours-rujula/2026-02-02/
LOCATION:Gregg House – Seminar Room
CATEGORIES:Chem 1701/1702,Chemistry
END:VEVENT
BEGIN:VEVENT
DTSTART;TZID=America/Chicago:20260204T180000
DTEND;TZID=America/Chicago:20260204T200000
DTSTAMP:20260420T014632
CREATED:20260126T173147Z
LAST-MODIFIED:20260126T173147Z
UID:14032-1770228000-1770235200@ctl.wustl.edu
SUMMARY:Chem 1702 RPM Hours- Rujula
DESCRIPTION:
URL:https://ctl.wustl.edu/learningcenter/mentoring-sessions/chem-1702-rpm-hours-rujula/2026-02-04/
LOCATION:Gregg House – Seminar Room
CATEGORIES:Chem 1701/1702,Chemistry
END:VEVENT
BEGIN:VEVENT
DTSTART;TZID=America/Chicago:20260216T180000
DTEND;TZID=America/Chicago:20260216T200000
DTSTAMP:20260420T014632
CREATED:20260126T173147Z
LAST-MODIFIED:20260126T173147Z
UID:14035-1771264800-1771272000@ctl.wustl.edu
SUMMARY:Chem 1702 RPM Hours- Rujula
DESCRIPTION:
URL:https://ctl.wustl.edu/learningcenter/mentoring-sessions/chem-1702-rpm-hours-rujula/2026-02-16/
LOCATION:Gregg House – Seminar Room
CATEGORIES:Chem 1701/1702,Chemistry
END:VEVENT
BEGIN:VEVENT
DTSTART;TZID=America/Chicago:20260218T180000
DTEND;TZID=America/Chicago:20260218T200000
DTSTAMP:20260420T014632
CREATED:20260126T173147Z
LAST-MODIFIED:20260126T173147Z
UID:14036-1771437600-1771444800@ctl.wustl.edu
SUMMARY:Chem 1702 RPM Hours- Rujula
DESCRIPTION:
URL:https://ctl.wustl.edu/learningcenter/mentoring-sessions/chem-1702-rpm-hours-rujula/2026-02-18/
LOCATION:Gregg House – Seminar Room
CATEGORIES:Chem 1701/1702,Chemistry
END:VEVENT
BEGIN:VEVENT
DTSTART;TZID=America/Chicago:20260223T180000
DTEND;TZID=America/Chicago:20260223T200000
DTSTAMP:20260420T014632
CREATED:20260126T173147Z
LAST-MODIFIED:20260126T173147Z
UID:14037-1771869600-1771876800@ctl.wustl.edu
SUMMARY:Chem 1702 RPM Hours- Rujula
DESCRIPTION:
URL:https://ctl.wustl.edu/learningcenter/mentoring-sessions/chem-1702-rpm-hours-rujula/2026-02-23/
LOCATION:Gregg House – Seminar Room
CATEGORIES:Chem 1701/1702,Chemistry
END:VEVENT
BEGIN:VEVENT
DTSTART;TZID=America/Chicago:20260225T180000
DTEND;TZID=America/Chicago:20260225T200000
DTSTAMP:20260420T014632
CREATED:20260126T173147Z
LAST-MODIFIED:20260126T173147Z
UID:14038-1772042400-1772049600@ctl.wustl.edu
SUMMARY:Chem 1702 RPM Hours- Rujula
DESCRIPTION:
URL:https://ctl.wustl.edu/learningcenter/mentoring-sessions/chem-1702-rpm-hours-rujula/2026-02-25/
LOCATION:Gregg House – Seminar Room
CATEGORIES:Chem 1701/1702,Chemistry
END:VEVENT
BEGIN:VEVENT
DTSTART;TZID=America/Chicago:20260302T180000
DTEND;TZID=America/Chicago:20260302T200000
DTSTAMP:20260420T014632
CREATED:20260126T173147Z
LAST-MODIFIED:20260126T173147Z
UID:14039-1772474400-1772481600@ctl.wustl.edu
SUMMARY:Chem 1702 RPM Hours- Rujula
DESCRIPTION:
URL:https://ctl.wustl.edu/learningcenter/mentoring-sessions/chem-1702-rpm-hours-rujula/2026-03-02/
LOCATION:Gregg House – Seminar Room
CATEGORIES:Chem 1701/1702,Chemistry
END:VEVENT
BEGIN:VEVENT
DTSTART;TZID=America/Chicago:20260323T180000
DTEND;TZID=America/Chicago:20260323T200000
DTSTAMP:20260420T014632
CREATED:20260126T173147Z
LAST-MODIFIED:20260126T173147Z
UID:14045-1774288800-1774296000@ctl.wustl.edu
SUMMARY:Chem 1702 RPM Hours- Rujula
DESCRIPTION:
URL:https://ctl.wustl.edu/learningcenter/mentoring-sessions/chem-1702-rpm-hours-rujula/2026-03-23/
LOCATION:Gregg House – Seminar Room
CATEGORIES:Chem 1701/1702,Chemistry
END:VEVENT
BEGIN:VEVENT
DTSTART;TZID=America/Chicago:20260325T180000
DTEND;TZID=America/Chicago:20260325T200000
DTSTAMP:20260420T014632
CREATED:20260126T173147Z
LAST-MODIFIED:20260126T173147Z
UID:14046-1774461600-1774468800@ctl.wustl.edu
SUMMARY:Chem 1702 RPM Hours- Rujula
DESCRIPTION:
URL:https://ctl.wustl.edu/learningcenter/mentoring-sessions/chem-1702-rpm-hours-rujula/2026-03-25/
LOCATION:Gregg House – Seminar Room
CATEGORIES:Chem 1701/1702,Chemistry
END:VEVENT
BEGIN:VEVENT
DTSTART;TZID=America/Chicago:20260330T180000
DTEND;TZID=America/Chicago:20260330T200000
DTSTAMP:20260420T014632
CREATED:20260126T173147Z
LAST-MODIFIED:20260126T173147Z
UID:14047-1774893600-1774900800@ctl.wustl.edu
SUMMARY:Chem 1702 RPM Hours- Rujula
DESCRIPTION:
URL:https://ctl.wustl.edu/learningcenter/mentoring-sessions/chem-1702-rpm-hours-rujula/2026-03-30/
LOCATION:Gregg House – Seminar Room
CATEGORIES:Chem 1701/1702,Chemistry
END:VEVENT
BEGIN:VEVENT
DTSTART;TZID=America/Chicago:20260401T180000
DTEND;TZID=America/Chicago:20260401T200000
DTSTAMP:20260420T014632
CREATED:20260126T173147Z
LAST-MODIFIED:20260126T173147Z
UID:14048-1775066400-1775073600@ctl.wustl.edu
SUMMARY:Chem 1702 RPM Hours- Rujula
DESCRIPTION:
URL:https://ctl.wustl.edu/learningcenter/mentoring-sessions/chem-1702-rpm-hours-rujula/2026-04-01/
LOCATION:Gregg House – Seminar Room
CATEGORIES:Chem 1701/1702,Chemistry
END:VEVENT
BEGIN:VEVENT
DTSTART;TZID=America/Chicago:20260406T180000
DTEND;TZID=America/Chicago:20260406T200000
DTSTAMP:20260420T014632
CREATED:20260126T173147Z
LAST-MODIFIED:20260126T173147Z
UID:14049-1775498400-1775505600@ctl.wustl.edu
SUMMARY:Chem 1702 RPM Hours- Rujula
DESCRIPTION:
URL:https://ctl.wustl.edu/learningcenter/mentoring-sessions/chem-1702-rpm-hours-rujula/2026-04-06/
LOCATION:Gregg House – Seminar Room
CATEGORIES:Chem 1701/1702,Chemistry
END:VEVENT
BEGIN:VEVENT
DTSTART;TZID=America/Chicago:20260408T180000
DTEND;TZID=America/Chicago:20260408T200000
DTSTAMP:20260420T014632
CREATED:20260126T173147Z
LAST-MODIFIED:20260126T173147Z
UID:14050-1775671200-1775678400@ctl.wustl.edu
SUMMARY:Chem 1702 RPM Hours- Rujula
DESCRIPTION:
URL:https://ctl.wustl.edu/learningcenter/mentoring-sessions/chem-1702-rpm-hours-rujula/2026-04-08/
LOCATION:Gregg House – Seminar Room
CATEGORIES:Chem 1701/1702,Chemistry
END:VEVENT
BEGIN:VEVENT
DTSTART;TZID=America/Chicago:20260304T180000
DTEND;TZID=America/Chicago:20260304T200000
DTSTAMP:20260420T014632
CREATED:20260126T173147Z
LAST-MODIFIED:20260226T154105Z
UID:14040-1772647200-1772654400@ctl.wustl.edu
SUMMARY:Chem 1702 RPM Hours- Rujula-CANCELED
DESCRIPTION:
URL:https://ctl.wustl.edu/learningcenter/mentoring-sessions/chem-1702-rpm-hours-rujula-2026-03-04/
LOCATION:Gregg House – Seminar Room
CATEGORIES:Chem 1701/1702,Chemistry
END:VEVENT
BEGIN:VEVENT
DTSTART;TZID=America/Chicago:20250930T190000
DTEND;TZID=America/Chicago:20250930T210000
DTSTAMP:20260420T014632
CREATED:20250929T183640Z
LAST-MODIFIED:20250929T183640Z
UID:13530-1759258800-1759266000@ctl.wustl.edu
SUMMARY:Chem 1701 Exam Review
DESCRIPTION:
URL:https://ctl.wustl.edu/learningcenter/mentoring-sessions/chem-1701-exam-review/2025-09-30/
LOCATION:Simon 023
CATEGORIES:Chem 1701/1702,Chemistry
END:VEVENT
BEGIN:VEVENT
DTSTART;TZID=America/Chicago:20251028T190000
DTEND;TZID=America/Chicago:20251028T210000
DTSTAMP:20260420T014632
CREATED:20250929T183640Z
LAST-MODIFIED:20250929T183640Z
UID:13531-1761678000-1761685200@ctl.wustl.edu
SUMMARY:Chem 1701 Exam Review
DESCRIPTION:
URL:https://ctl.wustl.edu/learningcenter/mentoring-sessions/chem-1701-exam-review/2025-10-28/
LOCATION:Simon 023
CATEGORIES:Chem 1701/1702,Chemistry
END:VEVENT
BEGIN:VEVENT
DTSTART;TZID=America/Chicago:20251202T190000
DTEND;TZID=America/Chicago:20251202T210000
DTSTAMP:20260420T014632
CREATED:20250929T183640Z
LAST-MODIFIED:20250929T183640Z
UID:13532-1764702000-1764709200@ctl.wustl.edu
SUMMARY:Chem 1701 Exam Review
DESCRIPTION:
URL:https://ctl.wustl.edu/learningcenter/mentoring-sessions/chem-1701-exam-review/2025-12-02/
LOCATION:Simon 023
CATEGORIES:Chem 1701/1702,Chemistry
END:VEVENT
BEGIN:VEVENT
DTSTART;TZID=America/Chicago:20250909T190000
DTEND;TZID=America/Chicago:20250909T210000
DTSTAMP:20260420T014632
CREATED:20250907T131539Z
LAST-MODIFIED:20251007T152923Z
UID:12777-1757444400-1757451600@ctl.wustl.edu
SUMMARY:Chem 1701 RPM Hours- Rujula
DESCRIPTION:
URL:https://ctl.wustl.edu/learningcenter/mentoring-sessions/chem-1701-rpm-hours-rujula/2025-09-09/
LOCATION:Shepley House Seminar Room
CATEGORIES:Chem 1701/1702,Chemistry
END:VEVENT
BEGIN:VEVENT
DTSTART;TZID=America/Chicago:20250910T190000
DTEND;TZID=America/Chicago:20250910T210000
DTSTAMP:20260420T014632
CREATED:20250907T131539Z
LAST-MODIFIED:20251007T152923Z
UID:12791-1757530800-1757538000@ctl.wustl.edu
SUMMARY:Chem 1701 RPM Hours- Rujula
DESCRIPTION:
URL:https://ctl.wustl.edu/learningcenter/mentoring-sessions/chem-1701-rpm-hours-rujula/2025-09-10/
LOCATION:Shepley House Seminar Room
CATEGORIES:Chem 1701/1702,Chemistry
END:VEVENT
BEGIN:VEVENT
DTSTART;TZID=America/Chicago:20250916T190000
DTEND;TZID=America/Chicago:20250916T210000
DTSTAMP:20260420T014632
CREATED:20250907T131539Z
LAST-MODIFIED:20251007T152923Z
UID:12778-1758049200-1758056400@ctl.wustl.edu
SUMMARY:Chem 1701 RPM Hours- Rujula
DESCRIPTION:
URL:https://ctl.wustl.edu/learningcenter/mentoring-sessions/chem-1701-rpm-hours-rujula/2025-09-16/
LOCATION:Shepley House Seminar Room
CATEGORIES:Chem 1701/1702,Chemistry
END:VEVENT
BEGIN:VEVENT
DTSTART;TZID=America/Chicago:20250917T190000
DTEND;TZID=America/Chicago:20250917T210000
DTSTAMP:20260420T014632
CREATED:20250907T131539Z
LAST-MODIFIED:20251007T152924Z
UID:12792-1758135600-1758142800@ctl.wustl.edu
SUMMARY:Chem 1701 RPM Hours- Rujula
DESCRIPTION:
URL:https://ctl.wustl.edu/learningcenter/mentoring-sessions/chem-1701-rpm-hours-rujula/2025-09-17/
LOCATION:Shepley House Seminar Room
CATEGORIES:Chem 1701/1702,Chemistry
END:VEVENT
BEGIN:VEVENT
DTSTART;TZID=America/Chicago:20250923T190000
DTEND;TZID=America/Chicago:20250923T210000
DTSTAMP:20260420T014632
CREATED:20250907T131539Z
LAST-MODIFIED:20251007T152924Z
UID:12779-1758654000-1758661200@ctl.wustl.edu
SUMMARY:Chem 1701 RPM Hours- Rujula
DESCRIPTION:
URL:https://ctl.wustl.edu/learningcenter/mentoring-sessions/chem-1701-rpm-hours-rujula/2025-09-23/
LOCATION:Shepley House Seminar Room
CATEGORIES:Chem 1701/1702,Chemistry
END:VEVENT
BEGIN:VEVENT
DTSTART;TZID=America/Chicago:20250924T190000
DTEND;TZID=America/Chicago:20250924T210000
DTSTAMP:20260420T014632
CREATED:20250907T131539Z
LAST-MODIFIED:20251007T152924Z
UID:12793-1758740400-1758747600@ctl.wustl.edu
SUMMARY:Chem 1701 RPM Hours- Rujula
DESCRIPTION:
URL:https://ctl.wustl.edu/learningcenter/mentoring-sessions/chem-1701-rpm-hours-rujula/2025-09-24/
LOCATION:Shepley House Seminar Room
CATEGORIES:Chem 1701/1702,Chemistry
END:VEVENT
BEGIN:VEVENT
DTSTART;TZID=America/Chicago:20251008T190000
DTEND;TZID=America/Chicago:20251008T210000
DTSTAMP:20260420T014632
CREATED:20250907T131539Z
LAST-MODIFIED:20251007T152926Z
UID:12795-1759950000-1759957200@ctl.wustl.edu
SUMMARY:Chem 1701 RPM Hours- Rujula
DESCRIPTION:
URL:https://ctl.wustl.edu/learningcenter/mentoring-sessions/chem-1701-rpm-hours-rujula/2025-10-08/
LOCATION:Shepley House Seminar Room
CATEGORIES:Chem 1701/1702,Chemistry
END:VEVENT
BEGIN:VEVENT
DTSTART;TZID=America/Chicago:20251014T190000
DTEND;TZID=America/Chicago:20251014T210000
DTSTAMP:20260420T014632
CREATED:20250907T131539Z
LAST-MODIFIED:20251007T152926Z
UID:12782-1760468400-1760475600@ctl.wustl.edu
SUMMARY:Chem 1701 RPM Hours- Rujula
DESCRIPTION:
URL:https://ctl.wustl.edu/learningcenter/mentoring-sessions/chem-1701-rpm-hours-rujula/2025-10-14/
LOCATION:Shepley House Seminar Room
CATEGORIES:Chem 1701/1702,Chemistry
END:VEVENT
BEGIN:VEVENT
DTSTART;TZID=America/Chicago:20251021T190000
DTEND;TZID=America/Chicago:20251021T210000
DTSTAMP:20260420T014632
CREATED:20250907T131539Z
LAST-MODIFIED:20251007T152929Z
UID:12783-1761073200-1761080400@ctl.wustl.edu
SUMMARY:Chem 1701 RPM Hours- Rujula
DESCRIPTION:
URL:https://ctl.wustl.edu/learningcenter/mentoring-sessions/chem-1701-rpm-hours-rujula/2025-10-21/
LOCATION:Shepley House Seminar Room
CATEGORIES:Chem 1701/1702,Chemistry
END:VEVENT
END:VCALENDAR