BEGIN:VCALENDAR
VERSION:2.0
PRODID:-//The Learning Center - ECPv6.15.16.1//NONSGML v1.0//EN
CALSCALE:GREGORIAN
METHOD:PUBLISH
X-WR-CALNAME:The Learning Center
X-ORIGINAL-URL:https://ctl.wustl.edu/learningcenter
X-WR-CALDESC:Events for The Learning Center
REFRESH-INTERVAL;VALUE=DURATION:PT1H
X-Robots-Tag:noindex
X-PUBLISHED-TTL:PT1H
BEGIN:VTIMEZONE
TZID:America/Chicago
BEGIN:DAYLIGHT
TZOFFSETFROM:-0600
TZOFFSETTO:-0500
TZNAME:CDT
DTSTART:20230312T080000
END:DAYLIGHT
BEGIN:STANDARD
TZOFFSETFROM:-0500
TZOFFSETTO:-0600
TZNAME:CST
DTSTART:20231105T070000
END:STANDARD
BEGIN:DAYLIGHT
TZOFFSETFROM:-0600
TZOFFSETTO:-0500
TZNAME:CDT
DTSTART:20240310T080000
END:DAYLIGHT
BEGIN:STANDARD
TZOFFSETFROM:-0500
TZOFFSETTO:-0600
TZNAME:CST
DTSTART:20241103T070000
END:STANDARD
BEGIN:DAYLIGHT
TZOFFSETFROM:-0600
TZOFFSETTO:-0500
TZNAME:CDT
DTSTART:20250309T080000
END:DAYLIGHT
BEGIN:STANDARD
TZOFFSETFROM:-0500
TZOFFSETTO:-0600
TZNAME:CST
DTSTART:20251102T070000
END:STANDARD
BEGIN:DAYLIGHT
TZOFFSETFROM:-0600
TZOFFSETTO:-0500
TZNAME:CDT
DTSTART:20260308T080000
END:DAYLIGHT
BEGIN:STANDARD
TZOFFSETFROM:-0500
TZOFFSETTO:-0600
TZNAME:CST
DTSTART:20261101T070000
END:STANDARD
END:VTIMEZONE
BEGIN:VEVENT
DTSTART;TZID=America/Chicago:20251202T190000
DTEND;TZID=America/Chicago:20251202T210000
DTSTAMP:20260424T212707
CREATED:20250907T131539Z
LAST-MODIFIED:20251007T152933Z
UID:12789-1764702000-1764709200@ctl.wustl.edu
SUMMARY:Chem 1701 RPM Hours- Rujula
DESCRIPTION:
URL:https://ctl.wustl.edu/learningcenter/mentoring-sessions/chem-1701-rpm-hours-rujula/2025-12-02/
LOCATION:Shepley House Seminar Room
CATEGORIES:Chem 1701/1702,Chemistry
END:VEVENT
BEGIN:VEVENT
DTSTART;TZID=America/Chicago:20251015T190000
DTEND;TZID=America/Chicago:20251015T210000
DTSTAMP:20260424T212707
CREATED:20250907T131539Z
LAST-MODIFIED:20251009T162139Z
UID:12796-1760554800-1760562000@ctl.wustl.edu
SUMMARY:Chem 1701 RPM Hours- Rujula-CANCELED
DESCRIPTION:
URL:https://ctl.wustl.edu/learningcenter/mentoring-sessions/chem-1701-rpm-hours-rujula-2025-10-15/
LOCATION:Shepley House Seminar Room
CATEGORIES:Chem 1701/1702,Chemistry
END:VEVENT
BEGIN:VEVENT
DTSTART;TZID=America/Chicago:20251111T200000
DTEND;TZID=America/Chicago:20251111T220000
DTSTAMP:20260424T212707
CREATED:20250907T131539Z
LAST-MODIFIED:20251109T144025Z
UID:12786-1762891200-1762898400@ctl.wustl.edu
SUMMARY:Chem 1701 RPM Hours- Rujula
DESCRIPTION:
URL:https://ctl.wustl.edu/learningcenter/mentoring-sessions/chem-1701-rpm-hours-rujula-2025-11-11/
LOCATION:Shepley House Seminar Room
CATEGORIES:Chem 1701/1702,Chemistry
END:VEVENT
BEGIN:VEVENT
DTSTART;TZID=America/Chicago:20250317T180000
DTEND;TZID=America/Chicago:20250317T210000
DTSTAMP:20260424T212707
CREATED:20250228T201308Z
LAST-MODIFIED:20250228T201308Z
UID:12111-1742234400-1742245200@ctl.wustl.edu
SUMMARY:Chem 112A Exam 2 Review
DESCRIPTION:
URL:https://ctl.wustl.edu/learningcenter/mentoring-sessions/chem-112a-exam-2-review/
LOCATION:Seigle 208
CATEGORIES:Chem 1701/1702,Chemistry
END:VEVENT
BEGIN:VEVENT
DTSTART;TZID=America/Chicago:20250210T180000
DTEND;TZID=America/Chicago:20250210T210000
DTSTAMP:20260424T212707
CREATED:20250210T141411Z
LAST-MODIFIED:20250210T141411Z
UID:12095-1739210400-1739221200@ctl.wustl.edu
SUMMARY:Chem 112A Exam 1 Review
DESCRIPTION:
URL:https://ctl.wustl.edu/learningcenter/mentoring-sessions/chem-112a-exam-1-review/
LOCATION:Seigle 304
CATEGORIES:Chem 1701/1702,Chemistry
END:VEVENT
BEGIN:VEVENT
DTSTART;TZID=America/Chicago:20250128T200000
DTEND;TZID=America/Chicago:20250128T220000
DTSTAMP:20260424T212707
CREATED:20250124T172545Z
LAST-MODIFIED:20250124T172545Z
UID:11525-1738094400-1738101600@ctl.wustl.edu
SUMMARY:Chem 112A RPM Hours-Rujula
DESCRIPTION:
URL:https://ctl.wustl.edu/learningcenter/mentoring-sessions/chem-112a-rpm-hours-rujula/2025-01-28/
LOCATION:Thomas Eliot Seminar Room
CATEGORIES:Chem 1701/1702,Chemistry
END:VEVENT
BEGIN:VEVENT
DTSTART;TZID=America/Chicago:20250129T200000
DTEND;TZID=America/Chicago:20250129T220000
DTSTAMP:20260424T212707
CREATED:20250124T172545Z
LAST-MODIFIED:20250124T172545Z
UID:11526-1738180800-1738188000@ctl.wustl.edu
SUMMARY:Chem 112A RPM Hours-Rujula
DESCRIPTION:
URL:https://ctl.wustl.edu/learningcenter/mentoring-sessions/chem-112a-rpm-hours-rujula/2025-01-29/
LOCATION:Thomas Eliot Seminar Room
CATEGORIES:Chem 1701/1702,Chemistry
END:VEVENT
BEGIN:VEVENT
DTSTART;TZID=America/Chicago:20250204T200000
DTEND;TZID=America/Chicago:20250204T220000
DTSTAMP:20260424T212707
CREATED:20250124T172545Z
LAST-MODIFIED:20250124T172545Z
UID:11527-1738699200-1738706400@ctl.wustl.edu
SUMMARY:Chem 112A RPM Hours-Rujula
DESCRIPTION:
URL:https://ctl.wustl.edu/learningcenter/mentoring-sessions/chem-112a-rpm-hours-rujula/2025-02-04/
LOCATION:Thomas Eliot Seminar Room
CATEGORIES:Chem 1701/1702,Chemistry
END:VEVENT
BEGIN:VEVENT
DTSTART;TZID=America/Chicago:20250205T200000
DTEND;TZID=America/Chicago:20250205T220000
DTSTAMP:20260424T212707
CREATED:20250124T172545Z
LAST-MODIFIED:20250124T172545Z
UID:11528-1738785600-1738792800@ctl.wustl.edu
SUMMARY:Chem 112A RPM Hours-Rujula
DESCRIPTION:
URL:https://ctl.wustl.edu/learningcenter/mentoring-sessions/chem-112a-rpm-hours-rujula/2025-02-05/
LOCATION:Thomas Eliot Seminar Room
CATEGORIES:Chem 1701/1702,Chemistry
END:VEVENT
BEGIN:VEVENT
DTSTART;TZID=America/Chicago:20250218T200000
DTEND;TZID=America/Chicago:20250218T220000
DTSTAMP:20260424T212707
CREATED:20250124T172545Z
LAST-MODIFIED:20250124T172545Z
UID:11531-1739908800-1739916000@ctl.wustl.edu
SUMMARY:Chem 112A RPM Hours-Rujula
DESCRIPTION:
URL:https://ctl.wustl.edu/learningcenter/mentoring-sessions/chem-112a-rpm-hours-rujula/2025-02-18/
LOCATION:Thomas Eliot Seminar Room
CATEGORIES:Chem 1701/1702,Chemistry
END:VEVENT
BEGIN:VEVENT
DTSTART;TZID=America/Chicago:20250219T200000
DTEND;TZID=America/Chicago:20250219T220000
DTSTAMP:20260424T212707
CREATED:20250124T172545Z
LAST-MODIFIED:20250124T172545Z
UID:11532-1739995200-1740002400@ctl.wustl.edu
SUMMARY:Chem 112A RPM Hours-Rujula
DESCRIPTION:
URL:https://ctl.wustl.edu/learningcenter/mentoring-sessions/chem-112a-rpm-hours-rujula/2025-02-19/
LOCATION:Thomas Eliot Seminar Room
CATEGORIES:Chem 1701/1702,Chemistry
END:VEVENT
BEGIN:VEVENT
DTSTART;TZID=America/Chicago:20250225T200000
DTEND;TZID=America/Chicago:20250225T220000
DTSTAMP:20260424T212707
CREATED:20250124T172545Z
LAST-MODIFIED:20250124T172545Z
UID:11533-1740513600-1740520800@ctl.wustl.edu
SUMMARY:Chem 112A RPM Hours-Rujula
DESCRIPTION:
URL:https://ctl.wustl.edu/learningcenter/mentoring-sessions/chem-112a-rpm-hours-rujula/2025-02-25/
LOCATION:Thomas Eliot Seminar Room
CATEGORIES:Chem 1701/1702,Chemistry
END:VEVENT
BEGIN:VEVENT
DTSTART;TZID=America/Chicago:20250226T200000
DTEND;TZID=America/Chicago:20250226T220000
DTSTAMP:20260424T212707
CREATED:20250124T172545Z
LAST-MODIFIED:20250124T172545Z
UID:11534-1740600000-1740607200@ctl.wustl.edu
SUMMARY:Chem 112A RPM Hours-Rujula
DESCRIPTION:
URL:https://ctl.wustl.edu/learningcenter/mentoring-sessions/chem-112a-rpm-hours-rujula/2025-02-26/
LOCATION:Thomas Eliot Seminar Room
CATEGORIES:Chem 1701/1702,Chemistry
END:VEVENT
BEGIN:VEVENT
DTSTART;TZID=America/Chicago:20250304T200000
DTEND;TZID=America/Chicago:20250304T220000
DTSTAMP:20260424T212707
CREATED:20250124T172545Z
LAST-MODIFIED:20250124T172545Z
UID:11535-1741118400-1741125600@ctl.wustl.edu
SUMMARY:Chem 112A RPM Hours-Rujula
DESCRIPTION:
URL:https://ctl.wustl.edu/learningcenter/mentoring-sessions/chem-112a-rpm-hours-rujula/2025-03-04/
LOCATION:Thomas Eliot Seminar Room
CATEGORIES:Chem 1701/1702,Chemistry
END:VEVENT
BEGIN:VEVENT
DTSTART;TZID=America/Chicago:20250305T200000
DTEND;TZID=America/Chicago:20250305T220000
DTSTAMP:20260424T212707
CREATED:20250124T172545Z
LAST-MODIFIED:20250124T172545Z
UID:11536-1741204800-1741212000@ctl.wustl.edu
SUMMARY:Chem 112A RPM Hours-Rujula
DESCRIPTION:
URL:https://ctl.wustl.edu/learningcenter/mentoring-sessions/chem-112a-rpm-hours-rujula/2025-03-05/
LOCATION:Thomas Eliot Seminar Room
CATEGORIES:Chem 1701/1702,Chemistry
END:VEVENT
BEGIN:VEVENT
DTSTART;TZID=America/Chicago:20250325T200000
DTEND;TZID=America/Chicago:20250325T220000
DTSTAMP:20260424T212707
CREATED:20250124T172545Z
LAST-MODIFIED:20250124T172545Z
UID:11541-1742932800-1742940000@ctl.wustl.edu
SUMMARY:Chem 112A RPM Hours-Rujula
DESCRIPTION:
URL:https://ctl.wustl.edu/learningcenter/mentoring-sessions/chem-112a-rpm-hours-rujula/2025-03-25/
LOCATION:Thomas Eliot Seminar Room
CATEGORIES:Chem 1701/1702,Chemistry
END:VEVENT
BEGIN:VEVENT
DTSTART;TZID=America/Chicago:20250326T200000
DTEND;TZID=America/Chicago:20250326T220000
DTSTAMP:20260424T212707
CREATED:20250124T172545Z
LAST-MODIFIED:20250124T172545Z
UID:11542-1743019200-1743026400@ctl.wustl.edu
SUMMARY:Chem 112A RPM Hours-Rujula
DESCRIPTION:
URL:https://ctl.wustl.edu/learningcenter/mentoring-sessions/chem-112a-rpm-hours-rujula/2025-03-26/
LOCATION:Thomas Eliot Seminar Room
CATEGORIES:Chem 1701/1702,Chemistry
END:VEVENT
BEGIN:VEVENT
DTSTART;TZID=America/Chicago:20250401T200000
DTEND;TZID=America/Chicago:20250401T220000
DTSTAMP:20260424T212707
CREATED:20250124T172545Z
LAST-MODIFIED:20250124T172545Z
UID:11543-1743537600-1743544800@ctl.wustl.edu
SUMMARY:Chem 112A RPM Hours-Rujula
DESCRIPTION:
URL:https://ctl.wustl.edu/learningcenter/mentoring-sessions/chem-112a-rpm-hours-rujula/2025-04-01/
LOCATION:Thomas Eliot Seminar Room
CATEGORIES:Chem 1701/1702,Chemistry
END:VEVENT
BEGIN:VEVENT
DTSTART;TZID=America/Chicago:20250402T200000
DTEND;TZID=America/Chicago:20250402T220000
DTSTAMP:20260424T212707
CREATED:20250124T172545Z
LAST-MODIFIED:20250124T172545Z
UID:11544-1743624000-1743631200@ctl.wustl.edu
SUMMARY:Chem 112A RPM Hours-Rujula
DESCRIPTION:
URL:https://ctl.wustl.edu/learningcenter/mentoring-sessions/chem-112a-rpm-hours-rujula/2025-04-02/
LOCATION:Thomas Eliot Seminar Room
CATEGORIES:Chem 1701/1702,Chemistry
END:VEVENT
BEGIN:VEVENT
DTSTART;TZID=America/Chicago:20250408T200000
DTEND;TZID=America/Chicago:20250408T220000
DTSTAMP:20260424T212707
CREATED:20250124T172545Z
LAST-MODIFIED:20250124T172545Z
UID:11545-1744142400-1744149600@ctl.wustl.edu
SUMMARY:Chem 112A RPM Hours-Rujula
DESCRIPTION:
URL:https://ctl.wustl.edu/learningcenter/mentoring-sessions/chem-112a-rpm-hours-rujula/2025-04-08/
LOCATION:Thomas Eliot Seminar Room
CATEGORIES:Chem 1701/1702,Chemistry
END:VEVENT
BEGIN:VEVENT
DTSTART;TZID=America/Chicago:20250409T200000
DTEND;TZID=America/Chicago:20250409T220000
DTSTAMP:20260424T212707
CREATED:20250124T172545Z
LAST-MODIFIED:20250124T172545Z
UID:11546-1744228800-1744236000@ctl.wustl.edu
SUMMARY:Chem 112A RPM Hours-Rujula
DESCRIPTION:
URL:https://ctl.wustl.edu/learningcenter/mentoring-sessions/chem-112a-rpm-hours-rujula/2025-04-09/
LOCATION:Thomas Eliot Seminar Room
CATEGORIES:Chem 1701/1702,Chemistry
END:VEVENT
BEGIN:VEVENT
DTSTART;TZID=America/Chicago:20250423T200000
DTEND;TZID=America/Chicago:20250423T220000
DTSTAMP:20260424T212707
CREATED:20250124T172545Z
LAST-MODIFIED:20250124T172545Z
UID:11550-1745438400-1745445600@ctl.wustl.edu
SUMMARY:Chem 112A RPM Hours-Rujula
DESCRIPTION:
URL:https://ctl.wustl.edu/learningcenter/mentoring-sessions/chem-112a-rpm-hours-rujula/2025-04-23/
LOCATION:Thomas Eliot Seminar Room
CATEGORIES:Chem 1701/1702,Chemistry
END:VEVENT
BEGIN:VEVENT
DTSTART;TZID=America/Chicago:20250422T200000
DTEND;TZID=America/Chicago:20250422T220000
DTSTAMP:20260424T212707
CREATED:20250124T172545Z
LAST-MODIFIED:20250418T220046Z
UID:11549-1745352000-1745359200@ctl.wustl.edu
SUMMARY:Chem 112A RPM Hours-Rujula-CANCELED
DESCRIPTION:
URL:https://ctl.wustl.edu/learningcenter/mentoring-sessions/chem-112a-rpm-hours-rujula-2025-04-22/
LOCATION:Thomas Eliot Seminar Room
CATEGORIES:Chem 1701/1702,Chemistry
END:VEVENT
BEGIN:VEVENT
DTSTART;TZID=America/Chicago:20240930T180000
DTEND;TZID=America/Chicago:20240930T210000
DTSTAMP:20260424T212707
CREATED:20240927T211918Z
LAST-MODIFIED:20240927T211918Z
UID:10936-1727719200-1727730000@ctl.wustl.edu
SUMMARY:CHEM 111 Exam 1 Review
DESCRIPTION:
URL:https://ctl.wustl.edu/learningcenter/mentoring-sessions/chem-111-exam-1-review/
LOCATION:Seigle 204 & 303
CATEGORIES:Chem 1701/1702,Chemistry
END:VEVENT
BEGIN:VEVENT
DTSTART;TZID=America/Chicago:20240910T200000
DTEND;TZID=America/Chicago:20240910T220000
DTSTAMP:20260424T212707
CREATED:20240910T005325Z
LAST-MODIFIED:20240910T005325Z
UID:10755-1725998400-1726005600@ctl.wustl.edu
SUMMARY:Chem 111 RPM Hours-Rujula
DESCRIPTION:
URL:https://ctl.wustl.edu/learningcenter/mentoring-sessions/chem-111-rpm-hours-rujula-2/2024-09-10/
LOCATION:Thomas Eliot Seminar Room
CATEGORIES:Chem 1701/1702,Chemistry
END:VEVENT
BEGIN:VEVENT
DTSTART;TZID=America/Chicago:20240917T200000
DTEND;TZID=America/Chicago:20240917T220000
DTSTAMP:20260424T212707
CREATED:20240910T005325Z
LAST-MODIFIED:20240910T005325Z
UID:10756-1726603200-1726610400@ctl.wustl.edu
SUMMARY:Chem 111 RPM Hours-Rujula
DESCRIPTION:
URL:https://ctl.wustl.edu/learningcenter/mentoring-sessions/chem-111-rpm-hours-rujula-2/2024-09-17/
LOCATION:Thomas Eliot Seminar Room
CATEGORIES:Chem 1701/1702,Chemistry
END:VEVENT
BEGIN:VEVENT
DTSTART;TZID=America/Chicago:20240924T200000
DTEND;TZID=America/Chicago:20240924T220000
DTSTAMP:20260424T212707
CREATED:20240910T005325Z
LAST-MODIFIED:20240910T005325Z
UID:10757-1727208000-1727215200@ctl.wustl.edu
SUMMARY:Chem 111 RPM Hours-Rujula
DESCRIPTION:
URL:https://ctl.wustl.edu/learningcenter/mentoring-sessions/chem-111-rpm-hours-rujula-2/2024-09-24/
LOCATION:Thomas Eliot Seminar Room
CATEGORIES:Chem 1701/1702,Chemistry
END:VEVENT
BEGIN:VEVENT
DTSTART;TZID=America/Chicago:20241015T200000
DTEND;TZID=America/Chicago:20241015T220000
DTSTAMP:20260424T212707
CREATED:20240910T005325Z
LAST-MODIFIED:20240910T005325Z
UID:10760-1729022400-1729029600@ctl.wustl.edu
SUMMARY:Chem 111 RPM Hours-Rujula
DESCRIPTION:
URL:https://ctl.wustl.edu/learningcenter/mentoring-sessions/chem-111-rpm-hours-rujula-2/2024-10-15/
LOCATION:Thomas Eliot Seminar Room
CATEGORIES:Chem 1701/1702,Chemistry
END:VEVENT
BEGIN:VEVENT
DTSTART;TZID=America/Chicago:20241022T200000
DTEND;TZID=America/Chicago:20241022T220000
DTSTAMP:20260424T212707
CREATED:20240910T005325Z
LAST-MODIFIED:20240910T005325Z
UID:10761-1729627200-1729634400@ctl.wustl.edu
SUMMARY:Chem 111 RPM Hours-Rujula
DESCRIPTION:
URL:https://ctl.wustl.edu/learningcenter/mentoring-sessions/chem-111-rpm-hours-rujula-2/2024-10-22/
LOCATION:Thomas Eliot Seminar Room
CATEGORIES:Chem 1701/1702,Chemistry
END:VEVENT
BEGIN:VEVENT
DTSTART;TZID=America/Chicago:20241029T200000
DTEND;TZID=America/Chicago:20241029T220000
DTSTAMP:20260424T212707
CREATED:20240910T005325Z
LAST-MODIFIED:20240910T005325Z
UID:10762-1730232000-1730239200@ctl.wustl.edu
SUMMARY:Chem 111 RPM Hours-Rujula
DESCRIPTION:
URL:https://ctl.wustl.edu/learningcenter/mentoring-sessions/chem-111-rpm-hours-rujula-2/2024-10-29/
LOCATION:Thomas Eliot Seminar Room
CATEGORIES:Chem 1701/1702,Chemistry
END:VEVENT
END:VCALENDAR