BEGIN:VCALENDAR
VERSION:2.0
PRODID:-//The Learning Center - ECPv6.15.16.1//NONSGML v1.0//EN
CALSCALE:GREGORIAN
METHOD:PUBLISH
X-WR-CALNAME:The Learning Center
X-ORIGINAL-URL:https://ctl.wustl.edu/learningcenter
X-WR-CALDESC:Events for The Learning Center
REFRESH-INTERVAL;VALUE=DURATION:PT1H
X-Robots-Tag:noindex
X-PUBLISHED-TTL:PT1H
BEGIN:VTIMEZONE
TZID:America/Chicago
BEGIN:DAYLIGHT
TZOFFSETFROM:-0600
TZOFFSETTO:-0500
TZNAME:CDT
DTSTART:20250309T080000
END:DAYLIGHT
BEGIN:STANDARD
TZOFFSETFROM:-0500
TZOFFSETTO:-0600
TZNAME:CST
DTSTART:20251102T070000
END:STANDARD
BEGIN:DAYLIGHT
TZOFFSETFROM:-0600
TZOFFSETTO:-0500
TZNAME:CDT
DTSTART:20260308T080000
END:DAYLIGHT
BEGIN:STANDARD
TZOFFSETFROM:-0500
TZOFFSETTO:-0600
TZNAME:CST
DTSTART:20261101T070000
END:STANDARD
BEGIN:DAYLIGHT
TZOFFSETFROM:-0600
TZOFFSETTO:-0500
TZNAME:CDT
DTSTART:20270314T080000
END:DAYLIGHT
BEGIN:STANDARD
TZOFFSETFROM:-0500
TZOFFSETTO:-0600
TZNAME:CST
DTSTART:20271107T070000
END:STANDARD
END:VTIMEZONE
BEGIN:VEVENT
DTSTART;TZID=America/Chicago:20260413T190000
DTEND;TZID=America/Chicago:20260413T210000
DTSTAMP:20260425T160204
CREATED:20260202T180439Z
LAST-MODIFIED:20260202T180439Z
UID:14518-1776106800-1776114000@ctl.wustl.edu
SUMMARY:CHEM 1602 EXAM REVIEW
DESCRIPTION:
URL:https://ctl.wustl.edu/learningcenter/mentoring-sessions/chem-1602-exam-review-2/2026-04-13/
LOCATION:Simon 023
CATEGORIES:Chem 1601/1602,Chemistry
END:VEVENT
BEGIN:VEVENT
DTSTART;TZID=America/Chicago:20260316T190000
DTEND;TZID=America/Chicago:20260316T210000
DTSTAMP:20260425T160204
CREATED:20260202T180439Z
LAST-MODIFIED:20260202T180439Z
UID:14517-1773687600-1773694800@ctl.wustl.edu
SUMMARY:CHEM 1602 EXAM REVIEW
DESCRIPTION:
URL:https://ctl.wustl.edu/learningcenter/mentoring-sessions/chem-1602-exam-review-2/2026-03-16/
LOCATION:Simon 023
CATEGORIES:Chem 1601/1602,Chemistry
END:VEVENT
BEGIN:VEVENT
DTSTART;TZID=America/Chicago:20260209T190000
DTEND;TZID=America/Chicago:20260209T210000
DTSTAMP:20260425T160204
CREATED:20260202T180224Z
LAST-MODIFIED:20260202T180528Z
UID:14516-1770663600-1770670800@ctl.wustl.edu
SUMMARY:CHEM 1602 EXAM REVIEW
DESCRIPTION:
URL:https://ctl.wustl.edu/learningcenter/mentoring-sessions/chem-1602-exam-review/
LOCATION:Eads 116
CATEGORIES:Chem 1601/1602,Chemistry
END:VEVENT
BEGIN:VEVENT
DTSTART;TZID=America/Chicago:20260420T190000
DTEND;TZID=America/Chicago:20260420T210000
DTSTAMP:20260425T160204
CREATED:20260126T170853Z
LAST-MODIFIED:20260126T172047Z
UID:13978-1776711600-1776718800@ctl.wustl.edu
SUMMARY:Chem 1602 RPM Hours- Seun
DESCRIPTION:
URL:https://ctl.wustl.edu/learningcenter/mentoring-sessions/chem-1602-rpm-hours-seun/2026-04-20/
LOCATION:Lien House – Seminar Room A
CATEGORIES:Chem 1601/1602,Chemistry
END:VEVENT
BEGIN:VEVENT
DTSTART;TZID=America/Chicago:20260302T210000
DTEND;TZID=America/Chicago:20260302T230000
DTSTAMP:20260425T160204
CREATED:20260126T170853Z
LAST-MODIFIED:20260226T184849Z
UID:13964-1772485200-1772492400@ctl.wustl.edu
SUMMARY:Chem 1602 RPM Hours- Seun
DESCRIPTION:
URL:https://ctl.wustl.edu/learningcenter/mentoring-sessions/chem-1602-rpm-hours-seun-2026-03-02/
LOCATION:Lien House – Seminar Room A
CATEGORIES:Chem 1601/1602,Chemistry
END:VEVENT
BEGIN:VEVENT
DTSTART;TZID=America/Chicago:20260217T200000
DTEND;TZID=America/Chicago:20260217T220000
DTSTAMP:20260425T160204
CREATED:20260126T170853Z
LAST-MODIFIED:20260216T182337Z
UID:13960-1771358400-1771365600@ctl.wustl.edu
SUMMARY:Chem 1602 RPM Hours- Seun
DESCRIPTION:
URL:https://ctl.wustl.edu/learningcenter/mentoring-sessions/chem-1602-rpm-hours-seun-2026-02-16/
LOCATION:Lien House – Seminar Room B
CATEGORIES:Chem 1601/1602,Chemistry
END:VEVENT
BEGIN:VEVENT
DTSTART;TZID=America/Chicago:20260204T204500
DTEND;TZID=America/Chicago:20260204T224500
DTSTAMP:20260425T160204
CREATED:20260126T170853Z
LAST-MODIFIED:20260202T174436Z
UID:13957-1770237900-1770245100@ctl.wustl.edu
SUMMARY:Chem 1602 RPM Hours- Seun
DESCRIPTION:
URL:https://ctl.wustl.edu/learningcenter/mentoring-sessions/chem-1602-rpm-hours-seun-2026-02-04/
LOCATION:Lien House – Seminar Room A
CATEGORIES:Chem 1601/1602,Chemistry
END:VEVENT
BEGIN:VEVENT
DTSTART;TZID=America/Chicago:20260225T204500
DTEND;TZID=America/Chicago:20260225T224500
DTSTAMP:20260425T160204
CREATED:20260126T170853Z
LAST-MODIFIED:20260202T174340Z
UID:13963-1772052300-1772059500@ctl.wustl.edu
SUMMARY:Chem 1602 RPM Hours- Seun
DESCRIPTION:
URL:https://ctl.wustl.edu/learningcenter/mentoring-sessions/chem-1602-rpm-hours-seun-2026-02-25/
LOCATION:Lien House – Seminar Room A
CATEGORIES:Chem 1601/1602,Chemistry
END:VEVENT
BEGIN:VEVENT
DTSTART;TZID=America/Chicago:20260325T204500
DTEND;TZID=America/Chicago:20260325T224500
DTSTAMP:20260425T160204
CREATED:20260126T170853Z
LAST-MODIFIED:20260202T174304Z
UID:13971-1774471500-1774478700@ctl.wustl.edu
SUMMARY:Chem 1602 RPM Hours- Seun
DESCRIPTION:
URL:https://ctl.wustl.edu/learningcenter/mentoring-sessions/chem-1602-rpm-hours-seun-2026-03-25/
LOCATION:Lien House – Seminar Room A
CATEGORIES:Chem 1601/1602,Chemistry
END:VEVENT
BEGIN:VEVENT
DTSTART;TZID=America/Chicago:20260422T204500
DTEND;TZID=America/Chicago:20260422T224500
DTSTAMP:20260425T160204
CREATED:20260126T170853Z
LAST-MODIFIED:20260202T174226Z
UID:13979-1776890700-1776897900@ctl.wustl.edu
SUMMARY:Chem 1602 RPM Hours- Seun
DESCRIPTION:
URL:https://ctl.wustl.edu/learningcenter/mentoring-sessions/chem-1602-rpm-hours-seun-2026-04-22/
LOCATION:Lien House – Seminar Room A
CATEGORIES:Chem 1601/1602,Chemistry
END:VEVENT
BEGIN:VEVENT
DTSTART;TZID=America/Chicago:20260128T190000
DTEND;TZID=America/Chicago:20260128T210000
DTSTAMP:20260425T160204
CREATED:20260126T170853Z
LAST-MODIFIED:20260126T172039Z
UID:13941-1769626800-1769634000@ctl.wustl.edu
SUMMARY:Chem 1602 RPM Hours- Seun
DESCRIPTION:
URL:https://ctl.wustl.edu/learningcenter/mentoring-sessions/chem-1602-rpm-hours-seun/2026-01-28/
LOCATION:Lien House – Seminar Room A
CATEGORIES:Chem 1601/1602,Chemistry
END:VEVENT
BEGIN:VEVENT
DTSTART;TZID=America/Chicago:20260408T190000
DTEND;TZID=America/Chicago:20260408T210000
DTSTAMP:20260425T160204
CREATED:20260126T170853Z
LAST-MODIFIED:20260126T172046Z
UID:13975-1775674800-1775682000@ctl.wustl.edu
SUMMARY:Chem 1602 RPM Hours- Seun
DESCRIPTION:
URL:https://ctl.wustl.edu/learningcenter/mentoring-sessions/chem-1602-rpm-hours-seun/2026-04-08/
LOCATION:Lien House – Seminar Room A
CATEGORIES:Chem 1601/1602,Chemistry
END:VEVENT
BEGIN:VEVENT
DTSTART;TZID=America/Chicago:20260406T190000
DTEND;TZID=America/Chicago:20260406T210000
DTSTAMP:20260425T160204
CREATED:20260126T170853Z
LAST-MODIFIED:20260126T172046Z
UID:13974-1775502000-1775509200@ctl.wustl.edu
SUMMARY:Chem 1602 RPM Hours- Seun
DESCRIPTION:
URL:https://ctl.wustl.edu/learningcenter/mentoring-sessions/chem-1602-rpm-hours-seun/2026-04-06/
LOCATION:Lien House – Seminar Room A
CATEGORIES:Chem 1601/1602,Chemistry
END:VEVENT
BEGIN:VEVENT
DTSTART;TZID=America/Chicago:20260401T190000
DTEND;TZID=America/Chicago:20260401T210000
DTSTAMP:20260425T160204
CREATED:20260126T170853Z
LAST-MODIFIED:20260126T172046Z
UID:13973-1775070000-1775077200@ctl.wustl.edu
SUMMARY:Chem 1602 RPM Hours- Seun
DESCRIPTION:
URL:https://ctl.wustl.edu/learningcenter/mentoring-sessions/chem-1602-rpm-hours-seun/2026-04-01/
LOCATION:Lien House – Seminar Room A
CATEGORIES:Chem 1601/1602,Chemistry
END:VEVENT
BEGIN:VEVENT
DTSTART;TZID=America/Chicago:20260330T190000
DTEND;TZID=America/Chicago:20260330T210000
DTSTAMP:20260425T160204
CREATED:20260126T170853Z
LAST-MODIFIED:20260126T172045Z
UID:13972-1774897200-1774904400@ctl.wustl.edu
SUMMARY:Chem 1602 RPM Hours- Seun
DESCRIPTION:
URL:https://ctl.wustl.edu/learningcenter/mentoring-sessions/chem-1602-rpm-hours-seun/2026-03-30/
LOCATION:Lien House – Seminar Room A
CATEGORIES:Chem 1601/1602,Chemistry
END:VEVENT
BEGIN:VEVENT
DTSTART;TZID=America/Chicago:20260323T190000
DTEND;TZID=America/Chicago:20260323T210000
DTSTAMP:20260425T160204
CREATED:20260126T170853Z
LAST-MODIFIED:20260126T172045Z
UID:13970-1774292400-1774299600@ctl.wustl.edu
SUMMARY:Chem 1602 RPM Hours- Seun
DESCRIPTION:
URL:https://ctl.wustl.edu/learningcenter/mentoring-sessions/chem-1602-rpm-hours-seun/2026-03-23/
LOCATION:Lien House – Seminar Room A
CATEGORIES:Chem 1601/1602,Chemistry
END:VEVENT
BEGIN:VEVENT
DTSTART;TZID=America/Chicago:20260304T190000
DTEND;TZID=America/Chicago:20260304T210000
DTSTAMP:20260425T160204
CREATED:20260126T170853Z
LAST-MODIFIED:20260126T172044Z
UID:13965-1772650800-1772658000@ctl.wustl.edu
SUMMARY:Chem 1602 RPM Hours- Seun
DESCRIPTION:
URL:https://ctl.wustl.edu/learningcenter/mentoring-sessions/chem-1602-rpm-hours-seun/2026-03-04/
LOCATION:Lien House – Seminar Room A
CATEGORIES:Chem 1601/1602,Chemistry
END:VEVENT
BEGIN:VEVENT
DTSTART;TZID=America/Chicago:20260223T190000
DTEND;TZID=America/Chicago:20260223T210000
DTSTAMP:20260425T160204
CREATED:20260126T170853Z
LAST-MODIFIED:20260126T172041Z
UID:13962-1771873200-1771880400@ctl.wustl.edu
SUMMARY:Chem 1602 RPM Hours- Seun
DESCRIPTION:
URL:https://ctl.wustl.edu/learningcenter/mentoring-sessions/chem-1602-rpm-hours-seun/2026-02-23/
LOCATION:Lien House – Seminar Room A
CATEGORIES:Chem 1601/1602,Chemistry
END:VEVENT
BEGIN:VEVENT
DTSTART;TZID=America/Chicago:20260218T190000
DTEND;TZID=America/Chicago:20260218T210000
DTSTAMP:20260425T160204
CREATED:20260126T170853Z
LAST-MODIFIED:20260126T172041Z
UID:13961-1771441200-1771448400@ctl.wustl.edu
SUMMARY:Chem 1602 RPM Hours- Seun
DESCRIPTION:
URL:https://ctl.wustl.edu/learningcenter/mentoring-sessions/chem-1602-rpm-hours-seun/2026-02-18/
LOCATION:Lien House – Seminar Room A
CATEGORIES:Chem 1601/1602,Chemistry
END:VEVENT
BEGIN:VEVENT
DTSTART;TZID=America/Chicago:20260202T190000
DTEND;TZID=America/Chicago:20260202T210000
DTSTAMP:20260425T160204
CREATED:20260126T170853Z
LAST-MODIFIED:20260126T172039Z
UID:13956-1770058800-1770066000@ctl.wustl.edu
SUMMARY:Chem 1602 RPM Hours- Seun
DESCRIPTION:
URL:https://ctl.wustl.edu/learningcenter/mentoring-sessions/chem-1602-rpm-hours-seun/2026-02-02/
LOCATION:Lien House – Seminar Room A
CATEGORIES:Chem 1601/1602,Chemistry
END:VEVENT
END:VCALENDAR