BEGIN:VCALENDAR
VERSION:2.0
PRODID:-//The Learning Center - ECPv6.15.16.1//NONSGML v1.0//EN
CALSCALE:GREGORIAN
METHOD:PUBLISH
X-WR-CALNAME:The Learning Center
X-ORIGINAL-URL:https://ctl.wustl.edu/learningcenter
X-WR-CALDESC:Events for The Learning Center
REFRESH-INTERVAL;VALUE=DURATION:PT1H
X-Robots-Tag:noindex
X-PUBLISHED-TTL:PT1H
BEGIN:VTIMEZONE
TZID:America/Chicago
BEGIN:DAYLIGHT
TZOFFSETFROM:-0600
TZOFFSETTO:-0500
TZNAME:CDT
DTSTART:20240310T080000
END:DAYLIGHT
BEGIN:STANDARD
TZOFFSETFROM:-0500
TZOFFSETTO:-0600
TZNAME:CST
DTSTART:20241103T070000
END:STANDARD
BEGIN:DAYLIGHT
TZOFFSETFROM:-0600
TZOFFSETTO:-0500
TZNAME:CDT
DTSTART:20250309T080000
END:DAYLIGHT
BEGIN:STANDARD
TZOFFSETFROM:-0500
TZOFFSETTO:-0600
TZNAME:CST
DTSTART:20251102T070000
END:STANDARD
BEGIN:DAYLIGHT
TZOFFSETFROM:-0600
TZOFFSETTO:-0500
TZNAME:CDT
DTSTART:20260308T080000
END:DAYLIGHT
BEGIN:STANDARD
TZOFFSETFROM:-0500
TZOFFSETTO:-0600
TZNAME:CST
DTSTART:20261101T070000
END:STANDARD
BEGIN:DAYLIGHT
TZOFFSETFROM:-0600
TZOFFSETTO:-0500
TZNAME:CDT
DTSTART:20270314T080000
END:DAYLIGHT
BEGIN:STANDARD
TZOFFSETFROM:-0500
TZOFFSETTO:-0600
TZNAME:CST
DTSTART:20271107T070000
END:STANDARD
END:VTIMEZONE
BEGIN:VEVENT
DTSTART;TZID=America/Chicago:20260311T180000
DTEND;TZID=America/Chicago:20260311T200000
DTSTAMP:20260422T200104
CREATED:20260123T224921Z
LAST-MODIFIED:20260306T182731Z
UID:13771-1773252000-1773259200@ctl.wustl.edu
SUMMARY:SDS 2020 Drop-In - Tanvitha CANCELED
DESCRIPTION:
URL:https://ctl.wustl.edu/learningcenter/mentoring-sessions/sds-2020-drop-in-tanvitha-4-2026-03-11/
LOCATION:Mallinckrodt 131
CATEGORIES:Mathematics,Statistics,Stats 2020
END:VEVENT
BEGIN:VEVENT
DTSTART;TZID=America/Chicago:20260415T180000
DTEND;TZID=America/Chicago:20260415T200000
DTSTAMP:20260422T200104
CREATED:20260123T224921Z
LAST-MODIFIED:20260123T224921Z
UID:13776-1776276000-1776283200@ctl.wustl.edu
SUMMARY:SDS 2020 Drop-In - Tanvitha
DESCRIPTION:
URL:https://ctl.wustl.edu/learningcenter/mentoring-sessions/sds-2020-drop-in-tanvitha-4/2026-04-15/
LOCATION:Mallinckrodt 131
CATEGORIES:Mathematics,Statistics,Stats 2020
END:VEVENT
BEGIN:VEVENT
DTSTART;TZID=America/Chicago:20260408T180000
DTEND;TZID=America/Chicago:20260408T200000
DTSTAMP:20260422T200104
CREATED:20260123T224921Z
LAST-MODIFIED:20260123T224921Z
UID:13775-1775671200-1775678400@ctl.wustl.edu
SUMMARY:SDS 2020 Drop-In - Tanvitha
DESCRIPTION:
URL:https://ctl.wustl.edu/learningcenter/mentoring-sessions/sds-2020-drop-in-tanvitha-4/2026-04-08/
LOCATION:Mallinckrodt 131
CATEGORIES:Mathematics,Statistics,Stats 2020
END:VEVENT
BEGIN:VEVENT
DTSTART;TZID=America/Chicago:20260401T180000
DTEND;TZID=America/Chicago:20260401T200000
DTSTAMP:20260422T200104
CREATED:20260123T224921Z
LAST-MODIFIED:20260123T224921Z
UID:13774-1775066400-1775073600@ctl.wustl.edu
SUMMARY:SDS 2020 Drop-In - Tanvitha
DESCRIPTION:
URL:https://ctl.wustl.edu/learningcenter/mentoring-sessions/sds-2020-drop-in-tanvitha-4/2026-04-01/
LOCATION:Mallinckrodt 131
CATEGORIES:Mathematics,Statistics,Stats 2020
END:VEVENT
BEGIN:VEVENT
DTSTART;TZID=America/Chicago:20260325T180000
DTEND;TZID=America/Chicago:20260325T200000
DTSTAMP:20260422T200104
CREATED:20260123T224921Z
LAST-MODIFIED:20260123T224921Z
UID:13773-1774461600-1774468800@ctl.wustl.edu
SUMMARY:SDS 2020 Drop-In - Tanvitha
DESCRIPTION:
URL:https://ctl.wustl.edu/learningcenter/mentoring-sessions/sds-2020-drop-in-tanvitha-4/2026-03-25/
LOCATION:Mallinckrodt 131
CATEGORIES:Mathematics,Statistics,Stats 2020
END:VEVENT
BEGIN:VEVENT
DTSTART;TZID=America/Chicago:20260318T180000
DTEND;TZID=America/Chicago:20260318T200000
DTSTAMP:20260422T200104
CREATED:20260123T224921Z
LAST-MODIFIED:20260123T224921Z
UID:13772-1773856800-1773864000@ctl.wustl.edu
SUMMARY:SDS 2020 Drop-In - Tanvitha
DESCRIPTION:
URL:https://ctl.wustl.edu/learningcenter/mentoring-sessions/sds-2020-drop-in-tanvitha-4/2026-03-18/
LOCATION:Mallinckrodt 131
CATEGORIES:Mathematics,Statistics,Stats 2020
END:VEVENT
BEGIN:VEVENT
DTSTART;TZID=America/Chicago:20260304T180000
DTEND;TZID=America/Chicago:20260304T200000
DTSTAMP:20260422T200104
CREATED:20260123T224921Z
LAST-MODIFIED:20260123T224921Z
UID:13770-1772647200-1772654400@ctl.wustl.edu
SUMMARY:SDS 2020 Drop-In - Tanvitha
DESCRIPTION:
URL:https://ctl.wustl.edu/learningcenter/mentoring-sessions/sds-2020-drop-in-tanvitha-4/2026-03-04/
LOCATION:Mallinckrodt 131
CATEGORIES:Mathematics,Statistics,Stats 2020
END:VEVENT
BEGIN:VEVENT
DTSTART;TZID=America/Chicago:20260225T180000
DTEND;TZID=America/Chicago:20260225T200000
DTSTAMP:20260422T200104
CREATED:20260123T224921Z
LAST-MODIFIED:20260123T224921Z
UID:13769-1772042400-1772049600@ctl.wustl.edu
SUMMARY:SDS 2020 Drop-In - Tanvitha
DESCRIPTION:
URL:https://ctl.wustl.edu/learningcenter/mentoring-sessions/sds-2020-drop-in-tanvitha-4/2026-02-25/
LOCATION:Mallinckrodt 131
CATEGORIES:Mathematics,Statistics,Stats 2020
END:VEVENT
BEGIN:VEVENT
DTSTART;TZID=America/Chicago:20260218T180000
DTEND;TZID=America/Chicago:20260218T200000
DTSTAMP:20260422T200104
CREATED:20260123T224921Z
LAST-MODIFIED:20260123T224921Z
UID:13768-1771437600-1771444800@ctl.wustl.edu
SUMMARY:SDS 2020 Drop-In - Tanvitha
DESCRIPTION:
URL:https://ctl.wustl.edu/learningcenter/mentoring-sessions/sds-2020-drop-in-tanvitha-4/2026-02-18/
LOCATION:Mallinckrodt 131
CATEGORIES:Mathematics,Statistics,Stats 2020
END:VEVENT
BEGIN:VEVENT
DTSTART;TZID=America/Chicago:20260211T180000
DTEND;TZID=America/Chicago:20260211T200000
DTSTAMP:20260422T200104
CREATED:20260123T224921Z
LAST-MODIFIED:20260123T224921Z
UID:13767-1770832800-1770840000@ctl.wustl.edu
SUMMARY:SDS 2020 Drop-In - Tanvitha
DESCRIPTION:
URL:https://ctl.wustl.edu/learningcenter/mentoring-sessions/sds-2020-drop-in-tanvitha-4/2026-02-11/
LOCATION:Mallinckrodt 131
CATEGORIES:Mathematics,Statistics,Stats 2020
END:VEVENT
BEGIN:VEVENT
DTSTART;TZID=America/Chicago:20260204T180000
DTEND;TZID=America/Chicago:20260204T200000
DTSTAMP:20260422T200104
CREATED:20260123T224921Z
LAST-MODIFIED:20260123T224921Z
UID:13766-1770228000-1770235200@ctl.wustl.edu
SUMMARY:SDS 2020 Drop-In - Tanvitha
DESCRIPTION:
URL:https://ctl.wustl.edu/learningcenter/mentoring-sessions/sds-2020-drop-in-tanvitha-4/2026-02-04/
LOCATION:Mallinckrodt 131
CATEGORIES:Mathematics,Statistics,Stats 2020
END:VEVENT
BEGIN:VEVENT
DTSTART;TZID=America/Chicago:20260128T180000
DTEND;TZID=America/Chicago:20260128T200000
DTSTAMP:20260422T200104
CREATED:20260123T224921Z
LAST-MODIFIED:20260123T224921Z
UID:13765-1769623200-1769630400@ctl.wustl.edu
SUMMARY:SDS 2020 Drop-In - Tanvitha
DESCRIPTION:
URL:https://ctl.wustl.edu/learningcenter/mentoring-sessions/sds-2020-drop-in-tanvitha-4/2026-01-28/
LOCATION:Mallinckrodt 131
CATEGORIES:Mathematics,Statistics,Stats 2020
END:VEVENT
BEGIN:VEVENT
DTSTART;TZID=America/Chicago:20260303T160000
DTEND;TZID=America/Chicago:20260303T170000
DTSTAMP:20260422T200104
CREATED:20260123T224728Z
LAST-MODIFIED:20260123T224728Z
UID:13756-1772553600-1772557200@ctl.wustl.edu
SUMMARY:SDS 2020 Drop-In - Tanvitha
DESCRIPTION:
URL:https://ctl.wustl.edu/learningcenter/mentoring-sessions/sds-2020-drop-in-tanvitha-3/2026-03-03/
LOCATION:Mallinckrodt 131
CATEGORIES:Mathematics,Statistics,Stats 2020
END:VEVENT
BEGIN:VEVENT
DTSTART;TZID=America/Chicago:20260310T160000
DTEND;TZID=America/Chicago:20260310T170000
DTSTAMP:20260422T200104
CREATED:20260123T224728Z
LAST-MODIFIED:20260306T182828Z
UID:13757-1773158400-1773162000@ctl.wustl.edu
SUMMARY:SDS 2020 Drop-In - Tanvitha CANCELED
DESCRIPTION:
URL:https://ctl.wustl.edu/learningcenter/mentoring-sessions/sds-2020-drop-in-tanvitha-3-2026-03-10/
LOCATION:Mallinckrodt 131
CATEGORIES:Mathematics,Statistics,Stats 2020
END:VEVENT
BEGIN:VEVENT
DTSTART;TZID=America/Chicago:20260224T160000
DTEND;TZID=America/Chicago:20260224T170000
DTSTAMP:20260422T200104
CREATED:20260123T224728Z
LAST-MODIFIED:20260123T224728Z
UID:13755-1771948800-1771952400@ctl.wustl.edu
SUMMARY:SDS 2020 Drop-In - Tanvitha
DESCRIPTION:
URL:https://ctl.wustl.edu/learningcenter/mentoring-sessions/sds-2020-drop-in-tanvitha-3/2026-02-24/
LOCATION:Mallinckrodt 131
CATEGORIES:Mathematics,Statistics,Stats 2020
END:VEVENT
BEGIN:VEVENT
DTSTART;TZID=America/Chicago:20260217T160000
DTEND;TZID=America/Chicago:20260217T170000
DTSTAMP:20260422T200104
CREATED:20260123T224728Z
LAST-MODIFIED:20260123T224728Z
UID:13754-1771344000-1771347600@ctl.wustl.edu
SUMMARY:SDS 2020 Drop-In - Tanvitha
DESCRIPTION:
URL:https://ctl.wustl.edu/learningcenter/mentoring-sessions/sds-2020-drop-in-tanvitha-3/2026-02-17/
LOCATION:Mallinckrodt 131
CATEGORIES:Mathematics,Statistics,Stats 2020
END:VEVENT
BEGIN:VEVENT
DTSTART;TZID=America/Chicago:20260210T160000
DTEND;TZID=America/Chicago:20260210T170000
DTSTAMP:20260422T200104
CREATED:20260123T224728Z
LAST-MODIFIED:20260123T224728Z
UID:13753-1770739200-1770742800@ctl.wustl.edu
SUMMARY:SDS 2020 Drop-In - Tanvitha
DESCRIPTION:
URL:https://ctl.wustl.edu/learningcenter/mentoring-sessions/sds-2020-drop-in-tanvitha-3/2026-02-10/
LOCATION:Mallinckrodt 131
CATEGORIES:Mathematics,Statistics,Stats 2020
END:VEVENT
BEGIN:VEVENT
DTSTART;TZID=America/Chicago:20260203T160000
DTEND;TZID=America/Chicago:20260203T170000
DTSTAMP:20260422T200104
CREATED:20260123T224728Z
LAST-MODIFIED:20260123T224728Z
UID:13752-1770134400-1770138000@ctl.wustl.edu
SUMMARY:SDS 2020 Drop-In - Tanvitha
DESCRIPTION:
URL:https://ctl.wustl.edu/learningcenter/mentoring-sessions/sds-2020-drop-in-tanvitha-3/2026-02-03/
LOCATION:Mallinckrodt 131
CATEGORIES:Mathematics,Statistics,Stats 2020
END:VEVENT
BEGIN:VEVENT
DTSTART;TZID=America/Chicago:20260127T160000
DTEND;TZID=America/Chicago:20260127T170000
DTSTAMP:20260422T200104
CREATED:20260123T224728Z
LAST-MODIFIED:20260123T224728Z
UID:13751-1769529600-1769533200@ctl.wustl.edu
SUMMARY:SDS 2020 Drop-In - Tanvitha
DESCRIPTION:
URL:https://ctl.wustl.edu/learningcenter/mentoring-sessions/sds-2020-drop-in-tanvitha-3/2026-01-27/
LOCATION:Mallinckrodt 131
CATEGORIES:Mathematics,Statistics,Stats 2020
END:VEVENT
BEGIN:VEVENT
DTSTART;TZID=America/Chicago:20260324T160000
DTEND;TZID=America/Chicago:20260324T170000
DTSTAMP:20260422T200104
CREATED:20260123T224728Z
LAST-MODIFIED:20260123T224728Z
UID:13759-1774368000-1774371600@ctl.wustl.edu
SUMMARY:SDS 2020 Drop-In - Tanvitha
DESCRIPTION:
URL:https://ctl.wustl.edu/learningcenter/mentoring-sessions/sds-2020-drop-in-tanvitha-3/2026-03-24/
LOCATION:Mallinckrodt 131
CATEGORIES:Mathematics,Statistics,Stats 2020
END:VEVENT
BEGIN:VEVENT
DTSTART;TZID=America/Chicago:20260331T160000
DTEND;TZID=America/Chicago:20260331T170000
DTSTAMP:20260422T200104
CREATED:20260123T224728Z
LAST-MODIFIED:20260123T224728Z
UID:13760-1774972800-1774976400@ctl.wustl.edu
SUMMARY:SDS 2020 Drop-In - Tanvitha
DESCRIPTION:
URL:https://ctl.wustl.edu/learningcenter/mentoring-sessions/sds-2020-drop-in-tanvitha-3/2026-03-31/
LOCATION:Mallinckrodt 131
CATEGORIES:Mathematics,Statistics,Stats 2020
END:VEVENT
BEGIN:VEVENT
DTSTART;TZID=America/Chicago:20260407T160000
DTEND;TZID=America/Chicago:20260407T170000
DTSTAMP:20260422T200104
CREATED:20260123T224728Z
LAST-MODIFIED:20260123T224728Z
UID:13761-1775577600-1775581200@ctl.wustl.edu
SUMMARY:SDS 2020 Drop-In - Tanvitha
DESCRIPTION:
URL:https://ctl.wustl.edu/learningcenter/mentoring-sessions/sds-2020-drop-in-tanvitha-3/2026-04-07/
LOCATION:Mallinckrodt 131
CATEGORIES:Mathematics,Statistics,Stats 2020
END:VEVENT
BEGIN:VEVENT
DTSTART;TZID=America/Chicago:20260414T160000
DTEND;TZID=America/Chicago:20260414T170000
DTSTAMP:20260422T200104
CREATED:20260123T224728Z
LAST-MODIFIED:20260123T224728Z
UID:13762-1776182400-1776186000@ctl.wustl.edu
SUMMARY:SDS 2020 Drop-In - Tanvitha
DESCRIPTION:
URL:https://ctl.wustl.edu/learningcenter/mentoring-sessions/sds-2020-drop-in-tanvitha-3/2026-04-14/
LOCATION:Mallinckrodt 131
CATEGORIES:Mathematics,Statistics,Stats 2020
END:VEVENT
BEGIN:VEVENT
DTSTART;TZID=America/Chicago:20260421T160000
DTEND;TZID=America/Chicago:20260421T170000
DTSTAMP:20260422T200104
CREATED:20260123T224728Z
LAST-MODIFIED:20260123T224728Z
UID:13763-1776787200-1776790800@ctl.wustl.edu
SUMMARY:SDS 2020 Drop-In - Tanvitha
DESCRIPTION:
URL:https://ctl.wustl.edu/learningcenter/mentoring-sessions/sds-2020-drop-in-tanvitha-3/2026-04-21/
LOCATION:Mallinckrodt 131
CATEGORIES:Mathematics,Statistics,Stats 2020
END:VEVENT
BEGIN:VEVENT
DTSTART;TZID=America/Chicago:20260317T160000
DTEND;TZID=America/Chicago:20260317T170000
DTSTAMP:20260422T200104
CREATED:20260123T224728Z
LAST-MODIFIED:20260123T224728Z
UID:13758-1773763200-1773766800@ctl.wustl.edu
SUMMARY:SDS 2020 Drop-In - Tanvitha
DESCRIPTION:
URL:https://ctl.wustl.edu/learningcenter/mentoring-sessions/sds-2020-drop-in-tanvitha-3/2026-03-17/
LOCATION:Mallinckrodt 131
CATEGORIES:Mathematics,Statistics,Stats 2020
END:VEVENT
BEGIN:VEVENT
DTSTART;TZID=America/Chicago:20250917T180000
DTEND;TZID=America/Chicago:20250917T190000
DTSTAMP:20260422T200104
CREATED:20250909T230414Z
LAST-MODIFIED:20250909T230414Z
UID:13260-1758132000-1758135600@ctl.wustl.edu
SUMMARY:SDS 2020 Drop-In - Tanvitha
DESCRIPTION:
URL:https://ctl.wustl.edu/learningcenter/mentoring-sessions/sds-2020-drop-in-tanvitha-2/2025-09-17/
LOCATION:Eads 209
CATEGORIES:Mathematics,Statistics,Stats 2020,Stats 3020
END:VEVENT
BEGIN:VEVENT
DTSTART;TZID=America/Chicago:20250924T180000
DTEND;TZID=America/Chicago:20250924T190000
DTSTAMP:20260422T200104
CREATED:20250909T230414Z
LAST-MODIFIED:20250909T230414Z
UID:13261-1758736800-1758740400@ctl.wustl.edu
SUMMARY:SDS 2020 Drop-In - Tanvitha
DESCRIPTION:
URL:https://ctl.wustl.edu/learningcenter/mentoring-sessions/sds-2020-drop-in-tanvitha-2/2025-09-24/
LOCATION:Eads 209
CATEGORIES:Mathematics,Statistics,Stats 2020,Stats 3020
END:VEVENT
BEGIN:VEVENT
DTSTART;TZID=America/Chicago:20251001T180000
DTEND;TZID=America/Chicago:20251001T190000
DTSTAMP:20260422T200104
CREATED:20250909T230414Z
LAST-MODIFIED:20250909T230414Z
UID:13262-1759341600-1759345200@ctl.wustl.edu
SUMMARY:SDS 2020 Drop-In - Tanvitha
DESCRIPTION:
URL:https://ctl.wustl.edu/learningcenter/mentoring-sessions/sds-2020-drop-in-tanvitha-2/2025-10-01/
LOCATION:Eads 209
CATEGORIES:Mathematics,Statistics,Stats 2020,Stats 3020
END:VEVENT
BEGIN:VEVENT
DTSTART;TZID=America/Chicago:20251008T180000
DTEND;TZID=America/Chicago:20251008T190000
DTSTAMP:20260422T200104
CREATED:20250909T230414Z
LAST-MODIFIED:20250909T230414Z
UID:13263-1759946400-1759950000@ctl.wustl.edu
SUMMARY:SDS 2020 Drop-In - Tanvitha
DESCRIPTION:
URL:https://ctl.wustl.edu/learningcenter/mentoring-sessions/sds-2020-drop-in-tanvitha-2/2025-10-08/
LOCATION:Eads 209
CATEGORIES:Mathematics,Statistics,Stats 2020,Stats 3020
END:VEVENT
BEGIN:VEVENT
DTSTART;TZID=America/Chicago:20251015T180000
DTEND;TZID=America/Chicago:20251015T190000
DTSTAMP:20260422T200104
CREATED:20250909T230414Z
LAST-MODIFIED:20250909T230414Z
UID:13264-1760551200-1760554800@ctl.wustl.edu
SUMMARY:SDS 2020 Drop-In - Tanvitha
DESCRIPTION:
URL:https://ctl.wustl.edu/learningcenter/mentoring-sessions/sds-2020-drop-in-tanvitha-2/2025-10-15/
LOCATION:Eads 209
CATEGORIES:Mathematics,Statistics,Stats 2020,Stats 3020
END:VEVENT
END:VCALENDAR