BEGIN:VCALENDAR
VERSION:2.0
PRODID:-//The Learning Center - ECPv6.15.16.1//NONSGML v1.0//EN
CALSCALE:GREGORIAN
METHOD:PUBLISH
X-WR-CALNAME:The Learning Center
X-ORIGINAL-URL:https://ctl.wustl.edu/learningcenter
X-WR-CALDESC:Events for The Learning Center
REFRESH-INTERVAL;VALUE=DURATION:PT1H
X-Robots-Tag:noindex
X-PUBLISHED-TTL:PT1H
BEGIN:VTIMEZONE
TZID:America/Chicago
BEGIN:DAYLIGHT
TZOFFSETFROM:-0600
TZOFFSETTO:-0500
TZNAME:CDT
DTSTART:20240310T080000
END:DAYLIGHT
BEGIN:STANDARD
TZOFFSETFROM:-0500
TZOFFSETTO:-0600
TZNAME:CST
DTSTART:20241103T070000
END:STANDARD
BEGIN:DAYLIGHT
TZOFFSETFROM:-0600
TZOFFSETTO:-0500
TZNAME:CDT
DTSTART:20250309T080000
END:DAYLIGHT
BEGIN:STANDARD
TZOFFSETFROM:-0500
TZOFFSETTO:-0600
TZNAME:CST
DTSTART:20251102T070000
END:STANDARD
BEGIN:DAYLIGHT
TZOFFSETFROM:-0600
TZOFFSETTO:-0500
TZNAME:CDT
DTSTART:20260308T080000
END:DAYLIGHT
BEGIN:STANDARD
TZOFFSETFROM:-0500
TZOFFSETTO:-0600
TZNAME:CST
DTSTART:20261101T070000
END:STANDARD
BEGIN:DAYLIGHT
TZOFFSETFROM:-0600
TZOFFSETTO:-0500
TZNAME:CDT
DTSTART:20270314T080000
END:DAYLIGHT
BEGIN:STANDARD
TZOFFSETFROM:-0500
TZOFFSETTO:-0600
TZNAME:CST
DTSTART:20271107T070000
END:STANDARD
END:VTIMEZONE
BEGIN:VEVENT
DTSTART;TZID=America/Chicago:20260324T160000
DTEND;TZID=America/Chicago:20260324T170000
DTSTAMP:20260424T103148
CREATED:20260123T224728Z
LAST-MODIFIED:20260123T224728Z
UID:13759-1774368000-1774371600@ctl.wustl.edu
SUMMARY:SDS 2020 Drop-In - Tanvitha
DESCRIPTION:
URL:https://ctl.wustl.edu/learningcenter/mentoring-sessions/sds-2020-drop-in-tanvitha-3/2026-03-24/
LOCATION:Mallinckrodt 131
CATEGORIES:Mathematics,Statistics,Stats 2020
END:VEVENT
BEGIN:VEVENT
DTSTART;TZID=America/Chicago:20260331T160000
DTEND;TZID=America/Chicago:20260331T170000
DTSTAMP:20260424T103148
CREATED:20260123T224728Z
LAST-MODIFIED:20260123T224728Z
UID:13760-1774972800-1774976400@ctl.wustl.edu
SUMMARY:SDS 2020 Drop-In - Tanvitha
DESCRIPTION:
URL:https://ctl.wustl.edu/learningcenter/mentoring-sessions/sds-2020-drop-in-tanvitha-3/2026-03-31/
LOCATION:Mallinckrodt 131
CATEGORIES:Mathematics,Statistics,Stats 2020
END:VEVENT
BEGIN:VEVENT
DTSTART;TZID=America/Chicago:20260407T160000
DTEND;TZID=America/Chicago:20260407T170000
DTSTAMP:20260424T103148
CREATED:20260123T224728Z
LAST-MODIFIED:20260123T224728Z
UID:13761-1775577600-1775581200@ctl.wustl.edu
SUMMARY:SDS 2020 Drop-In - Tanvitha
DESCRIPTION:
URL:https://ctl.wustl.edu/learningcenter/mentoring-sessions/sds-2020-drop-in-tanvitha-3/2026-04-07/
LOCATION:Mallinckrodt 131
CATEGORIES:Mathematics,Statistics,Stats 2020
END:VEVENT
BEGIN:VEVENT
DTSTART;TZID=America/Chicago:20260414T160000
DTEND;TZID=America/Chicago:20260414T170000
DTSTAMP:20260424T103148
CREATED:20260123T224728Z
LAST-MODIFIED:20260123T224728Z
UID:13762-1776182400-1776186000@ctl.wustl.edu
SUMMARY:SDS 2020 Drop-In - Tanvitha
DESCRIPTION:
URL:https://ctl.wustl.edu/learningcenter/mentoring-sessions/sds-2020-drop-in-tanvitha-3/2026-04-14/
LOCATION:Mallinckrodt 131
CATEGORIES:Mathematics,Statistics,Stats 2020
END:VEVENT
BEGIN:VEVENT
DTSTART;TZID=America/Chicago:20260421T160000
DTEND;TZID=America/Chicago:20260421T170000
DTSTAMP:20260424T103148
CREATED:20260123T224728Z
LAST-MODIFIED:20260123T224728Z
UID:13763-1776787200-1776790800@ctl.wustl.edu
SUMMARY:SDS 2020 Drop-In - Tanvitha
DESCRIPTION:
URL:https://ctl.wustl.edu/learningcenter/mentoring-sessions/sds-2020-drop-in-tanvitha-3/2026-04-21/
LOCATION:Mallinckrodt 131
CATEGORIES:Mathematics,Statistics,Stats 2020
END:VEVENT
BEGIN:VEVENT
DTSTART;TZID=America/Chicago:20260317T160000
DTEND;TZID=America/Chicago:20260317T170000
DTSTAMP:20260424T103148
CREATED:20260123T224728Z
LAST-MODIFIED:20260123T224728Z
UID:13758-1773763200-1773766800@ctl.wustl.edu
SUMMARY:SDS 2020 Drop-In - Tanvitha
DESCRIPTION:
URL:https://ctl.wustl.edu/learningcenter/mentoring-sessions/sds-2020-drop-in-tanvitha-3/2026-03-17/
LOCATION:Mallinckrodt 131
CATEGORIES:Mathematics,Statistics,Stats 2020
END:VEVENT
BEGIN:VEVENT
DTSTART;TZID=America/Chicago:20250924T180000
DTEND;TZID=America/Chicago:20250924T190000
DTSTAMP:20260424T103148
CREATED:20250909T230414Z
LAST-MODIFIED:20250909T230414Z
UID:13261-1758736800-1758740400@ctl.wustl.edu
SUMMARY:SDS 2020 Drop-In - Tanvitha
DESCRIPTION:
URL:https://ctl.wustl.edu/learningcenter/mentoring-sessions/sds-2020-drop-in-tanvitha-2/2025-09-24/
LOCATION:Eads 209
CATEGORIES:Mathematics,Statistics,Stats 2020,Stats 3020
END:VEVENT
BEGIN:VEVENT
DTSTART;TZID=America/Chicago:20251001T180000
DTEND;TZID=America/Chicago:20251001T190000
DTSTAMP:20260424T103148
CREATED:20250909T230414Z
LAST-MODIFIED:20250909T230414Z
UID:13262-1759341600-1759345200@ctl.wustl.edu
SUMMARY:SDS 2020 Drop-In - Tanvitha
DESCRIPTION:
URL:https://ctl.wustl.edu/learningcenter/mentoring-sessions/sds-2020-drop-in-tanvitha-2/2025-10-01/
LOCATION:Eads 209
CATEGORIES:Mathematics,Statistics,Stats 2020,Stats 3020
END:VEVENT
BEGIN:VEVENT
DTSTART;TZID=America/Chicago:20251008T180000
DTEND;TZID=America/Chicago:20251008T190000
DTSTAMP:20260424T103148
CREATED:20250909T230414Z
LAST-MODIFIED:20250909T230414Z
UID:13263-1759946400-1759950000@ctl.wustl.edu
SUMMARY:SDS 2020 Drop-In - Tanvitha
DESCRIPTION:
URL:https://ctl.wustl.edu/learningcenter/mentoring-sessions/sds-2020-drop-in-tanvitha-2/2025-10-08/
LOCATION:Eads 209
CATEGORIES:Mathematics,Statistics,Stats 2020,Stats 3020
END:VEVENT
BEGIN:VEVENT
DTSTART;TZID=America/Chicago:20251015T180000
DTEND;TZID=America/Chicago:20251015T190000
DTSTAMP:20260424T103148
CREATED:20250909T230414Z
LAST-MODIFIED:20250909T230414Z
UID:13264-1760551200-1760554800@ctl.wustl.edu
SUMMARY:SDS 2020 Drop-In - Tanvitha
DESCRIPTION:
URL:https://ctl.wustl.edu/learningcenter/mentoring-sessions/sds-2020-drop-in-tanvitha-2/2025-10-15/
LOCATION:Eads 209
CATEGORIES:Mathematics,Statistics,Stats 2020,Stats 3020
END:VEVENT
BEGIN:VEVENT
DTSTART;TZID=America/Chicago:20251022T180000
DTEND;TZID=America/Chicago:20251022T190000
DTSTAMP:20260424T103148
CREATED:20250909T230414Z
LAST-MODIFIED:20250909T230414Z
UID:13265-1761156000-1761159600@ctl.wustl.edu
SUMMARY:SDS 2020 Drop-In - Tanvitha
DESCRIPTION:
URL:https://ctl.wustl.edu/learningcenter/mentoring-sessions/sds-2020-drop-in-tanvitha-2/2025-10-22/
LOCATION:Eads 209
CATEGORIES:Mathematics,Statistics,Stats 2020,Stats 3020
END:VEVENT
BEGIN:VEVENT
DTSTART;TZID=America/Chicago:20251029T180000
DTEND;TZID=America/Chicago:20251029T190000
DTSTAMP:20260424T103148
CREATED:20250909T230414Z
LAST-MODIFIED:20250909T230414Z
UID:13266-1761760800-1761764400@ctl.wustl.edu
SUMMARY:SDS 2020 Drop-In - Tanvitha
DESCRIPTION:
URL:https://ctl.wustl.edu/learningcenter/mentoring-sessions/sds-2020-drop-in-tanvitha-2/2025-10-29/
LOCATION:Eads 209
CATEGORIES:Mathematics,Statistics,Stats 2020,Stats 3020
END:VEVENT
BEGIN:VEVENT
DTSTART;TZID=America/Chicago:20251105T180000
DTEND;TZID=America/Chicago:20251105T190000
DTSTAMP:20260424T103148
CREATED:20250909T230414Z
LAST-MODIFIED:20250909T230414Z
UID:13267-1762365600-1762369200@ctl.wustl.edu
SUMMARY:SDS 2020 Drop-In - Tanvitha
DESCRIPTION:
URL:https://ctl.wustl.edu/learningcenter/mentoring-sessions/sds-2020-drop-in-tanvitha-2/2025-11-05/
LOCATION:Eads 209
CATEGORIES:Mathematics,Statistics,Stats 2020,Stats 3020
END:VEVENT
BEGIN:VEVENT
DTSTART;TZID=America/Chicago:20251112T180000
DTEND;TZID=America/Chicago:20251112T190000
DTSTAMP:20260424T103148
CREATED:20250909T230414Z
LAST-MODIFIED:20250909T230414Z
UID:13268-1762970400-1762974000@ctl.wustl.edu
SUMMARY:SDS 2020 Drop-In - Tanvitha
DESCRIPTION:
URL:https://ctl.wustl.edu/learningcenter/mentoring-sessions/sds-2020-drop-in-tanvitha-2/2025-11-12/
LOCATION:Eads 209
CATEGORIES:Mathematics,Statistics,Stats 2020,Stats 3020
END:VEVENT
BEGIN:VEVENT
DTSTART;TZID=America/Chicago:20251119T180000
DTEND;TZID=America/Chicago:20251119T190000
DTSTAMP:20260424T103148
CREATED:20250909T230414Z
LAST-MODIFIED:20250909T230414Z
UID:13269-1763575200-1763578800@ctl.wustl.edu
SUMMARY:SDS 2020 Drop-In - Tanvitha
DESCRIPTION:
URL:https://ctl.wustl.edu/learningcenter/mentoring-sessions/sds-2020-drop-in-tanvitha-2/2025-11-19/
LOCATION:Eads 209
CATEGORIES:Mathematics,Statistics,Stats 2020,Stats 3020
END:VEVENT
BEGIN:VEVENT
DTSTART;TZID=America/Chicago:20251203T180000
DTEND;TZID=America/Chicago:20251203T190000
DTSTAMP:20260424T103148
CREATED:20250909T230414Z
LAST-MODIFIED:20250909T230414Z
UID:13271-1764784800-1764788400@ctl.wustl.edu
SUMMARY:SDS 2020 Drop-In - Tanvitha
DESCRIPTION:
URL:https://ctl.wustl.edu/learningcenter/mentoring-sessions/sds-2020-drop-in-tanvitha-2/2025-12-03/
LOCATION:Eads 209
CATEGORIES:Mathematics,Statistics,Stats 2020,Stats 3020
END:VEVENT
BEGIN:VEVENT
DTSTART;TZID=America/Chicago:20250917T180000
DTEND;TZID=America/Chicago:20250917T190000
DTSTAMP:20260424T103148
CREATED:20250909T230414Z
LAST-MODIFIED:20250909T230414Z
UID:13260-1758132000-1758135600@ctl.wustl.edu
SUMMARY:SDS 2020 Drop-In - Tanvitha
DESCRIPTION:
URL:https://ctl.wustl.edu/learningcenter/mentoring-sessions/sds-2020-drop-in-tanvitha-2/2025-09-17/
LOCATION:Eads 209
CATEGORIES:Mathematics,Statistics,Stats 2020,Stats 3020
END:VEVENT
BEGIN:VEVENT
DTSTART;TZID=America/Chicago:20250910T180000
DTEND;TZID=America/Chicago:20250910T190000
DTSTAMP:20260424T103148
CREATED:20250909T230414Z
LAST-MODIFIED:20250909T230414Z
UID:13259-1757527200-1757530800@ctl.wustl.edu
SUMMARY:SDS 2020 Drop-In - Tanvitha
DESCRIPTION:
URL:https://ctl.wustl.edu/learningcenter/mentoring-sessions/sds-2020-drop-in-tanvitha-2/2025-09-10/
LOCATION:Eads 209
CATEGORIES:Mathematics,Statistics,Stats 2020,Stats 3020
END:VEVENT
BEGIN:VEVENT
DTSTART;TZID=America/Chicago:20250929T180000
DTEND;TZID=America/Chicago:20250929T200000
DTSTAMP:20260424T103148
CREATED:20250909T225853Z
LAST-MODIFIED:20250909T225853Z
UID:13248-1759168800-1759176000@ctl.wustl.edu
SUMMARY:SDS 2020 Drop-In - Tanvitha
DESCRIPTION:
URL:https://ctl.wustl.edu/learningcenter/mentoring-sessions/sds-2020-drop-in-tanvitha/2025-09-29/
LOCATION:Mallindkrodt 131
CATEGORIES:Mathematics,Statistics,Stats 2020,Stats 3020
END:VEVENT
BEGIN:VEVENT
DTSTART;TZID=America/Chicago:20250908T180000
DTEND;TZID=America/Chicago:20250908T200000
DTSTAMP:20260424T103148
CREATED:20250909T225853Z
LAST-MODIFIED:20250909T225853Z
UID:13245-1757354400-1757361600@ctl.wustl.edu
SUMMARY:SDS 2020 Drop-In - Tanvitha
DESCRIPTION:
URL:https://ctl.wustl.edu/learningcenter/mentoring-sessions/sds-2020-drop-in-tanvitha/2025-09-08/
LOCATION:Mallindkrodt 131
CATEGORIES:Mathematics,Statistics,Stats 2020,Stats 3020
END:VEVENT
BEGIN:VEVENT
DTSTART;TZID=America/Chicago:20250915T180000
DTEND;TZID=America/Chicago:20250915T200000
DTSTAMP:20260424T103148
CREATED:20250909T225853Z
LAST-MODIFIED:20250909T225853Z
UID:13246-1757959200-1757966400@ctl.wustl.edu
SUMMARY:SDS 2020 Drop-In - Tanvitha
DESCRIPTION:
URL:https://ctl.wustl.edu/learningcenter/mentoring-sessions/sds-2020-drop-in-tanvitha/2025-09-15/
LOCATION:Mallindkrodt 131
CATEGORIES:Mathematics,Statistics,Stats 2020,Stats 3020
END:VEVENT
BEGIN:VEVENT
DTSTART;TZID=America/Chicago:20250922T180000
DTEND;TZID=America/Chicago:20250922T200000
DTSTAMP:20260424T103148
CREATED:20250909T225853Z
LAST-MODIFIED:20250909T225853Z
UID:13247-1758564000-1758571200@ctl.wustl.edu
SUMMARY:SDS 2020 Drop-In - Tanvitha
DESCRIPTION:
URL:https://ctl.wustl.edu/learningcenter/mentoring-sessions/sds-2020-drop-in-tanvitha/2025-09-22/
LOCATION:Mallindkrodt 131
CATEGORIES:Mathematics,Statistics,Stats 2020,Stats 3020
END:VEVENT
BEGIN:VEVENT
DTSTART;TZID=America/Chicago:20251013T180000
DTEND;TZID=America/Chicago:20251013T200000
DTSTAMP:20260424T103148
CREATED:20250909T225853Z
LAST-MODIFIED:20250909T225853Z
UID:13250-1760378400-1760385600@ctl.wustl.edu
SUMMARY:SDS 2020 Drop-In - Tanvitha
DESCRIPTION:
URL:https://ctl.wustl.edu/learningcenter/mentoring-sessions/sds-2020-drop-in-tanvitha/2025-10-13/
LOCATION:Mallindkrodt 131
CATEGORIES:Mathematics,Statistics,Stats 2020,Stats 3020
END:VEVENT
BEGIN:VEVENT
DTSTART;TZID=America/Chicago:20251020T180000
DTEND;TZID=America/Chicago:20251020T200000
DTSTAMP:20260424T103148
CREATED:20250909T225853Z
LAST-MODIFIED:20250909T225853Z
UID:13251-1760983200-1760990400@ctl.wustl.edu
SUMMARY:SDS 2020 Drop-In - Tanvitha
DESCRIPTION:
URL:https://ctl.wustl.edu/learningcenter/mentoring-sessions/sds-2020-drop-in-tanvitha/2025-10-20/
LOCATION:Mallindkrodt 131
CATEGORIES:Mathematics,Statistics,Stats 2020,Stats 3020
END:VEVENT
BEGIN:VEVENT
DTSTART;TZID=America/Chicago:20251027T180000
DTEND;TZID=America/Chicago:20251027T200000
DTSTAMP:20260424T103148
CREATED:20250909T225853Z
LAST-MODIFIED:20250909T225853Z
UID:13252-1761588000-1761595200@ctl.wustl.edu
SUMMARY:SDS 2020 Drop-In - Tanvitha
DESCRIPTION:
URL:https://ctl.wustl.edu/learningcenter/mentoring-sessions/sds-2020-drop-in-tanvitha/2025-10-27/
LOCATION:Mallindkrodt 131
CATEGORIES:Mathematics,Statistics,Stats 2020,Stats 3020
END:VEVENT
BEGIN:VEVENT
DTSTART;TZID=America/Chicago:20251103T180000
DTEND;TZID=America/Chicago:20251103T200000
DTSTAMP:20260424T103148
CREATED:20250909T225853Z
LAST-MODIFIED:20250909T225853Z
UID:13253-1762192800-1762200000@ctl.wustl.edu
SUMMARY:SDS 2020 Drop-In - Tanvitha
DESCRIPTION:
URL:https://ctl.wustl.edu/learningcenter/mentoring-sessions/sds-2020-drop-in-tanvitha/2025-11-03/
LOCATION:Mallindkrodt 131
CATEGORIES:Mathematics,Statistics,Stats 2020,Stats 3020
END:VEVENT
BEGIN:VEVENT
DTSTART;TZID=America/Chicago:20251110T180000
DTEND;TZID=America/Chicago:20251110T200000
DTSTAMP:20260424T103148
CREATED:20250909T225853Z
LAST-MODIFIED:20250909T225853Z
UID:13254-1762797600-1762804800@ctl.wustl.edu
SUMMARY:SDS 2020 Drop-In - Tanvitha
DESCRIPTION:
URL:https://ctl.wustl.edu/learningcenter/mentoring-sessions/sds-2020-drop-in-tanvitha/2025-11-10/
LOCATION:Mallindkrodt 131
CATEGORIES:Mathematics,Statistics,Stats 2020,Stats 3020
END:VEVENT
BEGIN:VEVENT
DTSTART;TZID=America/Chicago:20251117T180000
DTEND;TZID=America/Chicago:20251117T200000
DTSTAMP:20260424T103148
CREATED:20250909T225853Z
LAST-MODIFIED:20250909T225853Z
UID:13255-1763402400-1763409600@ctl.wustl.edu
SUMMARY:SDS 2020 Drop-In - Tanvitha
DESCRIPTION:
URL:https://ctl.wustl.edu/learningcenter/mentoring-sessions/sds-2020-drop-in-tanvitha/2025-11-17/
LOCATION:Mallindkrodt 131
CATEGORIES:Mathematics,Statistics,Stats 2020,Stats 3020
END:VEVENT
BEGIN:VEVENT
DTSTART;TZID=America/Chicago:20251124T180000
DTEND;TZID=America/Chicago:20251124T200000
DTSTAMP:20260424T103148
CREATED:20250909T225853Z
LAST-MODIFIED:20250909T225853Z
UID:13256-1764007200-1764014400@ctl.wustl.edu
SUMMARY:SDS 2020 Drop-In - Tanvitha
DESCRIPTION:
URL:https://ctl.wustl.edu/learningcenter/mentoring-sessions/sds-2020-drop-in-tanvitha/2025-11-24/
LOCATION:Mallindkrodt 131
CATEGORIES:Mathematics,Statistics,Stats 2020,Stats 3020
END:VEVENT
BEGIN:VEVENT
DTSTART;TZID=America/Chicago:20251201T180000
DTEND;TZID=America/Chicago:20251201T200000
DTSTAMP:20260424T103148
CREATED:20250909T225853Z
LAST-MODIFIED:20250909T225853Z
UID:13257-1764612000-1764619200@ctl.wustl.edu
SUMMARY:SDS 2020 Drop-In - Tanvitha
DESCRIPTION:
URL:https://ctl.wustl.edu/learningcenter/mentoring-sessions/sds-2020-drop-in-tanvitha/2025-12-01/
LOCATION:Mallindkrodt 131
CATEGORIES:Mathematics,Statistics,Stats 2020,Stats 3020
END:VEVENT
END:VCALENDAR