BEGIN:VCALENDAR
VERSION:2.0
PRODID:-//The Learning Center - ECPv6.15.16.1//NONSGML v1.0//EN
CALSCALE:GREGORIAN
METHOD:PUBLISH
X-ORIGINAL-URL:https://ctl.wustl.edu/learningcenter
X-WR-CALDESC:Events for The Learning Center
REFRESH-INTERVAL;VALUE=DURATION:PT1H
X-Robots-Tag:noindex
X-PUBLISHED-TTL:PT1H
BEGIN:VTIMEZONE
TZID:America/Chicago
BEGIN:DAYLIGHT
TZOFFSETFROM:-0600
TZOFFSETTO:-0500
TZNAME:CDT
DTSTART:20240310T080000
END:DAYLIGHT
BEGIN:STANDARD
TZOFFSETFROM:-0500
TZOFFSETTO:-0600
TZNAME:CST
DTSTART:20241103T070000
END:STANDARD
BEGIN:DAYLIGHT
TZOFFSETFROM:-0600
TZOFFSETTO:-0500
TZNAME:CDT
DTSTART:20250309T080000
END:DAYLIGHT
BEGIN:STANDARD
TZOFFSETFROM:-0500
TZOFFSETTO:-0600
TZNAME:CST
DTSTART:20251102T070000
END:STANDARD
BEGIN:DAYLIGHT
TZOFFSETFROM:-0600
TZOFFSETTO:-0500
TZNAME:CDT
DTSTART:20260308T080000
END:DAYLIGHT
BEGIN:STANDARD
TZOFFSETFROM:-0500
TZOFFSETTO:-0600
TZNAME:CST
DTSTART:20261101T070000
END:STANDARD
BEGIN:DAYLIGHT
TZOFFSETFROM:-0600
TZOFFSETTO:-0500
TZNAME:CDT
DTSTART:20270314T080000
END:DAYLIGHT
BEGIN:STANDARD
TZOFFSETFROM:-0500
TZOFFSETTO:-0600
TZNAME:CST
DTSTART:20271107T070000
END:STANDARD
END:VTIMEZONE
BEGIN:VEVENT
DTSTART;TZID=America/Chicago:20260129T160000
DTEND;TZID=America/Chicago:20260129T180000
DTSTAMP:20260424T210227
CREATED:20260126T171256Z
LAST-MODIFIED:20260126T171256Z
UID:13984-1769702400-1769709600@ctl.wustl.edu
SUMMARY:CSE 1301 Drop-In - Tracy
DESCRIPTION:
URL:https://ctl.wustl.edu/learningcenter/mentoring-sessions/cse-1301-drop-in-tracy-2/2026-01-29/
LOCATION:Eads 208
CATEGORIES:Computer Science,CSE 1301
END:VEVENT
BEGIN:VEVENT
DTSTART;TZID=America/Chicago:20260312T160000
DTEND;TZID=America/Chicago:20260312T180000
DTSTAMP:20260424T210227
CREATED:20260126T171256Z
LAST-MODIFIED:20260306T182948Z
UID:13992-1773331200-1773338400@ctl.wustl.edu
SUMMARY:CSE 1301 Drop-In - Tracy CANCELED
DESCRIPTION:
URL:https://ctl.wustl.edu/learningcenter/mentoring-sessions/cse-1301-drop-in-tracy-2-2026-03-12/
LOCATION:Eads 208
CATEGORIES:Computer Science,CSE 1301
END:VEVENT
BEGIN:VEVENT
DTSTART;TZID=America/Chicago:20260217T160000
DTEND;TZID=America/Chicago:20260217T180000
DTSTAMP:20260424T210227
CREATED:20260126T171256Z
LAST-MODIFIED:20260209T181526Z
UID:13989-1771344000-1771351200@ctl.wustl.edu
SUMMARY:CSE 1301 Drop-In - Tracy*
DESCRIPTION:*day and room change this week
URL:https://ctl.wustl.edu/learningcenter/mentoring-sessions/cse-1301-drop-in-tracy-2-2026-02-19/
LOCATION:Eads 215
CATEGORIES:Computer Science,CSE 1301
END:VEVENT
BEGIN:VEVENT
DTSTART;TZID=America/Chicago:20260423T160000
DTEND;TZID=America/Chicago:20260423T180000
DTSTAMP:20260424T210227
CREATED:20260126T171256Z
LAST-MODIFIED:20260126T171256Z
UID:13998-1776960000-1776967200@ctl.wustl.edu
SUMMARY:CSE 1301 Drop-In - Tracy
DESCRIPTION:
URL:https://ctl.wustl.edu/learningcenter/mentoring-sessions/cse-1301-drop-in-tracy-2/2026-04-23/
LOCATION:Eads 208
CATEGORIES:Computer Science,CSE 1301
END:VEVENT
BEGIN:VEVENT
DTSTART;TZID=America/Chicago:20260416T160000
DTEND;TZID=America/Chicago:20260416T180000
DTSTAMP:20260424T210227
CREATED:20260126T171256Z
LAST-MODIFIED:20260126T171256Z
UID:13997-1776355200-1776362400@ctl.wustl.edu
SUMMARY:CSE 1301 Drop-In - Tracy
DESCRIPTION:
URL:https://ctl.wustl.edu/learningcenter/mentoring-sessions/cse-1301-drop-in-tracy-2/2026-04-16/
LOCATION:Eads 208
CATEGORIES:Computer Science,CSE 1301
END:VEVENT
BEGIN:VEVENT
DTSTART;TZID=America/Chicago:20260409T160000
DTEND;TZID=America/Chicago:20260409T180000
DTSTAMP:20260424T210227
CREATED:20260126T171256Z
LAST-MODIFIED:20260126T171256Z
UID:13996-1775750400-1775757600@ctl.wustl.edu
SUMMARY:CSE 1301 Drop-In - Tracy
DESCRIPTION:
URL:https://ctl.wustl.edu/learningcenter/mentoring-sessions/cse-1301-drop-in-tracy-2/2026-04-09/
LOCATION:Eads 208
CATEGORIES:Computer Science,CSE 1301
END:VEVENT
BEGIN:VEVENT
DTSTART;TZID=America/Chicago:20260402T160000
DTEND;TZID=America/Chicago:20260402T180000
DTSTAMP:20260424T210228
CREATED:20260126T171256Z
LAST-MODIFIED:20260126T171256Z
UID:13995-1775145600-1775152800@ctl.wustl.edu
SUMMARY:CSE 1301 Drop-In - Tracy
DESCRIPTION:
URL:https://ctl.wustl.edu/learningcenter/mentoring-sessions/cse-1301-drop-in-tracy-2/2026-04-02/
LOCATION:Eads 208
CATEGORIES:Computer Science,CSE 1301
END:VEVENT
BEGIN:VEVENT
DTSTART;TZID=America/Chicago:20260326T160000
DTEND;TZID=America/Chicago:20260326T180000
DTSTAMP:20260424T210228
CREATED:20260126T171256Z
LAST-MODIFIED:20260126T171256Z
UID:13994-1774540800-1774548000@ctl.wustl.edu
SUMMARY:CSE 1301 Drop-In - Tracy
DESCRIPTION:
URL:https://ctl.wustl.edu/learningcenter/mentoring-sessions/cse-1301-drop-in-tracy-2/2026-03-26/
LOCATION:Eads 208
CATEGORIES:Computer Science,CSE 1301
END:VEVENT
BEGIN:VEVENT
DTSTART;TZID=America/Chicago:20260319T160000
DTEND;TZID=America/Chicago:20260319T180000
DTSTAMP:20260424T210228
CREATED:20260126T171256Z
LAST-MODIFIED:20260126T171256Z
UID:13993-1773936000-1773943200@ctl.wustl.edu
SUMMARY:CSE 1301 Drop-In - Tracy
DESCRIPTION:
URL:https://ctl.wustl.edu/learningcenter/mentoring-sessions/cse-1301-drop-in-tracy-2/2026-03-19/
LOCATION:Eads 208
CATEGORIES:Computer Science,CSE 1301
END:VEVENT
BEGIN:VEVENT
DTSTART;TZID=America/Chicago:20260305T160000
DTEND;TZID=America/Chicago:20260305T180000
DTSTAMP:20260424T210228
CREATED:20260126T171256Z
LAST-MODIFIED:20260126T171256Z
UID:13991-1772726400-1772733600@ctl.wustl.edu
SUMMARY:CSE 1301 Drop-In - Tracy
DESCRIPTION:
URL:https://ctl.wustl.edu/learningcenter/mentoring-sessions/cse-1301-drop-in-tracy-2/2026-03-05/
LOCATION:Eads 208
CATEGORIES:Computer Science,CSE 1301
END:VEVENT
BEGIN:VEVENT
DTSTART;TZID=America/Chicago:20260226T160000
DTEND;TZID=America/Chicago:20260226T180000
DTSTAMP:20260424T210228
CREATED:20260126T171256Z
LAST-MODIFIED:20260126T171256Z
UID:13990-1772121600-1772128800@ctl.wustl.edu
SUMMARY:CSE 1301 Drop-In - Tracy
DESCRIPTION:
URL:https://ctl.wustl.edu/learningcenter/mentoring-sessions/cse-1301-drop-in-tracy-2/2026-02-26/
LOCATION:Eads 208
CATEGORIES:Computer Science,CSE 1301
END:VEVENT
BEGIN:VEVENT
DTSTART;TZID=America/Chicago:20260212T160000
DTEND;TZID=America/Chicago:20260212T180000
DTSTAMP:20260424T210228
CREATED:20260126T171256Z
LAST-MODIFIED:20260126T171256Z
UID:13988-1770912000-1770919200@ctl.wustl.edu
SUMMARY:CSE 1301 Drop-In - Tracy
DESCRIPTION:
URL:https://ctl.wustl.edu/learningcenter/mentoring-sessions/cse-1301-drop-in-tracy-2/2026-02-12/
LOCATION:Eads 208
CATEGORIES:Computer Science,CSE 1301
END:VEVENT
BEGIN:VEVENT
DTSTART;TZID=America/Chicago:20260205T160000
DTEND;TZID=America/Chicago:20260205T180000
DTSTAMP:20260424T210228
CREATED:20260126T171256Z
LAST-MODIFIED:20260126T171256Z
UID:13987-1770307200-1770314400@ctl.wustl.edu
SUMMARY:CSE 1301 Drop-In - Tracy
DESCRIPTION:
URL:https://ctl.wustl.edu/learningcenter/mentoring-sessions/cse-1301-drop-in-tracy-2/2026-02-05/
LOCATION:Eads 208
CATEGORIES:Computer Science,CSE 1301
END:VEVENT
BEGIN:VEVENT
DTSTART;TZID=America/Chicago:20250911T200000
DTEND;TZID=America/Chicago:20250911T220000
DTSTAMP:20260424T210228
CREATED:20250909T230632Z
LAST-MODIFIED:20251008T170316Z
UID:13272-1757620800-1757628000@ctl.wustl.edu
SUMMARY:CSE 1301 Drop-In - Tracy
DESCRIPTION:
URL:https://ctl.wustl.edu/learningcenter/mentoring-sessions/cse-1301-drop-in-tracy/2025-09-11/
LOCATION:Seigle 106
CATEGORIES:Computer Science,CSE 1301
END:VEVENT
BEGIN:VEVENT
DTSTART;TZID=America/Chicago:20251113T203000
DTEND;TZID=America/Chicago:20251113T223000
DTSTAMP:20260424T210228
CREATED:20250909T230632Z
LAST-MODIFIED:20251107T223645Z
UID:13294-1763065800-1763073000@ctl.wustl.edu
SUMMARY:CSE 1301 Drop-In - Tracy*
DESCRIPTION:*half-hour time change tonight only
URL:https://ctl.wustl.edu/learningcenter/mentoring-sessions/cse-1301-drop-in-tracy-2025-11-13/
LOCATION:Seigle 106
CATEGORIES:Computer Science,CSE 1301
END:VEVENT
BEGIN:VEVENT
DTSTART;TZID=America/Chicago:20251204T200000
DTEND;TZID=America/Chicago:20251204T220000
DTSTAMP:20260424T210228
CREATED:20250909T230632Z
LAST-MODIFIED:20251008T170321Z
UID:13297-1764878400-1764885600@ctl.wustl.edu
SUMMARY:CSE 1301 Drop-In - Tracy
DESCRIPTION:
URL:https://ctl.wustl.edu/learningcenter/mentoring-sessions/cse-1301-drop-in-tracy/2025-12-04/
LOCATION:Seigle 106
CATEGORIES:Computer Science,CSE 1301
END:VEVENT
BEGIN:VEVENT
DTSTART;TZID=America/Chicago:20251120T200000
DTEND;TZID=America/Chicago:20251120T220000
DTSTAMP:20260424T210228
CREATED:20250909T230632Z
LAST-MODIFIED:20251008T170318Z
UID:13295-1763668800-1763676000@ctl.wustl.edu
SUMMARY:CSE 1301 Drop-In - Tracy
DESCRIPTION:
URL:https://ctl.wustl.edu/learningcenter/mentoring-sessions/cse-1301-drop-in-tracy/2025-11-20/
LOCATION:Seigle 106
CATEGORIES:Computer Science,CSE 1301
END:VEVENT
BEGIN:VEVENT
DTSTART;TZID=America/Chicago:20251106T200000
DTEND;TZID=America/Chicago:20251106T220000
DTSTAMP:20260424T210228
CREATED:20250909T230632Z
LAST-MODIFIED:20251008T170318Z
UID:13293-1762459200-1762466400@ctl.wustl.edu
SUMMARY:CSE 1301 Drop-In - Tracy
DESCRIPTION:
URL:https://ctl.wustl.edu/learningcenter/mentoring-sessions/cse-1301-drop-in-tracy/2025-11-06/
LOCATION:Seigle 106
CATEGORIES:Computer Science,CSE 1301
END:VEVENT
BEGIN:VEVENT
DTSTART;TZID=America/Chicago:20251030T200000
DTEND;TZID=America/Chicago:20251030T220000
DTSTAMP:20260424T210228
CREATED:20250909T230632Z
LAST-MODIFIED:20251008T170318Z
UID:13292-1761854400-1761861600@ctl.wustl.edu
SUMMARY:CSE 1301 Drop-In - Tracy
DESCRIPTION:
URL:https://ctl.wustl.edu/learningcenter/mentoring-sessions/cse-1301-drop-in-tracy/2025-10-30/
LOCATION:Seigle 106
CATEGORIES:Computer Science,CSE 1301
END:VEVENT
BEGIN:VEVENT
DTSTART;TZID=America/Chicago:20251023T200000
DTEND;TZID=America/Chicago:20251023T220000
DTSTAMP:20260424T210228
CREATED:20250909T230632Z
LAST-MODIFIED:20251008T170317Z
UID:13291-1761249600-1761256800@ctl.wustl.edu
SUMMARY:CSE 1301 Drop-In - Tracy
DESCRIPTION:
URL:https://ctl.wustl.edu/learningcenter/mentoring-sessions/cse-1301-drop-in-tracy/2025-10-23/
LOCATION:Seigle 106
CATEGORIES:Computer Science,CSE 1301
END:VEVENT
BEGIN:VEVENT
DTSTART;TZID=America/Chicago:20251016T200000
DTEND;TZID=America/Chicago:20251016T220000
DTSTAMP:20260424T210228
CREATED:20250909T230632Z
LAST-MODIFIED:20251008T170317Z
UID:13290-1760644800-1760652000@ctl.wustl.edu
SUMMARY:CSE 1301 Drop-In - Tracy
DESCRIPTION:
URL:https://ctl.wustl.edu/learningcenter/mentoring-sessions/cse-1301-drop-in-tracy/2025-10-16/
LOCATION:Seigle 106
CATEGORIES:Computer Science,CSE 1301
END:VEVENT
BEGIN:VEVENT
DTSTART;TZID=America/Chicago:20251009T200000
DTEND;TZID=America/Chicago:20251009T220000
DTSTAMP:20260424T210228
CREATED:20250909T230632Z
LAST-MODIFIED:20251008T170317Z
UID:13289-1760040000-1760047200@ctl.wustl.edu
SUMMARY:CSE 1301 Drop-In - Tracy
DESCRIPTION:
URL:https://ctl.wustl.edu/learningcenter/mentoring-sessions/cse-1301-drop-in-tracy/2025-10-09/
LOCATION:Seigle 106
CATEGORIES:Computer Science,CSE 1301
END:VEVENT
BEGIN:VEVENT
DTSTART;TZID=America/Chicago:20251002T200000
DTEND;TZID=America/Chicago:20251002T220000
DTSTAMP:20260424T210228
CREATED:20250909T230632Z
LAST-MODIFIED:20251008T170316Z
UID:13288-1759435200-1759442400@ctl.wustl.edu
SUMMARY:CSE 1301 Drop-In - Tracy
DESCRIPTION:
URL:https://ctl.wustl.edu/learningcenter/mentoring-sessions/cse-1301-drop-in-tracy/2025-10-02/
LOCATION:Seigle 106
CATEGORIES:Computer Science,CSE 1301
END:VEVENT
BEGIN:VEVENT
DTSTART;TZID=America/Chicago:20250925T200000
DTEND;TZID=America/Chicago:20250925T220000
DTSTAMP:20260424T210228
CREATED:20250909T230632Z
LAST-MODIFIED:20251008T170316Z
UID:13287-1758830400-1758837600@ctl.wustl.edu
SUMMARY:CSE 1301 Drop-In - Tracy
DESCRIPTION:
URL:https://ctl.wustl.edu/learningcenter/mentoring-sessions/cse-1301-drop-in-tracy/2025-09-25/
LOCATION:Seigle 106
CATEGORIES:Computer Science,CSE 1301
END:VEVENT
BEGIN:VEVENT
DTSTART;TZID=America/Chicago:20250918T200000
DTEND;TZID=America/Chicago:20250918T220000
DTSTAMP:20260424T210228
CREATED:20250909T230632Z
LAST-MODIFIED:20251008T170316Z
UID:13286-1758225600-1758232800@ctl.wustl.edu
SUMMARY:CSE 1301 Drop-In - Tracy
DESCRIPTION:
URL:https://ctl.wustl.edu/learningcenter/mentoring-sessions/cse-1301-drop-in-tracy/2025-09-18/
LOCATION:Seigle 106
CATEGORIES:Computer Science,CSE 1301
END:VEVENT
END:VCALENDAR