BEGIN:VCALENDAR
VERSION:2.0
PRODID:-//The Learning Center - ECPv6.15.16.1//NONSGML v1.0//EN
CALSCALE:GREGORIAN
METHOD:PUBLISH
X-WR-CALNAME:The Learning Center
X-ORIGINAL-URL:https://ctl.wustl.edu/learningcenter
X-WR-CALDESC:Events for The Learning Center
REFRESH-INTERVAL;VALUE=DURATION:PT1H
X-Robots-Tag:noindex
X-PUBLISHED-TTL:PT1H
BEGIN:VTIMEZONE
TZID:America/Chicago
BEGIN:DAYLIGHT
TZOFFSETFROM:-0600
TZOFFSETTO:-0500
TZNAME:CDT
DTSTART:20230312T080000
END:DAYLIGHT
BEGIN:STANDARD
TZOFFSETFROM:-0500
TZOFFSETTO:-0600
TZNAME:CST
DTSTART:20231105T070000
END:STANDARD
BEGIN:DAYLIGHT
TZOFFSETFROM:-0600
TZOFFSETTO:-0500
TZNAME:CDT
DTSTART:20240310T080000
END:DAYLIGHT
BEGIN:STANDARD
TZOFFSETFROM:-0500
TZOFFSETTO:-0600
TZNAME:CST
DTSTART:20241103T070000
END:STANDARD
BEGIN:DAYLIGHT
TZOFFSETFROM:-0600
TZOFFSETTO:-0500
TZNAME:CDT
DTSTART:20250309T080000
END:DAYLIGHT
BEGIN:STANDARD
TZOFFSETFROM:-0500
TZOFFSETTO:-0600
TZNAME:CST
DTSTART:20251102T070000
END:STANDARD
BEGIN:DAYLIGHT
TZOFFSETFROM:-0600
TZOFFSETTO:-0500
TZNAME:CDT
DTSTART:20260308T080000
END:DAYLIGHT
BEGIN:STANDARD
TZOFFSETFROM:-0500
TZOFFSETTO:-0600
TZNAME:CST
DTSTART:20261101T070000
END:STANDARD
END:VTIMEZONE
BEGIN:VEVENT
DTSTART;TZID=America/Chicago:20251201T170000
DTEND;TZID=America/Chicago:20251201T190000
DTSTAMP:20260424T155240
CREATED:20250907T134214Z
LAST-MODIFIED:20251202T220849Z
UID:13543-1764608400-1764615600@ctl.wustl.edu
SUMMARY:Calc I RPM Hours- Justin-CANCELED
DESCRIPTION:
URL:https://ctl.wustl.edu/learningcenter/mentoring-sessions/calc-i-rpm-hours-justin-4-2025-12-01/
LOCATION:Danforth House Classroom A
CATEGORIES:Calc I (Math 1510),Calculus
END:VEVENT
BEGIN:VEVENT
DTSTART;TZID=America/Chicago:20250908T170000
DTEND;TZID=America/Chicago:20250908T190000
DTSTAMP:20260424T155240
CREATED:20250907T134214Z
LAST-MODIFIED:20251001T201118Z
UID:12945-1757350800-1757358000@ctl.wustl.edu
SUMMARY:Calc I RPM Hours- Justin
DESCRIPTION:
URL:https://ctl.wustl.edu/learningcenter/mentoring-sessions/calc-i-rpm-hours-justin-4/2025-09-08/
LOCATION:Danforth House Classroom A
CATEGORIES:Calc I (Math 1510),Calculus
END:VEVENT
BEGIN:VEVENT
DTSTART;TZID=America/Chicago:20250915T160000
DTEND;TZID=America/Chicago:20250915T180000
DTSTAMP:20260424T155240
CREATED:20250907T134214Z
LAST-MODIFIED:20250915T192757Z
UID:12947-1757952000-1757959200@ctl.wustl.edu
SUMMARY:Calc I RPM Hours- Justin-CANCELED
DESCRIPTION:
URL:https://ctl.wustl.edu/learningcenter/mentoring-sessions/calc-i-rpm-hours-justin-4-2025-09-15/
LOCATION:Danforth House Classroom A
CATEGORIES:Calc I (Math 1510),Calculus
END:VEVENT
BEGIN:VEVENT
DTSTART;TZID=America/Chicago:20250910T170000
DTEND;TZID=America/Chicago:20250910T190000
DTSTAMP:20260424T155240
CREATED:20250907T134214Z
LAST-MODIFIED:20251001T201118Z
UID:12946-1757523600-1757530800@ctl.wustl.edu
SUMMARY:Calc I RPM Hours- Justin
DESCRIPTION:
URL:https://ctl.wustl.edu/learningcenter/mentoring-sessions/calc-i-rpm-hours-justin-4/2025-09-10/
LOCATION:Danforth House Classroom A
CATEGORIES:Calc I (Math 1510),Calculus
END:VEVENT
BEGIN:VEVENT
DTSTART;TZID=America/Chicago:20250922T170000
DTEND;TZID=America/Chicago:20250922T190000
DTSTAMP:20260424T155240
CREATED:20250907T134214Z
LAST-MODIFIED:20251001T201118Z
UID:13533-1758560400-1758567600@ctl.wustl.edu
SUMMARY:Calc I RPM Hours- Justin
DESCRIPTION:
URL:https://ctl.wustl.edu/learningcenter/mentoring-sessions/calc-i-rpm-hours-justin-4/2025-09-22/
LOCATION:Danforth House Classroom A
CATEGORIES:Calc I (Math 1510),Calculus
END:VEVENT
BEGIN:VEVENT
DTSTART;TZID=America/Chicago:20250924T170000
DTEND;TZID=America/Chicago:20250924T190000
DTSTAMP:20260424T155240
CREATED:20250907T134214Z
LAST-MODIFIED:20251001T201119Z
UID:12950-1758733200-1758740400@ctl.wustl.edu
SUMMARY:Calc I RPM Hours- Justin
DESCRIPTION:
URL:https://ctl.wustl.edu/learningcenter/mentoring-sessions/calc-i-rpm-hours-justin-4/2025-09-24/
LOCATION:Danforth House Classroom A
CATEGORIES:Calc I (Math 1510),Calculus
END:VEVENT
BEGIN:VEVENT
DTSTART;TZID=America/Chicago:20250929T170000
DTEND;TZID=America/Chicago:20250929T190000
DTSTAMP:20260424T155240
CREATED:20250907T134214Z
LAST-MODIFIED:20251001T201119Z
UID:13534-1759165200-1759172400@ctl.wustl.edu
SUMMARY:Calc I RPM Hours- Justin
DESCRIPTION:
URL:https://ctl.wustl.edu/learningcenter/mentoring-sessions/calc-i-rpm-hours-justin-4/2025-09-29/
LOCATION:Danforth House Classroom A
CATEGORIES:Calc I (Math 1510),Calculus
END:VEVENT
BEGIN:VEVENT
DTSTART;TZID=America/Chicago:20251001T170000
DTEND;TZID=America/Chicago:20251001T190000
DTSTAMP:20260424T155240
CREATED:20250907T134214Z
LAST-MODIFIED:20251001T201119Z
UID:12952-1759338000-1759345200@ctl.wustl.edu
SUMMARY:Calc I RPM Hours- Justin
DESCRIPTION:
URL:https://ctl.wustl.edu/learningcenter/mentoring-sessions/calc-i-rpm-hours-justin-4/2025-10-01/
LOCATION:Danforth House Classroom A
CATEGORIES:Calc I (Math 1510),Calculus
END:VEVENT
BEGIN:VEVENT
DTSTART;TZID=America/Chicago:20251008T170000
DTEND;TZID=America/Chicago:20251008T190000
DTSTAMP:20260424T155240
CREATED:20250907T134214Z
LAST-MODIFIED:20251001T201120Z
UID:12954-1759942800-1759950000@ctl.wustl.edu
SUMMARY:Calc I RPM Hours- Justin
DESCRIPTION:
URL:https://ctl.wustl.edu/learningcenter/mentoring-sessions/calc-i-rpm-hours-justin-4/2025-10-08/
LOCATION:Danforth House Classroom A
CATEGORIES:Calc I (Math 1510),Calculus
END:VEVENT
BEGIN:VEVENT
DTSTART;TZID=America/Chicago:20251015T170000
DTEND;TZID=America/Chicago:20251015T190000
DTSTAMP:20260424T155240
CREATED:20250907T134214Z
LAST-MODIFIED:20251001T201121Z
UID:12956-1760547600-1760554800@ctl.wustl.edu
SUMMARY:Calc I RPM Hours- Justin
DESCRIPTION:
URL:https://ctl.wustl.edu/learningcenter/mentoring-sessions/calc-i-rpm-hours-justin-4/2025-10-15/
LOCATION:Danforth House Classroom A
CATEGORIES:Calc I (Math 1510),Calculus
END:VEVENT
BEGIN:VEVENT
DTSTART;TZID=America/Chicago:20251020T170000
DTEND;TZID=America/Chicago:20251020T190000
DTSTAMP:20260424T155240
CREATED:20250907T134214Z
LAST-MODIFIED:20251001T201121Z
UID:13537-1760979600-1760986800@ctl.wustl.edu
SUMMARY:Calc I RPM Hours- Justin
DESCRIPTION:
URL:https://ctl.wustl.edu/learningcenter/mentoring-sessions/calc-i-rpm-hours-justin-4/2025-10-20/
LOCATION:Danforth House Classroom A
CATEGORIES:Calc I (Math 1510),Calculus
END:VEVENT
BEGIN:VEVENT
DTSTART;TZID=America/Chicago:20251022T170000
DTEND;TZID=America/Chicago:20251022T190000
DTSTAMP:20260424T155240
CREATED:20250907T134214Z
LAST-MODIFIED:20251001T201124Z
UID:12958-1761152400-1761159600@ctl.wustl.edu
SUMMARY:Calc I RPM Hours- Justin
DESCRIPTION:
URL:https://ctl.wustl.edu/learningcenter/mentoring-sessions/calc-i-rpm-hours-justin-4/2025-10-22/
LOCATION:Danforth House Classroom A
CATEGORIES:Calc I (Math 1510),Calculus
END:VEVENT
BEGIN:VEVENT
DTSTART;TZID=America/Chicago:20251029T170000
DTEND;TZID=America/Chicago:20251029T190000
DTSTAMP:20260424T155240
CREATED:20250907T134214Z
LAST-MODIFIED:20251001T201125Z
UID:12960-1761757200-1761764400@ctl.wustl.edu
SUMMARY:Calc I RPM Hours- Justin
DESCRIPTION:
URL:https://ctl.wustl.edu/learningcenter/mentoring-sessions/calc-i-rpm-hours-justin-4/2025-10-29/
LOCATION:Danforth House Classroom A
CATEGORIES:Calc I (Math 1510),Calculus
END:VEVENT
BEGIN:VEVENT
DTSTART;TZID=America/Chicago:20251103T170000
DTEND;TZID=America/Chicago:20251103T190000
DTSTAMP:20260424T155240
CREATED:20250907T134214Z
LAST-MODIFIED:20251001T201125Z
UID:13539-1762189200-1762196400@ctl.wustl.edu
SUMMARY:Calc I RPM Hours- Justin
DESCRIPTION:
URL:https://ctl.wustl.edu/learningcenter/mentoring-sessions/calc-i-rpm-hours-justin-4/2025-11-03/
LOCATION:Danforth House Classroom A
CATEGORIES:Calc I (Math 1510),Calculus
END:VEVENT
BEGIN:VEVENT
DTSTART;TZID=America/Chicago:20251105T170000
DTEND;TZID=America/Chicago:20251105T190000
DTSTAMP:20260424T155240
CREATED:20250907T134214Z
LAST-MODIFIED:20251001T201126Z
UID:12962-1762362000-1762369200@ctl.wustl.edu
SUMMARY:Calc I RPM Hours- Justin
DESCRIPTION:
URL:https://ctl.wustl.edu/learningcenter/mentoring-sessions/calc-i-rpm-hours-justin-4/2025-11-05/
LOCATION:Danforth House Classroom A
CATEGORIES:Calc I (Math 1510),Calculus
END:VEVENT
BEGIN:VEVENT
DTSTART;TZID=America/Chicago:20251110T170000
DTEND;TZID=America/Chicago:20251110T190000
DTSTAMP:20260424T155240
CREATED:20250907T134214Z
LAST-MODIFIED:20251001T201126Z
UID:13540-1762794000-1762801200@ctl.wustl.edu
SUMMARY:Calc I RPM Hours- Justin
DESCRIPTION:
URL:https://ctl.wustl.edu/learningcenter/mentoring-sessions/calc-i-rpm-hours-justin-4/2025-11-10/
LOCATION:Danforth House Classroom A
CATEGORIES:Calc I (Math 1510),Calculus
END:VEVENT
BEGIN:VEVENT
DTSTART;TZID=America/Chicago:20251112T170000
DTEND;TZID=America/Chicago:20251112T190000
DTSTAMP:20260424T155240
CREATED:20250907T134214Z
LAST-MODIFIED:20251001T201126Z
UID:12964-1762966800-1762974000@ctl.wustl.edu
SUMMARY:Calc I RPM Hours- Justin
DESCRIPTION:
URL:https://ctl.wustl.edu/learningcenter/mentoring-sessions/calc-i-rpm-hours-justin-4/2025-11-12/
LOCATION:Danforth House Classroom A
CATEGORIES:Calc I (Math 1510),Calculus
END:VEVENT
BEGIN:VEVENT
DTSTART;TZID=America/Chicago:20251117T170000
DTEND;TZID=America/Chicago:20251117T190000
DTSTAMP:20260424T155240
CREATED:20250907T134214Z
LAST-MODIFIED:20251001T201127Z
UID:13541-1763398800-1763406000@ctl.wustl.edu
SUMMARY:Calc I RPM Hours- Justin
DESCRIPTION:
URL:https://ctl.wustl.edu/learningcenter/mentoring-sessions/calc-i-rpm-hours-justin-4/2025-11-17/
LOCATION:Danforth House Classroom A
CATEGORIES:Calc I (Math 1510),Calculus
END:VEVENT
BEGIN:VEVENT
DTSTART;TZID=America/Chicago:20251119T170000
DTEND;TZID=America/Chicago:20251119T190000
DTSTAMP:20260424T155240
CREATED:20250907T134214Z
LAST-MODIFIED:20251001T201127Z
UID:12966-1763571600-1763578800@ctl.wustl.edu
SUMMARY:Calc I RPM Hours- Justin
DESCRIPTION:
URL:https://ctl.wustl.edu/learningcenter/mentoring-sessions/calc-i-rpm-hours-justin-4/2025-11-19/
LOCATION:Danforth House Classroom A
CATEGORIES:Calc I (Math 1510),Calculus
END:VEVENT
BEGIN:VEVENT
DTSTART;TZID=America/Chicago:20251203T170000
DTEND;TZID=America/Chicago:20251203T190000
DTSTAMP:20260424T155240
CREATED:20250907T134214Z
LAST-MODIFIED:20251001T201129Z
UID:12970-1764781200-1764788400@ctl.wustl.edu
SUMMARY:Calc I RPM Hours- Justin
DESCRIPTION:
URL:https://ctl.wustl.edu/learningcenter/mentoring-sessions/calc-i-rpm-hours-justin-4/2025-12-03/
LOCATION:Danforth House Classroom A
CATEGORIES:Calc I (Math 1510),Calculus
END:VEVENT
BEGIN:VEVENT
DTSTART;TZID=America/Chicago:20251013T170000
DTEND;TZID=America/Chicago:20251013T190000
DTSTAMP:20260424T155240
CREATED:20250907T134214Z
LAST-MODIFIED:20251014T190855Z
UID:13536-1760374800-1760382000@ctl.wustl.edu
SUMMARY:Calc I RPM Hours- Justin-CANCELED
DESCRIPTION:
URL:https://ctl.wustl.edu/learningcenter/mentoring-sessions/calc-i-rpm-hours-justin-4-2025-10-13/
LOCATION:Danforth House Classroom A
CATEGORIES:Calc I (Math 1510),Calculus
END:VEVENT
BEGIN:VEVENT
DTSTART;TZID=America/Chicago:20251027T170000
DTEND;TZID=America/Chicago:20251027T190000
DTSTAMP:20260424T155240
CREATED:20250907T134214Z
LAST-MODIFIED:20251001T201125Z
UID:13538-1761584400-1761591600@ctl.wustl.edu
SUMMARY:Calc I RPM Hours- Justin
DESCRIPTION:
URL:https://ctl.wustl.edu/learningcenter/mentoring-sessions/calc-i-rpm-hours-justin-4/2025-10-27/
LOCATION:Danforth House Classroom A
CATEGORIES:Calc I (Math 1510),Calculus
END:VEVENT
BEGIN:VEVENT
DTSTART;TZID=America/Chicago:20241023T160000
DTEND;TZID=America/Chicago:20241023T180000
DTSTAMP:20260424T155240
CREATED:20240907T024034Z
LAST-MODIFIED:20240912T143544Z
UID:9979-1729699200-1729706400@ctl.wustl.edu
SUMMARY:Calc I RPM Hours-Rhea
DESCRIPTION:
URL:https://ctl.wustl.edu/learningcenter/mentoring-sessions/calc-i-rpm-hours-rhea/2024-10-23/
LOCATION:Danforth House Classroom A
CATEGORIES:Calc I (Math 1510),Calculus
END:VEVENT
BEGIN:VEVENT
DTSTART;TZID=America/Chicago:20241028T160000
DTEND;TZID=America/Chicago:20241028T180000
DTSTAMP:20260424T155240
CREATED:20240907T024034Z
LAST-MODIFIED:20240912T143545Z
UID:9980-1730131200-1730138400@ctl.wustl.edu
SUMMARY:Calc I RPM Hours-Rhea
DESCRIPTION:
URL:https://ctl.wustl.edu/learningcenter/mentoring-sessions/calc-i-rpm-hours-rhea/2024-10-28/
LOCATION:Danforth House Classroom A
CATEGORIES:Calc I (Math 1510),Calculus
END:VEVENT
BEGIN:VEVENT
DTSTART;TZID=America/Chicago:20241030T160000
DTEND;TZID=America/Chicago:20241030T180000
DTSTAMP:20260424T155240
CREATED:20240907T024034Z
LAST-MODIFIED:20240912T143545Z
UID:9981-1730304000-1730311200@ctl.wustl.edu
SUMMARY:Calc I RPM Hours-Rhea
DESCRIPTION:
URL:https://ctl.wustl.edu/learningcenter/mentoring-sessions/calc-i-rpm-hours-rhea/2024-10-30/
LOCATION:Danforth House Classroom A
CATEGORIES:Calc I (Math 1510),Calculus
END:VEVENT
BEGIN:VEVENT
DTSTART;TZID=America/Chicago:20241104T160000
DTEND;TZID=America/Chicago:20241104T180000
DTSTAMP:20260424T155240
CREATED:20240907T024034Z
LAST-MODIFIED:20240912T143545Z
UID:9982-1730736000-1730743200@ctl.wustl.edu
SUMMARY:Calc I RPM Hours-Rhea
DESCRIPTION:
URL:https://ctl.wustl.edu/learningcenter/mentoring-sessions/calc-i-rpm-hours-rhea/2024-11-04/
LOCATION:Danforth House Classroom A
CATEGORIES:Calc I (Math 1510),Calculus
END:VEVENT
BEGIN:VEVENT
DTSTART;TZID=America/Chicago:20241106T160000
DTEND;TZID=America/Chicago:20241106T180000
DTSTAMP:20260424T155240
CREATED:20240907T024034Z
LAST-MODIFIED:20240912T143546Z
UID:9983-1730908800-1730916000@ctl.wustl.edu
SUMMARY:Calc I RPM Hours-Rhea
DESCRIPTION:
URL:https://ctl.wustl.edu/learningcenter/mentoring-sessions/calc-i-rpm-hours-rhea/2024-11-06/
LOCATION:Danforth House Classroom A
CATEGORIES:Calc I (Math 1510),Calculus
END:VEVENT
BEGIN:VEVENT
DTSTART;TZID=America/Chicago:20241118T160000
DTEND;TZID=America/Chicago:20241118T180000
DTSTAMP:20260424T155240
CREATED:20240907T024034Z
LAST-MODIFIED:20240912T143547Z
UID:9986-1731945600-1731952800@ctl.wustl.edu
SUMMARY:Calc I RPM Hours-Rhea
DESCRIPTION:
URL:https://ctl.wustl.edu/learningcenter/mentoring-sessions/calc-i-rpm-hours-rhea/2024-11-18/
LOCATION:Danforth House Classroom A
CATEGORIES:Calc I (Math 1510),Calculus
END:VEVENT
BEGIN:VEVENT
DTSTART;TZID=America/Chicago:20240930T160000
DTEND;TZID=America/Chicago:20240930T180000
DTSTAMP:20260424T155240
CREATED:20240907T024034Z
LAST-MODIFIED:20241001T141743Z
UID:9972-1727712000-1727719200@ctl.wustl.edu
SUMMARY:Calc I RPM Hours-Rhea-CANCELED
DESCRIPTION:
URL:https://ctl.wustl.edu/learningcenter/mentoring-sessions/calc-i-rpm-hours-rhea-2024-09-30/
LOCATION:Danforth House Classroom A
CATEGORIES:Calc I (Math 1510),Calculus
END:VEVENT
BEGIN:VEVENT
DTSTART;TZID=America/Chicago:20241113T160000
DTEND;TZID=America/Chicago:20241113T180000
DTSTAMP:20260424T155240
CREATED:20240907T024034Z
LAST-MODIFIED:20241111T125517Z
UID:9985-1731513600-1731520800@ctl.wustl.edu
SUMMARY:Calc I RPM Hours-Rhea-CANCELED
DESCRIPTION:
URL:https://ctl.wustl.edu/learningcenter/mentoring-sessions/calc-i-rpm-hours-rhea-2024-11-13/
LOCATION:Danforth House Classroom A
CATEGORIES:Calc I (Math 1510),Calculus
END:VEVENT
END:VCALENDAR