BEGIN:VCALENDAR
VERSION:2.0
PRODID:-//The Learning Center - ECPv6.15.16.1//NONSGML v1.0//EN
CALSCALE:GREGORIAN
METHOD:PUBLISH
X-WR-CALNAME:The Learning Center
X-ORIGINAL-URL:https://ctl.wustl.edu/learningcenter
X-WR-CALDESC:Events for The Learning Center
REFRESH-INTERVAL;VALUE=DURATION:PT1H
X-Robots-Tag:noindex
X-PUBLISHED-TTL:PT1H
BEGIN:VTIMEZONE
TZID:America/Chicago
BEGIN:DAYLIGHT
TZOFFSETFROM:-0600
TZOFFSETTO:-0500
TZNAME:CDT
DTSTART:20200308T080000
END:DAYLIGHT
BEGIN:STANDARD
TZOFFSETFROM:-0500
TZOFFSETTO:-0600
TZNAME:CST
DTSTART:20201101T070000
END:STANDARD
BEGIN:DAYLIGHT
TZOFFSETFROM:-0600
TZOFFSETTO:-0500
TZNAME:CDT
DTSTART:20210314T080000
END:DAYLIGHT
BEGIN:STANDARD
TZOFFSETFROM:-0500
TZOFFSETTO:-0600
TZNAME:CST
DTSTART:20211107T070000
END:STANDARD
BEGIN:DAYLIGHT
TZOFFSETFROM:-0600
TZOFFSETTO:-0500
TZNAME:CDT
DTSTART:20220313T080000
END:DAYLIGHT
BEGIN:STANDARD
TZOFFSETFROM:-0500
TZOFFSETTO:-0600
TZNAME:CST
DTSTART:20221106T070000
END:STANDARD
BEGIN:DAYLIGHT
TZOFFSETFROM:-0600
TZOFFSETTO:-0500
TZNAME:CDT
DTSTART:20230312T080000
END:DAYLIGHT
BEGIN:STANDARD
TZOFFSETFROM:-0500
TZOFFSETTO:-0600
TZNAME:CST
DTSTART:20231105T070000
END:STANDARD
BEGIN:DAYLIGHT
TZOFFSETFROM:-0600
TZOFFSETTO:-0500
TZNAME:CDT
DTSTART:20240310T080000
END:DAYLIGHT
BEGIN:STANDARD
TZOFFSETFROM:-0500
TZOFFSETTO:-0600
TZNAME:CST
DTSTART:20241103T070000
END:STANDARD
BEGIN:DAYLIGHT
TZOFFSETFROM:-0600
TZOFFSETTO:-0500
TZNAME:CDT
DTSTART:20250309T080000
END:DAYLIGHT
BEGIN:STANDARD
TZOFFSETFROM:-0500
TZOFFSETTO:-0600
TZNAME:CST
DTSTART:20251102T070000
END:STANDARD
BEGIN:DAYLIGHT
TZOFFSETFROM:-0600
TZOFFSETTO:-0500
TZNAME:CDT
DTSTART:20260308T080000
END:DAYLIGHT
BEGIN:STANDARD
TZOFFSETFROM:-0500
TZOFFSETTO:-0600
TZNAME:CST
DTSTART:20261101T070000
END:STANDARD
END:VTIMEZONE
BEGIN:VEVENT
DTSTART;TZID=America/Chicago:20251013T170000
DTEND;TZID=America/Chicago:20251013T190000
DTSTAMP:20260424T204655
CREATED:20250907T134214Z
LAST-MODIFIED:20251014T190855Z
UID:13536-1760374800-1760382000@ctl.wustl.edu
SUMMARY:Calc I RPM Hours- Justin-CANCELED
DESCRIPTION:
URL:https://ctl.wustl.edu/learningcenter/mentoring-sessions/calc-i-rpm-hours-justin-4-2025-10-13/
LOCATION:Danforth House Classroom A
CATEGORIES:Calc I (Math 1510),Calculus
END:VEVENT
BEGIN:VEVENT
DTSTART;TZID=America/Chicago:20251027T170000
DTEND;TZID=America/Chicago:20251027T190000
DTSTAMP:20260424T204655
CREATED:20250907T134214Z
LAST-MODIFIED:20251001T201125Z
UID:13538-1761584400-1761591600@ctl.wustl.edu
SUMMARY:Calc I RPM Hours- Justin
DESCRIPTION:
URL:https://ctl.wustl.edu/learningcenter/mentoring-sessions/calc-i-rpm-hours-justin-4/2025-10-27/
LOCATION:Danforth House Classroom A
CATEGORIES:Calc I (Math 1510),Calculus
END:VEVENT
BEGIN:VEVENT
DTSTART;TZID=America/Chicago:20241023T160000
DTEND;TZID=America/Chicago:20241023T180000
DTSTAMP:20260424T204655
CREATED:20240907T024034Z
LAST-MODIFIED:20240912T143544Z
UID:9979-1729699200-1729706400@ctl.wustl.edu
SUMMARY:Calc I RPM Hours-Rhea
DESCRIPTION:
URL:https://ctl.wustl.edu/learningcenter/mentoring-sessions/calc-i-rpm-hours-rhea/2024-10-23/
LOCATION:Danforth House Classroom A
CATEGORIES:Calc I (Math 1510),Calculus
END:VEVENT
BEGIN:VEVENT
DTSTART;TZID=America/Chicago:20241028T160000
DTEND;TZID=America/Chicago:20241028T180000
DTSTAMP:20260424T204655
CREATED:20240907T024034Z
LAST-MODIFIED:20240912T143545Z
UID:9980-1730131200-1730138400@ctl.wustl.edu
SUMMARY:Calc I RPM Hours-Rhea
DESCRIPTION:
URL:https://ctl.wustl.edu/learningcenter/mentoring-sessions/calc-i-rpm-hours-rhea/2024-10-28/
LOCATION:Danforth House Classroom A
CATEGORIES:Calc I (Math 1510),Calculus
END:VEVENT
BEGIN:VEVENT
DTSTART;TZID=America/Chicago:20241030T160000
DTEND;TZID=America/Chicago:20241030T180000
DTSTAMP:20260424T204655
CREATED:20240907T024034Z
LAST-MODIFIED:20240912T143545Z
UID:9981-1730304000-1730311200@ctl.wustl.edu
SUMMARY:Calc I RPM Hours-Rhea
DESCRIPTION:
URL:https://ctl.wustl.edu/learningcenter/mentoring-sessions/calc-i-rpm-hours-rhea/2024-10-30/
LOCATION:Danforth House Classroom A
CATEGORIES:Calc I (Math 1510),Calculus
END:VEVENT
BEGIN:VEVENT
DTSTART;TZID=America/Chicago:20241104T160000
DTEND;TZID=America/Chicago:20241104T180000
DTSTAMP:20260424T204655
CREATED:20240907T024034Z
LAST-MODIFIED:20240912T143545Z
UID:9982-1730736000-1730743200@ctl.wustl.edu
SUMMARY:Calc I RPM Hours-Rhea
DESCRIPTION:
URL:https://ctl.wustl.edu/learningcenter/mentoring-sessions/calc-i-rpm-hours-rhea/2024-11-04/
LOCATION:Danforth House Classroom A
CATEGORIES:Calc I (Math 1510),Calculus
END:VEVENT
BEGIN:VEVENT
DTSTART;TZID=America/Chicago:20241106T160000
DTEND;TZID=America/Chicago:20241106T180000
DTSTAMP:20260424T204655
CREATED:20240907T024034Z
LAST-MODIFIED:20240912T143546Z
UID:9983-1730908800-1730916000@ctl.wustl.edu
SUMMARY:Calc I RPM Hours-Rhea
DESCRIPTION:
URL:https://ctl.wustl.edu/learningcenter/mentoring-sessions/calc-i-rpm-hours-rhea/2024-11-06/
LOCATION:Danforth House Classroom A
CATEGORIES:Calc I (Math 1510),Calculus
END:VEVENT
BEGIN:VEVENT
DTSTART;TZID=America/Chicago:20241118T160000
DTEND;TZID=America/Chicago:20241118T180000
DTSTAMP:20260424T204655
CREATED:20240907T024034Z
LAST-MODIFIED:20240912T143547Z
UID:9986-1731945600-1731952800@ctl.wustl.edu
SUMMARY:Calc I RPM Hours-Rhea
DESCRIPTION:
URL:https://ctl.wustl.edu/learningcenter/mentoring-sessions/calc-i-rpm-hours-rhea/2024-11-18/
LOCATION:Danforth House Classroom A
CATEGORIES:Calc I (Math 1510),Calculus
END:VEVENT
BEGIN:VEVENT
DTSTART;TZID=America/Chicago:20240930T160000
DTEND;TZID=America/Chicago:20240930T180000
DTSTAMP:20260424T204655
CREATED:20240907T024034Z
LAST-MODIFIED:20241001T141743Z
UID:9972-1727712000-1727719200@ctl.wustl.edu
SUMMARY:Calc I RPM Hours-Rhea-CANCELED
DESCRIPTION:
URL:https://ctl.wustl.edu/learningcenter/mentoring-sessions/calc-i-rpm-hours-rhea-2024-09-30/
LOCATION:Danforth House Classroom A
CATEGORIES:Calc I (Math 1510),Calculus
END:VEVENT
BEGIN:VEVENT
DTSTART;TZID=America/Chicago:20241113T160000
DTEND;TZID=America/Chicago:20241113T180000
DTSTAMP:20260424T204655
CREATED:20240907T024034Z
LAST-MODIFIED:20241111T125517Z
UID:9985-1731513600-1731520800@ctl.wustl.edu
SUMMARY:Calc I RPM Hours-Rhea-CANCELED
DESCRIPTION:
URL:https://ctl.wustl.edu/learningcenter/mentoring-sessions/calc-i-rpm-hours-rhea-2024-11-13/
LOCATION:Danforth House Classroom A
CATEGORIES:Calc I (Math 1510),Calculus
END:VEVENT
BEGIN:VEVENT
DTSTART;TZID=America/Chicago:20241111T160000
DTEND;TZID=America/Chicago:20241111T180000
DTSTAMP:20260424T204655
CREATED:20240907T024034Z
LAST-MODIFIED:20241111T130302Z
UID:9984-1731340800-1731348000@ctl.wustl.edu
SUMMARY:Calc I RPM Hours-Rhea-CANCELED
DESCRIPTION:
URL:https://ctl.wustl.edu/learningcenter/mentoring-sessions/calc-i-rpm-hours-rhea-2024-11-11/
LOCATION:Danforth House Classroom A
CATEGORIES:Calc I (Math 1510),Calculus
END:VEVENT
BEGIN:VEVENT
DTSTART;TZID=America/Chicago:20241120T160000
DTEND;TZID=America/Chicago:20241120T180000
DTSTAMP:20260424T204655
CREATED:20240907T024034Z
LAST-MODIFIED:20241120T162243Z
UID:9987-1732118400-1732125600@ctl.wustl.edu
SUMMARY:Calc I RPM Hours-Rhea-CANCELED
DESCRIPTION:
URL:https://ctl.wustl.edu/learningcenter/mentoring-sessions/calc-i-rpm-hours-rhea-2024-11-20/
LOCATION:Danforth House Classroom A
CATEGORIES:Calc I (Math 1510),Calculus
END:VEVENT
BEGIN:VEVENT
DTSTART;TZID=America/Chicago:20241021T160000
DTEND;TZID=America/Chicago:20241021T180000
DTSTAMP:20260424T204655
CREATED:20240907T024034Z
LAST-MODIFIED:20240912T143544Z
UID:9978-1729526400-1729533600@ctl.wustl.edu
SUMMARY:Calc I RPM Hours-Rhea
DESCRIPTION:
URL:https://ctl.wustl.edu/learningcenter/mentoring-sessions/calc-i-rpm-hours-rhea/2024-10-21/
LOCATION:Danforth House Classroom A
CATEGORIES:Calc I (Math 1510),Calculus
END:VEVENT
BEGIN:VEVENT
DTSTART;TZID=America/Chicago:20241002T160000
DTEND;TZID=America/Chicago:20241002T180000
DTSTAMP:20260424T204655
CREATED:20240907T024034Z
LAST-MODIFIED:20240912T143539Z
UID:9973-1727884800-1727892000@ctl.wustl.edu
SUMMARY:Calc I RPM Hours-Rhea
DESCRIPTION:
URL:https://ctl.wustl.edu/learningcenter/mentoring-sessions/calc-i-rpm-hours-rhea/2024-10-02/
LOCATION:Danforth House Classroom A
CATEGORIES:Calc I (Math 1510),Calculus
END:VEVENT
BEGIN:VEVENT
DTSTART;TZID=America/Chicago:20240925T160000
DTEND;TZID=America/Chicago:20240925T180000
DTSTAMP:20260424T204655
CREATED:20240907T024034Z
LAST-MODIFIED:20240912T143538Z
UID:9971-1727280000-1727287200@ctl.wustl.edu
SUMMARY:Calc I RPM Hours-Rhea
DESCRIPTION:
URL:https://ctl.wustl.edu/learningcenter/mentoring-sessions/calc-i-rpm-hours-rhea/2024-09-25/
LOCATION:Danforth House Classroom A
CATEGORIES:Calc I (Math 1510),Calculus
END:VEVENT
BEGIN:VEVENT
DTSTART;TZID=America/Chicago:20240923T160000
DTEND;TZID=America/Chicago:20240923T180000
DTSTAMP:20260424T204655
CREATED:20240907T024034Z
LAST-MODIFIED:20240912T143538Z
UID:9970-1727107200-1727114400@ctl.wustl.edu
SUMMARY:Calc I RPM Hours-Rhea
DESCRIPTION:
URL:https://ctl.wustl.edu/learningcenter/mentoring-sessions/calc-i-rpm-hours-rhea/2024-09-23/
LOCATION:Danforth House Classroom A
CATEGORIES:Calc I (Math 1510),Calculus
END:VEVENT
BEGIN:VEVENT
DTSTART;TZID=America/Chicago:20240911T160000
DTEND;TZID=America/Chicago:20240911T180000
DTSTAMP:20260424T204655
CREATED:20240907T024034Z
LAST-MODIFIED:20240912T143537Z
UID:9967-1726070400-1726077600@ctl.wustl.edu
SUMMARY:Calc I RPM Hours-Rhea
DESCRIPTION:
URL:https://ctl.wustl.edu/learningcenter/mentoring-sessions/calc-i-rpm-hours-rhea/2024-09-11/
LOCATION:Danforth House Classroom A
CATEGORIES:Calc I (Math 1510),Calculus
END:VEVENT
BEGIN:VEVENT
DTSTART;TZID=America/Chicago:20240909T160000
DTEND;TZID=America/Chicago:20240909T180000
DTSTAMP:20260424T204655
CREATED:20240907T024034Z
LAST-MODIFIED:20240912T143537Z
UID:9966-1725897600-1725904800@ctl.wustl.edu
SUMMARY:Calc I RPM Hours-Rhea
DESCRIPTION:
URL:https://ctl.wustl.edu/learningcenter/mentoring-sessions/calc-i-rpm-hours-rhea/2024-09-09/
LOCATION:Danforth House Classroom A
CATEGORIES:Calc I (Math 1510),Calculus
END:VEVENT
BEGIN:VEVENT
DTSTART;TZID=America/Chicago:20231001T130000
DTEND;TZID=America/Chicago:20231001T150000
DTSTAMP:20260424T204655
CREATED:20230918T154212Z
LAST-MODIFIED:20230924T141325Z
UID:7978-1696165200-1696172400@ctl.wustl.edu
SUMMARY:Helen_Calc 1 RPM hours
DESCRIPTION:
URL:https://ctl.wustl.edu/learningcenter/mentoring-sessions/helen_calc-1-rpm-hours-3-2023-10-01/2023-10-01/
LOCATION:Danforth House Classroom A
CATEGORIES:Calc I (Math 1510),Calculus,Mathematics
END:VEVENT
BEGIN:VEVENT
DTSTART;TZID=America/Chicago:20230924T130000
DTEND;TZID=America/Chicago:20230924T150000
DTSTAMP:20260424T204655
CREATED:20230918T154212Z
LAST-MODIFIED:20230924T141340Z
UID:7977-1695560400-1695567600@ctl.wustl.edu
SUMMARY:Helen_Calc 1 RPM hours CANCELED
DESCRIPTION:
URL:https://ctl.wustl.edu/learningcenter/mentoring-sessions/helen_calc-1-rpm-hours-3/
LOCATION:Danforth House Classroom A
CATEGORIES:Calc I (Math 1510),Calculus,Mathematics
END:VEVENT
BEGIN:VEVENT
DTSTART;TZID=America/Chicago:20231022T130000
DTEND;TZID=America/Chicago:20231022T150000
DTSTAMP:20260424T204655
CREATED:20230918T154212Z
LAST-MODIFIED:20230924T141327Z
UID:7981-1697979600-1697986800@ctl.wustl.edu
SUMMARY:Helen_Calc 1 RPM hours
DESCRIPTION:
URL:https://ctl.wustl.edu/learningcenter/mentoring-sessions/helen_calc-1-rpm-hours-3-2023-10-01/2023-10-22/
LOCATION:Danforth House Classroom A
CATEGORIES:Calc I (Math 1510),Calculus,Mathematics
END:VEVENT
BEGIN:VEVENT
DTSTART;TZID=America/Chicago:20231029T130000
DTEND;TZID=America/Chicago:20231029T150000
DTSTAMP:20260424T204655
CREATED:20230918T154212Z
LAST-MODIFIED:20230924T141327Z
UID:7982-1698584400-1698591600@ctl.wustl.edu
SUMMARY:Helen_Calc 1 RPM hours
DESCRIPTION:
URL:https://ctl.wustl.edu/learningcenter/mentoring-sessions/helen_calc-1-rpm-hours-3-2023-10-01/2023-10-29/
LOCATION:Danforth House Classroom A
CATEGORIES:Calc I (Math 1510),Calculus,Mathematics
END:VEVENT
BEGIN:VEVENT
DTSTART;TZID=America/Chicago:20231105T130000
DTEND;TZID=America/Chicago:20231105T150000
DTSTAMP:20260424T204655
CREATED:20230918T154212Z
LAST-MODIFIED:20231031T180111Z
UID:7983-1699189200-1699196400@ctl.wustl.edu
SUMMARY:Helen_Calc 1 RPM hours CANCELED
DESCRIPTION:
URL:https://ctl.wustl.edu/learningcenter/mentoring-sessions/helen_calc-1-rpm-hours-3-2023-11-05/
LOCATION:Danforth House Classroom A
CATEGORIES:Calc I (Math 1510),Calculus,Mathematics
END:VEVENT
BEGIN:VEVENT
DTSTART;TZID=America/Chicago:20231203T130000
DTEND;TZID=America/Chicago:20231203T150000
DTSTAMP:20260424T204655
CREATED:20230918T154212Z
LAST-MODIFIED:20231203T182629Z
UID:7987-1701608400-1701615600@ctl.wustl.edu
SUMMARY:Helen_Calc 1 RPM hours CANCELED
DESCRIPTION:
URL:https://ctl.wustl.edu/learningcenter/mentoring-sessions/helen_calc-1-rpm-hours-3-2023-12-03/
LOCATION:Danforth House Classroom A
CATEGORIES:Calc I (Math 1510),Calculus,Mathematics
END:VEVENT
BEGIN:VEVENT
DTSTART;TZID=America/Chicago:20211103T190000
DTEND;TZID=America/Chicago:20211103T220000
DTSTAMP:20260424T204655
CREATED:20210910T190709Z
LAST-MODIFIED:20210910T190709Z
UID:2618-1635966000-1635976800@ctl.wustl.edu
SUMMARY:Barry's Calc II RPM session
DESCRIPTION:Stop by for homework help\, understanding concepts\, exam review and to work with your peers.
URL:https://ctl.wustl.edu/learningcenter/mentoring-sessions/barrys-calc-ii-rpm-session-4/2021-11-03/
LOCATION:Danforth House Classroom A
CATEGORIES:Calc II (Math 1520),Calculus,Mathematics
END:VEVENT
BEGIN:VEVENT
DTSTART;TZID=America/Chicago:20210915T190000
DTEND;TZID=America/Chicago:20210915T220000
DTSTAMP:20260424T204655
CREATED:20210910T190709Z
LAST-MODIFIED:20210910T190709Z
UID:2611-1631732400-1631743200@ctl.wustl.edu
SUMMARY:Barry's Calc II RPM session
DESCRIPTION:Stop by for homework help\, understanding concepts\, exam review and to work with your peers.
URL:https://ctl.wustl.edu/learningcenter/mentoring-sessions/barrys-calc-ii-rpm-session-4/2021-09-15/
LOCATION:Danforth House Classroom A
CATEGORIES:Calc II (Math 1520),Calculus,Mathematics
END:VEVENT
BEGIN:VEVENT
DTSTART;TZID=America/Chicago:20210929T190000
DTEND;TZID=America/Chicago:20210929T220000
DTSTAMP:20260424T204655
CREATED:20210910T190709Z
LAST-MODIFIED:20210910T190709Z
UID:2613-1632942000-1632952800@ctl.wustl.edu
SUMMARY:Barry's Calc II RPM session
DESCRIPTION:Stop by for homework help\, understanding concepts\, exam review and to work with your peers.
URL:https://ctl.wustl.edu/learningcenter/mentoring-sessions/barrys-calc-ii-rpm-session-4/2021-09-29/
LOCATION:Danforth House Classroom A
CATEGORIES:Calc II (Math 1520),Calculus,Mathematics
END:VEVENT
BEGIN:VEVENT
DTSTART;TZID=America/Chicago:20211006T190000
DTEND;TZID=America/Chicago:20211006T220000
DTSTAMP:20260424T204655
CREATED:20210910T190709Z
LAST-MODIFIED:20210910T190709Z
UID:2614-1633546800-1633557600@ctl.wustl.edu
SUMMARY:Barry's Calc II RPM session
DESCRIPTION:Stop by for homework help\, understanding concepts\, exam review and to work with your peers.
URL:https://ctl.wustl.edu/learningcenter/mentoring-sessions/barrys-calc-ii-rpm-session-4/2021-10-06/
LOCATION:Danforth House Classroom A
CATEGORIES:Calc II (Math 1520),Calculus,Mathematics
END:VEVENT
BEGIN:VEVENT
DTSTART;TZID=America/Chicago:20211013T190000
DTEND;TZID=America/Chicago:20211013T220000
DTSTAMP:20260424T204655
CREATED:20210910T190709Z
LAST-MODIFIED:20210910T190709Z
UID:2615-1634151600-1634162400@ctl.wustl.edu
SUMMARY:Barry's Calc II RPM session
DESCRIPTION:Stop by for homework help\, understanding concepts\, exam review and to work with your peers.
URL:https://ctl.wustl.edu/learningcenter/mentoring-sessions/barrys-calc-ii-rpm-session-4/2021-10-13/
LOCATION:Danforth House Classroom A
CATEGORIES:Calc II (Math 1520),Calculus,Mathematics
END:VEVENT
BEGIN:VEVENT
DTSTART;TZID=America/Chicago:20211020T190000
DTEND;TZID=America/Chicago:20211020T220000
DTSTAMP:20260424T204655
CREATED:20210910T190709Z
LAST-MODIFIED:20210910T190709Z
UID:2616-1634756400-1634767200@ctl.wustl.edu
SUMMARY:Barry's Calc II RPM session
DESCRIPTION:Stop by for homework help\, understanding concepts\, exam review and to work with your peers.
URL:https://ctl.wustl.edu/learningcenter/mentoring-sessions/barrys-calc-ii-rpm-session-4/2021-10-20/
LOCATION:Danforth House Classroom A
CATEGORIES:Calc II (Math 1520),Calculus,Mathematics
END:VEVENT
END:VCALENDAR