BEGIN:VCALENDAR
VERSION:2.0
PRODID:-//The Learning Center - ECPv6.15.16.1//NONSGML v1.0//EN
CALSCALE:GREGORIAN
METHOD:PUBLISH
X-WR-CALNAME:The Learning Center
X-ORIGINAL-URL:https://ctl.wustl.edu/learningcenter
X-WR-CALDESC:Events for The Learning Center
REFRESH-INTERVAL;VALUE=DURATION:PT1H
X-Robots-Tag:noindex
X-PUBLISHED-TTL:PT1H
BEGIN:VTIMEZONE
TZID:America/Chicago
BEGIN:DAYLIGHT
TZOFFSETFROM:-0600
TZOFFSETTO:-0500
TZNAME:CDT
DTSTART:20220313T080000
END:DAYLIGHT
BEGIN:STANDARD
TZOFFSETFROM:-0500
TZOFFSETTO:-0600
TZNAME:CST
DTSTART:20221106T070000
END:STANDARD
BEGIN:DAYLIGHT
TZOFFSETFROM:-0600
TZOFFSETTO:-0500
TZNAME:CDT
DTSTART:20230312T080000
END:DAYLIGHT
BEGIN:STANDARD
TZOFFSETFROM:-0500
TZOFFSETTO:-0600
TZNAME:CST
DTSTART:20231105T070000
END:STANDARD
BEGIN:DAYLIGHT
TZOFFSETFROM:-0600
TZOFFSETTO:-0500
TZNAME:CDT
DTSTART:20240310T080000
END:DAYLIGHT
BEGIN:STANDARD
TZOFFSETFROM:-0500
TZOFFSETTO:-0600
TZNAME:CST
DTSTART:20241103T070000
END:STANDARD
BEGIN:DAYLIGHT
TZOFFSETFROM:-0600
TZOFFSETTO:-0500
TZNAME:CDT
DTSTART:20250309T080000
END:DAYLIGHT
BEGIN:STANDARD
TZOFFSETFROM:-0500
TZOFFSETTO:-0600
TZNAME:CST
DTSTART:20251102T070000
END:STANDARD
BEGIN:DAYLIGHT
TZOFFSETFROM:-0600
TZOFFSETTO:-0500
TZNAME:CDT
DTSTART:20260308T080000
END:DAYLIGHT
BEGIN:STANDARD
TZOFFSETFROM:-0500
TZOFFSETTO:-0600
TZNAME:CST
DTSTART:20261101T070000
END:STANDARD
END:VTIMEZONE
BEGIN:VEVENT
DTSTART;TZID=America/Chicago:20251001T180000
DTEND;TZID=America/Chicago:20251001T190000
DTSTAMP:20260424T085409
CREATED:20250909T230414Z
LAST-MODIFIED:20250909T230414Z
UID:13262-1759341600-1759345200@ctl.wustl.edu
SUMMARY:SDS 2020 Drop-In - Tanvitha
DESCRIPTION:
URL:https://ctl.wustl.edu/learningcenter/mentoring-sessions/sds-2020-drop-in-tanvitha-2/2025-10-01/
LOCATION:Eads 209
CATEGORIES:Mathematics,Statistics,Stats 2020,Stats 3020
END:VEVENT
BEGIN:VEVENT
DTSTART;TZID=America/Chicago:20250924T180000
DTEND;TZID=America/Chicago:20250924T190000
DTSTAMP:20260424T085409
CREATED:20250909T230414Z
LAST-MODIFIED:20250909T230414Z
UID:13261-1758736800-1758740400@ctl.wustl.edu
SUMMARY:SDS 2020 Drop-In - Tanvitha
DESCRIPTION:
URL:https://ctl.wustl.edu/learningcenter/mentoring-sessions/sds-2020-drop-in-tanvitha-2/2025-09-24/
LOCATION:Eads 209
CATEGORIES:Mathematics,Statistics,Stats 2020,Stats 3020
END:VEVENT
BEGIN:VEVENT
DTSTART;TZID=America/Chicago:20250917T180000
DTEND;TZID=America/Chicago:20250917T190000
DTSTAMP:20260424T085409
CREATED:20250909T230414Z
LAST-MODIFIED:20250909T230414Z
UID:13260-1758132000-1758135600@ctl.wustl.edu
SUMMARY:SDS 2020 Drop-In - Tanvitha
DESCRIPTION:
URL:https://ctl.wustl.edu/learningcenter/mentoring-sessions/sds-2020-drop-in-tanvitha-2/2025-09-17/
LOCATION:Eads 209
CATEGORIES:Mathematics,Statistics,Stats 2020,Stats 3020
END:VEVENT
BEGIN:VEVENT
DTSTART;TZID=America/Chicago:20250910T180000
DTEND;TZID=America/Chicago:20250910T190000
DTSTAMP:20260424T085409
CREATED:20250909T230414Z
LAST-MODIFIED:20250909T230414Z
UID:13259-1757527200-1757530800@ctl.wustl.edu
SUMMARY:SDS 2020 Drop-In - Tanvitha
DESCRIPTION:
URL:https://ctl.wustl.edu/learningcenter/mentoring-sessions/sds-2020-drop-in-tanvitha-2/2025-09-10/
LOCATION:Eads 209
CATEGORIES:Mathematics,Statistics,Stats 2020,Stats 3020
END:VEVENT
BEGIN:VEVENT
DTSTART;TZID=America/Chicago:20230917T190000
DTEND;TZID=America/Chicago:20230917T210000
DTSTAMP:20260424T085409
CREATED:20230911T160841Z
LAST-MODIFIED:20230911T160841Z
UID:7885-1694977200-1694984400@ctl.wustl.edu
SUMMARY:Pooja_Physics Drop-In hours
DESCRIPTION:
URL:https://ctl.wustl.edu/learningcenter/mentoring-sessions/pooja_physics-drop-in-hours-3/2023-09-17/
LOCATION:Eads 209
CATEGORIES:Physics,Physics 1740/1742
END:VEVENT
BEGIN:VEVENT
DTSTART;TZID=America/Chicago:20231203T140000
DTEND;TZID=America/Chicago:20231203T160000
DTSTAMP:20260424T085409
CREATED:20230911T160841Z
LAST-MODIFIED:20231201T173927Z
UID:7897-1701612000-1701619200@ctl.wustl.edu
SUMMARY:Pooja_Physics Drop-In hours
DESCRIPTION:
URL:https://ctl.wustl.edu/learningcenter/mentoring-sessions/pooja_physics-drop-in-hours-3-2023-12-03/
LOCATION:Eads 209
CATEGORIES:Physics,Physics 1740/1742
END:VEVENT
BEGIN:VEVENT
DTSTART;TZID=America/Chicago:20231112T190000
DTEND;TZID=America/Chicago:20231112T210000
DTSTAMP:20260424T085409
CREATED:20230911T160841Z
LAST-MODIFIED:20230911T160841Z
UID:7894-1699815600-1699822800@ctl.wustl.edu
SUMMARY:Pooja_Physics Drop-In hours
DESCRIPTION:
URL:https://ctl.wustl.edu/learningcenter/mentoring-sessions/pooja_physics-drop-in-hours-3/2023-11-12/
LOCATION:Eads 209
CATEGORIES:Physics,Physics 1740/1742
END:VEVENT
BEGIN:VEVENT
DTSTART;TZID=America/Chicago:20231105T190000
DTEND;TZID=America/Chicago:20231105T210000
DTSTAMP:20260424T085409
CREATED:20230911T160841Z
LAST-MODIFIED:20230911T160841Z
UID:7893-1699210800-1699218000@ctl.wustl.edu
SUMMARY:Pooja_Physics Drop-In hours
DESCRIPTION:
URL:https://ctl.wustl.edu/learningcenter/mentoring-sessions/pooja_physics-drop-in-hours-3/2023-11-05/
LOCATION:Eads 209
CATEGORIES:Physics,Physics 1740/1742
END:VEVENT
BEGIN:VEVENT
DTSTART;TZID=America/Chicago:20231029T190000
DTEND;TZID=America/Chicago:20231029T210000
DTSTAMP:20260424T085409
CREATED:20230911T160841Z
LAST-MODIFIED:20230911T160841Z
UID:7892-1698606000-1698613200@ctl.wustl.edu
SUMMARY:Pooja_Physics Drop-In hours
DESCRIPTION:
URL:https://ctl.wustl.edu/learningcenter/mentoring-sessions/pooja_physics-drop-in-hours-3/2023-10-29/
LOCATION:Eads 209
CATEGORIES:Physics,Physics 1740/1742
END:VEVENT
BEGIN:VEVENT
DTSTART;TZID=America/Chicago:20231022T190000
DTEND;TZID=America/Chicago:20231022T210000
DTSTAMP:20260424T085409
CREATED:20230911T160841Z
LAST-MODIFIED:20230911T160841Z
UID:7891-1698001200-1698008400@ctl.wustl.edu
SUMMARY:Pooja_Physics Drop-In hours
DESCRIPTION:
URL:https://ctl.wustl.edu/learningcenter/mentoring-sessions/pooja_physics-drop-in-hours-3/2023-10-22/
LOCATION:Eads 209
CATEGORIES:Physics,Physics 1740/1742
END:VEVENT
BEGIN:VEVENT
DTSTART;TZID=America/Chicago:20231015T190000
DTEND;TZID=America/Chicago:20231015T210000
DTSTAMP:20260424T085409
CREATED:20230911T160841Z
LAST-MODIFIED:20230911T160841Z
UID:7890-1697396400-1697403600@ctl.wustl.edu
SUMMARY:Pooja_Physics Drop-In hours
DESCRIPTION:
URL:https://ctl.wustl.edu/learningcenter/mentoring-sessions/pooja_physics-drop-in-hours-3/2023-10-15/
LOCATION:Eads 209
CATEGORIES:Physics,Physics 1740/1742
END:VEVENT
BEGIN:VEVENT
DTSTART;TZID=America/Chicago:20231001T190000
DTEND;TZID=America/Chicago:20231001T210000
DTSTAMP:20260424T085409
CREATED:20230911T160841Z
LAST-MODIFIED:20230911T160841Z
UID:7888-1696186800-1696194000@ctl.wustl.edu
SUMMARY:Pooja_Physics Drop-In hours
DESCRIPTION:
URL:https://ctl.wustl.edu/learningcenter/mentoring-sessions/pooja_physics-drop-in-hours-3/2023-10-01/
LOCATION:Eads 209
CATEGORIES:Physics,Physics 1740/1742
END:VEVENT
BEGIN:VEVENT
DTSTART;TZID=America/Chicago:20230924T190000
DTEND;TZID=America/Chicago:20230924T210000
DTSTAMP:20260424T085409
CREATED:20230911T160841Z
LAST-MODIFIED:20230911T160841Z
UID:7887-1695582000-1695589200@ctl.wustl.edu
SUMMARY:Pooja_Physics Drop-In hours
DESCRIPTION:
URL:https://ctl.wustl.edu/learningcenter/mentoring-sessions/pooja_physics-drop-in-hours-3/2023-09-24/
LOCATION:Eads 209
CATEGORIES:Physics,Physics 1740/1742
END:VEVENT
END:VCALENDAR