BEGIN:VCALENDAR
VERSION:2.0
PRODID:-//The Learning Center - ECPv6.15.16.1//NONSGML v1.0//EN
CALSCALE:GREGORIAN
METHOD:PUBLISH
X-WR-CALNAME:The Learning Center
X-ORIGINAL-URL:https://ctl.wustl.edu/learningcenter
X-WR-CALDESC:Events for The Learning Center
REFRESH-INTERVAL;VALUE=DURATION:PT1H
X-Robots-Tag:noindex
X-PUBLISHED-TTL:PT1H
BEGIN:VTIMEZONE
TZID:America/Chicago
BEGIN:DAYLIGHT
TZOFFSETFROM:-0600
TZOFFSETTO:-0500
TZNAME:CDT
DTSTART:20240310T080000
END:DAYLIGHT
BEGIN:STANDARD
TZOFFSETFROM:-0500
TZOFFSETTO:-0600
TZNAME:CST
DTSTART:20241103T070000
END:STANDARD
BEGIN:DAYLIGHT
TZOFFSETFROM:-0600
TZOFFSETTO:-0500
TZNAME:CDT
DTSTART:20250309T080000
END:DAYLIGHT
BEGIN:STANDARD
TZOFFSETFROM:-0500
TZOFFSETTO:-0600
TZNAME:CST
DTSTART:20251102T070000
END:STANDARD
BEGIN:DAYLIGHT
TZOFFSETFROM:-0600
TZOFFSETTO:-0500
TZNAME:CDT
DTSTART:20260308T080000
END:DAYLIGHT
BEGIN:STANDARD
TZOFFSETFROM:-0500
TZOFFSETTO:-0600
TZNAME:CST
DTSTART:20261101T070000
END:STANDARD
BEGIN:DAYLIGHT
TZOFFSETFROM:-0600
TZOFFSETTO:-0500
TZNAME:CDT
DTSTART:20270314T080000
END:DAYLIGHT
BEGIN:STANDARD
TZOFFSETFROM:-0500
TZOFFSETTO:-0600
TZNAME:CST
DTSTART:20271107T070000
END:STANDARD
END:VTIMEZONE
BEGIN:VEVENT
DTSTART;TZID=America/Chicago:20260315T160000
DTEND;TZID=America/Chicago:20260315T180000
DTSTAMP:20260424T193533
CREATED:20260123T232609Z
LAST-MODIFIED:20260306T183112Z
UID:13802-1773590400-1773597600@ctl.wustl.edu
SUMMARY:Classical Theory Drop-In - Xiaoyu CANCELED
DESCRIPTION:
URL:https://ctl.wustl.edu/learningcenter/mentoring-sessions/classical-theory-drop-in-xiaoyu-2026-03-15/
LOCATION:MCB 103
CATEGORIES:Music Theory
END:VEVENT
BEGIN:VEVENT
DTSTART;TZID=America/Chicago:20260125T160000
DTEND;TZID=America/Chicago:20260125T180000
DTSTAMP:20260424T193533
CREATED:20260123T232609Z
LAST-MODIFIED:20260123T232715Z
UID:13794-1769356800-1769364000@ctl.wustl.edu
SUMMARY:Classical Theory Drop-In - Xiaoyu CANCELED
DESCRIPTION:
URL:https://ctl.wustl.edu/learningcenter/mentoring-sessions/classical-theory-drop-in-xiaoyu/
LOCATION:MCB 103
CATEGORIES:Music Theory
END:VEVENT
BEGIN:VEVENT
DTSTART;TZID=America/Chicago:20260208T160000
DTEND;TZID=America/Chicago:20260208T180000
DTSTAMP:20260424T193533
CREATED:20260123T232609Z
LAST-MODIFIED:20260123T232649Z
UID:13797-1770566400-1770573600@ctl.wustl.edu
SUMMARY:Classical Theory Drop-In - Xiaoyu
DESCRIPTION:
URL:https://ctl.wustl.edu/learningcenter/mentoring-sessions/classical-theory-drop-in-xiaoyu-2026-02-01/2026-02-08/
LOCATION:MCB 103
CATEGORIES:Music Theory
END:VEVENT
BEGIN:VEVENT
DTSTART;TZID=America/Chicago:20260215T160000
DTEND;TZID=America/Chicago:20260215T180000
DTSTAMP:20260424T193533
CREATED:20260123T232609Z
LAST-MODIFIED:20260123T232649Z
UID:13798-1771171200-1771178400@ctl.wustl.edu
SUMMARY:Classical Theory Drop-In - Xiaoyu
DESCRIPTION:
URL:https://ctl.wustl.edu/learningcenter/mentoring-sessions/classical-theory-drop-in-xiaoyu-2026-02-01/2026-02-15/
LOCATION:MCB 103
CATEGORIES:Music Theory
END:VEVENT
BEGIN:VEVENT
DTSTART;TZID=America/Chicago:20260222T160000
DTEND;TZID=America/Chicago:20260222T180000
DTSTAMP:20260424T193533
CREATED:20260123T232609Z
LAST-MODIFIED:20260123T232649Z
UID:13799-1771776000-1771783200@ctl.wustl.edu
SUMMARY:Classical Theory Drop-In - Xiaoyu
DESCRIPTION:
URL:https://ctl.wustl.edu/learningcenter/mentoring-sessions/classical-theory-drop-in-xiaoyu-2026-02-01/2026-02-22/
LOCATION:MCB 103
CATEGORIES:Music Theory
END:VEVENT
BEGIN:VEVENT
DTSTART;TZID=America/Chicago:20260301T160000
DTEND;TZID=America/Chicago:20260301T180000
DTSTAMP:20260424T193533
CREATED:20260123T232609Z
LAST-MODIFIED:20260123T232649Z
UID:13800-1772380800-1772388000@ctl.wustl.edu
SUMMARY:Classical Theory Drop-In - Xiaoyu
DESCRIPTION:
URL:https://ctl.wustl.edu/learningcenter/mentoring-sessions/classical-theory-drop-in-xiaoyu-2026-02-01/2026-03-01/
LOCATION:MCB 103
CATEGORIES:Music Theory
END:VEVENT
BEGIN:VEVENT
DTSTART;TZID=America/Chicago:20260322T160000
DTEND;TZID=America/Chicago:20260322T180000
DTSTAMP:20260424T193533
CREATED:20260123T232609Z
LAST-MODIFIED:20260123T232649Z
UID:13803-1774195200-1774202400@ctl.wustl.edu
SUMMARY:Classical Theory Drop-In - Xiaoyu
DESCRIPTION:
URL:https://ctl.wustl.edu/learningcenter/mentoring-sessions/classical-theory-drop-in-xiaoyu-2026-02-01/2026-03-22/
LOCATION:MCB 103
CATEGORIES:Music Theory
END:VEVENT
BEGIN:VEVENT
DTSTART;TZID=America/Chicago:20260329T160000
DTEND;TZID=America/Chicago:20260329T180000
DTSTAMP:20260424T193533
CREATED:20260123T232609Z
LAST-MODIFIED:20260123T232649Z
UID:13804-1774800000-1774807200@ctl.wustl.edu
SUMMARY:Classical Theory Drop-In - Xiaoyu
DESCRIPTION:
URL:https://ctl.wustl.edu/learningcenter/mentoring-sessions/classical-theory-drop-in-xiaoyu-2026-02-01/2026-03-29/
LOCATION:MCB 103
CATEGORIES:Music Theory
END:VEVENT
BEGIN:VEVENT
DTSTART;TZID=America/Chicago:20260405T160000
DTEND;TZID=America/Chicago:20260405T180000
DTSTAMP:20260424T193533
CREATED:20260123T232609Z
LAST-MODIFIED:20260123T232649Z
UID:13805-1775404800-1775412000@ctl.wustl.edu
SUMMARY:Classical Theory Drop-In - Xiaoyu
DESCRIPTION:
URL:https://ctl.wustl.edu/learningcenter/mentoring-sessions/classical-theory-drop-in-xiaoyu-2026-02-01/2026-04-05/
LOCATION:MCB 103
CATEGORIES:Music Theory
END:VEVENT
BEGIN:VEVENT
DTSTART;TZID=America/Chicago:20260412T160000
DTEND;TZID=America/Chicago:20260412T180000
DTSTAMP:20260424T193533
CREATED:20260123T232609Z
LAST-MODIFIED:20260123T232649Z
UID:13806-1776009600-1776016800@ctl.wustl.edu
SUMMARY:Classical Theory Drop-In - Xiaoyu
DESCRIPTION:
URL:https://ctl.wustl.edu/learningcenter/mentoring-sessions/classical-theory-drop-in-xiaoyu-2026-02-01/2026-04-12/
LOCATION:MCB 103
CATEGORIES:Music Theory
END:VEVENT
BEGIN:VEVENT
DTSTART;TZID=America/Chicago:20260419T160000
DTEND;TZID=America/Chicago:20260419T180000
DTSTAMP:20260424T193533
CREATED:20260123T232609Z
LAST-MODIFIED:20260123T232649Z
UID:13807-1776614400-1776621600@ctl.wustl.edu
SUMMARY:Classical Theory Drop-In - Xiaoyu
DESCRIPTION:
URL:https://ctl.wustl.edu/learningcenter/mentoring-sessions/classical-theory-drop-in-xiaoyu-2026-02-01/2026-04-19/
LOCATION:MCB 103
CATEGORIES:Music Theory
END:VEVENT
BEGIN:VEVENT
DTSTART;TZID=America/Chicago:20260201T160000
DTEND;TZID=America/Chicago:20260201T180000
DTSTAMP:20260424T193533
CREATED:20260123T232609Z
LAST-MODIFIED:20260123T232648Z
UID:13796-1769961600-1769968800@ctl.wustl.edu
SUMMARY:Classical Theory Drop-In - Xiaoyu
DESCRIPTION:
URL:https://ctl.wustl.edu/learningcenter/mentoring-sessions/classical-theory-drop-in-xiaoyu-2026-02-01/2026-02-01/
LOCATION:MCB 103
CATEGORIES:Music Theory
END:VEVENT
BEGIN:VEVENT
DTSTART;TZID=America/Chicago:20260308T160000
DTEND;TZID=America/Chicago:20260308T180000
DTSTAMP:20260424T193533
CREATED:20260123T232609Z
LAST-MODIFIED:20260306T183038Z
UID:13801-1772985600-1772992800@ctl.wustl.edu
SUMMARY:Classical Theory Drop-In - Xiaoyu CANCELED
DESCRIPTION:
URL:https://ctl.wustl.edu/learningcenter/mentoring-sessions/classical-theory-drop-in-xiaoyu-2026-03-08/
LOCATION:MCB 103
CATEGORIES:Music Theory
END:VEVENT
BEGIN:VEVENT
DTSTART;TZID=America/Chicago:20250928T120000
DTEND;TZID=America/Chicago:20250928T140000
DTSTAMP:20260424T193533
CREATED:20250909T223321Z
LAST-MODIFIED:20250909T223321Z
UID:13164-1759060800-1759068000@ctl.wustl.edu
SUMMARY:Music Theory Drop-In - Mariel
DESCRIPTION:
URL:https://ctl.wustl.edu/learningcenter/mentoring-sessions/music-theory-drop-in-mariel/2025-09-28/
LOCATION:MCB 103
CATEGORIES:Music Theory
END:VEVENT
BEGIN:VEVENT
DTSTART;TZID=America/Chicago:20250914T120000
DTEND;TZID=America/Chicago:20250914T140000
DTSTAMP:20260424T193533
CREATED:20250909T223321Z
LAST-MODIFIED:20250909T223321Z
UID:13161-1757851200-1757858400@ctl.wustl.edu
SUMMARY:Music Theory Drop-In - Mariel
DESCRIPTION:
URL:https://ctl.wustl.edu/learningcenter/mentoring-sessions/music-theory-drop-in-mariel/2025-09-14/
LOCATION:MCB 103
CATEGORIES:Music Theory
END:VEVENT
BEGIN:VEVENT
DTSTART;TZID=America/Chicago:20250921T120000
DTEND;TZID=America/Chicago:20250921T140000
DTSTAMP:20260424T193533
CREATED:20250909T223321Z
LAST-MODIFIED:20250909T223321Z
UID:13163-1758456000-1758463200@ctl.wustl.edu
SUMMARY:Music Theory Drop-In - Mariel
DESCRIPTION:
URL:https://ctl.wustl.edu/learningcenter/mentoring-sessions/music-theory-drop-in-mariel/2025-09-21/
LOCATION:MCB 103
CATEGORIES:Music Theory
END:VEVENT
BEGIN:VEVENT
DTSTART;TZID=America/Chicago:20251012T120000
DTEND;TZID=America/Chicago:20251012T140000
DTSTAMP:20260424T193533
CREATED:20250909T223321Z
LAST-MODIFIED:20250909T223321Z
UID:13166-1760270400-1760277600@ctl.wustl.edu
SUMMARY:Music Theory Drop-In - Mariel
DESCRIPTION:
URL:https://ctl.wustl.edu/learningcenter/mentoring-sessions/music-theory-drop-in-mariel/2025-10-12/
LOCATION:MCB 103
CATEGORIES:Music Theory
END:VEVENT
BEGIN:VEVENT
DTSTART;TZID=America/Chicago:20251019T120000
DTEND;TZID=America/Chicago:20251019T140000
DTSTAMP:20260424T193533
CREATED:20250909T223321Z
LAST-MODIFIED:20250909T223321Z
UID:13167-1760875200-1760882400@ctl.wustl.edu
SUMMARY:Music Theory Drop-In - Mariel
DESCRIPTION:
URL:https://ctl.wustl.edu/learningcenter/mentoring-sessions/music-theory-drop-in-mariel/2025-10-19/
LOCATION:MCB 103
CATEGORIES:Music Theory
END:VEVENT
BEGIN:VEVENT
DTSTART;TZID=America/Chicago:20251026T120000
DTEND;TZID=America/Chicago:20251026T140000
DTSTAMP:20260424T193533
CREATED:20250909T223321Z
LAST-MODIFIED:20250909T223321Z
UID:13168-1761480000-1761487200@ctl.wustl.edu
SUMMARY:Music Theory Drop-In - Mariel
DESCRIPTION:
URL:https://ctl.wustl.edu/learningcenter/mentoring-sessions/music-theory-drop-in-mariel/2025-10-26/
LOCATION:MCB 103
CATEGORIES:Music Theory
END:VEVENT
BEGIN:VEVENT
DTSTART;TZID=America/Chicago:20251109T120000
DTEND;TZID=America/Chicago:20251109T140000
DTSTAMP:20260424T193533
CREATED:20250909T223321Z
LAST-MODIFIED:20250909T223321Z
UID:13170-1762689600-1762696800@ctl.wustl.edu
SUMMARY:Music Theory Drop-In - Mariel
DESCRIPTION:
URL:https://ctl.wustl.edu/learningcenter/mentoring-sessions/music-theory-drop-in-mariel/2025-11-09/
LOCATION:MCB 103
CATEGORIES:Music Theory
END:VEVENT
BEGIN:VEVENT
DTSTART;TZID=America/Chicago:20251116T120000
DTEND;TZID=America/Chicago:20251116T140000
DTSTAMP:20260424T193533
CREATED:20250909T223321Z
LAST-MODIFIED:20250909T223321Z
UID:13171-1763294400-1763301600@ctl.wustl.edu
SUMMARY:Music Theory Drop-In - Mariel
DESCRIPTION:
URL:https://ctl.wustl.edu/learningcenter/mentoring-sessions/music-theory-drop-in-mariel/2025-11-16/
LOCATION:MCB 103
CATEGORIES:Music Theory
END:VEVENT
BEGIN:VEVENT
DTSTART;TZID=America/Chicago:20251123T120000
DTEND;TZID=America/Chicago:20251123T140000
DTSTAMP:20260424T193533
CREATED:20250909T223321Z
LAST-MODIFIED:20250909T223321Z
UID:13172-1763899200-1763906400@ctl.wustl.edu
SUMMARY:Music Theory Drop-In - Mariel
DESCRIPTION:
URL:https://ctl.wustl.edu/learningcenter/mentoring-sessions/music-theory-drop-in-mariel/2025-11-23/
LOCATION:MCB 103
CATEGORIES:Music Theory
END:VEVENT
BEGIN:VEVENT
DTSTART;TZID=America/Chicago:20251207T120000
DTEND;TZID=America/Chicago:20251207T140000
DTSTAMP:20260424T193533
CREATED:20250909T223321Z
LAST-MODIFIED:20250909T223321Z
UID:13174-1765108800-1765116000@ctl.wustl.edu
SUMMARY:Music Theory Drop-In - Mariel
DESCRIPTION:
URL:https://ctl.wustl.edu/learningcenter/mentoring-sessions/music-theory-drop-in-mariel/2025-12-07/
LOCATION:MCB 103
CATEGORIES:Music Theory
END:VEVENT
BEGIN:VEVENT
DTSTART;TZID=America/Chicago:20251102T120000
DTEND;TZID=America/Chicago:20251102T140000
DTSTAMP:20260424T193533
CREATED:20250909T223321Z
LAST-MODIFIED:20250909T223321Z
UID:13169-1762084800-1762092000@ctl.wustl.edu
SUMMARY:Music Theory Drop-In - Mariel
DESCRIPTION:
URL:https://ctl.wustl.edu/learningcenter/mentoring-sessions/music-theory-drop-in-mariel/2025-11-02/
LOCATION:MCB 103
CATEGORIES:Music Theory
END:VEVENT
BEGIN:VEVENT
DTSTART;TZID=America/Chicago:20250216T160000
DTEND;TZID=America/Chicago:20250216T180000
DTSTAMP:20260424T193533
CREATED:20250124T223539Z
LAST-MODIFIED:20250124T223539Z
UID:11901-1739721600-1739728800@ctl.wustl.edu
SUMMARY:Classical Theory Drop-In - Walter
DESCRIPTION:
URL:https://ctl.wustl.edu/learningcenter/mentoring-sessions/classical-theory-drop-in-walter/2025-02-16/
LOCATION:MCB 103
CATEGORIES:Music Theory
END:VEVENT
BEGIN:VEVENT
DTSTART;TZID=America/Chicago:20250126T160000
DTEND;TZID=America/Chicago:20250126T180000
DTSTAMP:20260424T193533
CREATED:20250124T223539Z
LAST-MODIFIED:20250124T223539Z
UID:11898-1737907200-1737914400@ctl.wustl.edu
SUMMARY:Classical Theory Drop-In - Walter
DESCRIPTION:
URL:https://ctl.wustl.edu/learningcenter/mentoring-sessions/classical-theory-drop-in-walter/2025-01-26/
LOCATION:MCB 103
CATEGORIES:Music Theory
END:VEVENT
BEGIN:VEVENT
DTSTART;TZID=America/Chicago:20250202T160000
DTEND;TZID=America/Chicago:20250202T180000
DTSTAMP:20260424T193533
CREATED:20250124T223539Z
LAST-MODIFIED:20250124T223539Z
UID:11899-1738512000-1738519200@ctl.wustl.edu
SUMMARY:Classical Theory Drop-In - Walter
DESCRIPTION:
URL:https://ctl.wustl.edu/learningcenter/mentoring-sessions/classical-theory-drop-in-walter/2025-02-02/
LOCATION:MCB 103
CATEGORIES:Music Theory
END:VEVENT
BEGIN:VEVENT
DTSTART;TZID=America/Chicago:20250209T160000
DTEND;TZID=America/Chicago:20250209T180000
DTSTAMP:20260424T193533
CREATED:20250124T223539Z
LAST-MODIFIED:20250124T223539Z
UID:11900-1739116800-1739124000@ctl.wustl.edu
SUMMARY:Classical Theory Drop-In - Walter
DESCRIPTION:
URL:https://ctl.wustl.edu/learningcenter/mentoring-sessions/classical-theory-drop-in-walter/2025-02-09/
LOCATION:MCB 103
CATEGORIES:Music Theory
END:VEVENT
BEGIN:VEVENT
DTSTART;TZID=America/Chicago:20250223T160000
DTEND;TZID=America/Chicago:20250223T180000
DTSTAMP:20260424T193533
CREATED:20250124T223539Z
LAST-MODIFIED:20250124T223539Z
UID:11902-1740326400-1740333600@ctl.wustl.edu
SUMMARY:Classical Theory Drop-In - Walter
DESCRIPTION:
URL:https://ctl.wustl.edu/learningcenter/mentoring-sessions/classical-theory-drop-in-walter/2025-02-23/
LOCATION:MCB 103
CATEGORIES:Music Theory
END:VEVENT
BEGIN:VEVENT
DTSTART;TZID=America/Chicago:20250302T160000
DTEND;TZID=America/Chicago:20250302T180000
DTSTAMP:20260424T193533
CREATED:20250124T223539Z
LAST-MODIFIED:20250124T223539Z
UID:11903-1740931200-1740938400@ctl.wustl.edu
SUMMARY:Classical Theory Drop-In - Walter
DESCRIPTION:
URL:https://ctl.wustl.edu/learningcenter/mentoring-sessions/classical-theory-drop-in-walter/2025-03-02/
LOCATION:MCB 103
CATEGORIES:Music Theory
END:VEVENT
END:VCALENDAR