BEGIN:VCALENDAR
VERSION:2.0
PRODID:-//The Learning Center - ECPv6.15.16.1//NONSGML v1.0//EN
CALSCALE:GREGORIAN
METHOD:PUBLISH
X-WR-CALNAME:The Learning Center
X-ORIGINAL-URL:https://ctl.wustl.edu/learningcenter
X-WR-CALDESC:Events for The Learning Center
REFRESH-INTERVAL;VALUE=DURATION:PT1H
X-Robots-Tag:noindex
X-PUBLISHED-TTL:PT1H
BEGIN:VTIMEZONE
TZID:America/Chicago
BEGIN:DAYLIGHT
TZOFFSETFROM:-0600
TZOFFSETTO:-0500
TZNAME:CDT
DTSTART:20210314T080000
END:DAYLIGHT
BEGIN:STANDARD
TZOFFSETFROM:-0500
TZOFFSETTO:-0600
TZNAME:CST
DTSTART:20211107T070000
END:STANDARD
BEGIN:DAYLIGHT
TZOFFSETFROM:-0600
TZOFFSETTO:-0500
TZNAME:CDT
DTSTART:20220313T080000
END:DAYLIGHT
BEGIN:STANDARD
TZOFFSETFROM:-0500
TZOFFSETTO:-0600
TZNAME:CST
DTSTART:20221106T070000
END:STANDARD
BEGIN:DAYLIGHT
TZOFFSETFROM:-0600
TZOFFSETTO:-0500
TZNAME:CDT
DTSTART:20230312T080000
END:DAYLIGHT
BEGIN:STANDARD
TZOFFSETFROM:-0500
TZOFFSETTO:-0600
TZNAME:CST
DTSTART:20231105T070000
END:STANDARD
BEGIN:DAYLIGHT
TZOFFSETFROM:-0600
TZOFFSETTO:-0500
TZNAME:CDT
DTSTART:20240310T080000
END:DAYLIGHT
BEGIN:STANDARD
TZOFFSETFROM:-0500
TZOFFSETTO:-0600
TZNAME:CST
DTSTART:20241103T070000
END:STANDARD
BEGIN:DAYLIGHT
TZOFFSETFROM:-0600
TZOFFSETTO:-0500
TZNAME:CDT
DTSTART:20250309T080000
END:DAYLIGHT
BEGIN:STANDARD
TZOFFSETFROM:-0500
TZOFFSETTO:-0600
TZNAME:CST
DTSTART:20251102T070000
END:STANDARD
BEGIN:DAYLIGHT
TZOFFSETFROM:-0600
TZOFFSETTO:-0500
TZNAME:CDT
DTSTART:20260308T080000
END:DAYLIGHT
BEGIN:STANDARD
TZOFFSETFROM:-0500
TZOFFSETTO:-0600
TZNAME:CST
DTSTART:20261101T070000
END:STANDARD
END:VTIMEZONE
BEGIN:VEVENT
DTSTART;TZID=America/Chicago:20250317T180000
DTEND;TZID=America/Chicago:20250317T210000
DTSTAMP:20260421T170958
CREATED:20250228T201109Z
LAST-MODIFIED:20250228T201109Z
UID:12110-1742234400-1742245200@ctl.wustl.edu
SUMMARY:Chem 106 Exam 2 Review
DESCRIPTION:
URL:https://ctl.wustl.edu/learningcenter/mentoring-sessions/chem-106-exam-2-review/
LOCATION:Seigle 304
CATEGORIES:Chem 1601/1602,Chemistry
END:VEVENT
BEGIN:VEVENT
DTSTART;TZID=America/Chicago:20250210T180000
DTEND;TZID=America/Chicago:20250210T210000
DTSTAMP:20260421T170958
CREATED:20250210T141411Z
LAST-MODIFIED:20250210T141411Z
UID:12095-1739210400-1739221200@ctl.wustl.edu
SUMMARY:Chem 112A Exam 1 Review
DESCRIPTION:
URL:https://ctl.wustl.edu/learningcenter/mentoring-sessions/chem-112a-exam-1-review/
LOCATION:Seigle 304
CATEGORIES:Chem 1701/1702,Chemistry
END:VEVENT
BEGIN:VEVENT
DTSTART;TZID=America/Chicago:20240505T180000
DTEND;TZID=America/Chicago:20240505T210000
DTSTAMP:20260421T170958
CREATED:20240430T193655Z
LAST-MODIFIED:20240430T193655Z
UID:9052-1714932000-1714942800@ctl.wustl.edu
SUMMARY:Chem 112 Exam Review
DESCRIPTION:
URL:https://ctl.wustl.edu/learningcenter/mentoring-sessions/chem-112-exam-review-4/
LOCATION:Seigle 304
CATEGORIES:Chem 1701/1702,Chemistry
END:VEVENT
BEGIN:VEVENT
DTSTART;TZID=America/Chicago:20240430T170000
DTEND;TZID=America/Chicago:20240430T190000
DTSTAMP:20260421T170958
CREATED:20240422T152559Z
LAST-MODIFIED:20240422T152559Z
UID:9045-1714496400-1714503600@ctl.wustl.edu
SUMMARY:Calc III Exam Review
DESCRIPTION:
URL:https://ctl.wustl.edu/learningcenter/mentoring-sessions/calc-iii-exam-review-3/
LOCATION:Seigle 304
CATEGORIES:Calc III (Math 2130),Calculus,Mathematics
END:VEVENT
BEGIN:VEVENT
DTSTART;TZID=America/Chicago:20240430T130000
DTEND;TZID=America/Chicago:20240430T150000
DTSTAMP:20260421T170958
CREATED:20240422T152257Z
LAST-MODIFIED:20240422T152257Z
UID:9042-1714482000-1714489200@ctl.wustl.edu
SUMMARY:Calc I Exam Review
DESCRIPTION:
URL:https://ctl.wustl.edu/learningcenter/mentoring-sessions/calc-i-exam-review-3/
LOCATION:Seigle 304
CATEGORIES:Calc I (Math 1510),Calculus,Mathematics
END:VEVENT
BEGIN:VEVENT
DTSTART;TZID=America/Chicago:20240407T180000
DTEND;TZID=America/Chicago:20240407T200000
DTSTAMP:20260421T170958
CREATED:20240328T152720Z
LAST-MODIFIED:20240328T152720Z
UID:9031-1712512800-1712520000@ctl.wustl.edu
SUMMARY:Calc 1 Exam Review
DESCRIPTION:
URL:https://ctl.wustl.edu/learningcenter/mentoring-sessions/calc-1-exam-review-8/
LOCATION:Seigle 304
CATEGORIES:Calc I (Math 1510),Calculus,Mathematics
END:VEVENT
BEGIN:VEVENT
DTSTART;TZID=America/Chicago:20231217T140000
DTEND;TZID=America/Chicago:20231217T200000
DTSTAMP:20260421T170958
CREATED:20231207T161113Z
LAST-MODIFIED:20231207T161113Z
UID:8196-1702821600-1702843200@ctl.wustl.edu
SUMMARY:Chem 105 Final Exam Review
DESCRIPTION:
URL:https://ctl.wustl.edu/learningcenter/mentoring-sessions/chem-105-final-exam-review/
LOCATION:Seigle 304
CATEGORIES:Chem 1601/1602,Chemistry
END:VEVENT
BEGIN:VEVENT
DTSTART;TZID=America/Chicago:20231129T180000
DTEND;TZID=America/Chicago:20231129T193000
DTSTAMP:20260421T170958
CREATED:20231117T041513Z
LAST-MODIFIED:20231117T041513Z
UID:8168-1701280800-1701286200@ctl.wustl.edu
SUMMARY:Finals Prep Workshop
DESCRIPTION:Are you ready for final exams? Join us in Seigle 304 from 6-7:30 PM on Wednesday\, November 29 to explore evidence-based active learning strategies\, reflect on past exams\, and create a personalized study plan. If you’re interested in attending\, please RSVP by filling out this short survey. We hope to see you there!
URL:https://ctl.wustl.edu/learningcenter/mentoring-sessions/finals-prep-workshop-fl23-2/
LOCATION:Seigle 304
CATEGORIES:Events and Announcements
END:VEVENT
BEGIN:VEVENT
DTSTART;TZID=America/Chicago:20231128T180000
DTEND;TZID=America/Chicago:20231128T193000
DTSTAMP:20260421T170958
CREATED:20231117T041328Z
LAST-MODIFIED:20231117T041428Z
UID:8167-1701194400-1701199800@ctl.wustl.edu
SUMMARY:Finals Prep Workshop
DESCRIPTION:Are you ready for final exams? Join us in Seigle 304 from 6-7:30 PM on Tuesday\, November 28 to explore evidence-based active learning strategies\, reflect on past exams\, and create a personalized study plan. If you’re interested in attending\, please RSVP by filling out this short survey. We hope to see you there!
URL:https://ctl.wustl.edu/learningcenter/mentoring-sessions/finals-prep-workshop-fl23-1/
LOCATION:Seigle 304
CATEGORIES:Events and Announcements
END:VEVENT
BEGIN:VEVENT
DTSTART;TZID=America/Chicago:20230507T120000
DTEND;TZID=America/Chicago:20230507T180000
DTSTAMP:20260421T170958
CREATED:20230501T155805Z
LAST-MODIFIED:20230501T155805Z
UID:6724-1683460800-1683482400@ctl.wustl.edu
SUMMARY:Chem 112 RPM - Final Exam Review
DESCRIPTION:Ongoing session with multiple RPMs. Seigle 303 and 304.
URL:https://ctl.wustl.edu/learningcenter/mentoring-sessions/chem-112-rpm-final-exam-review/
LOCATION:Seigle 304
CATEGORIES:Chem 1701/1702,Chemistry
END:VEVENT
BEGIN:VEVENT
DTSTART;TZID=America/Chicago:20221204T180000
DTEND;TZID=America/Chicago:20221204T220000
DTSTAMP:20260421T170958
CREATED:20220908T164930Z
LAST-MODIFIED:20220922T190619Z
UID:4842-1670176800-1670191200@ctl.wustl.edu
SUMMARY:Physics - Sammy's Drop-In Sessions
DESCRIPTION:Sessions are held in Seigle 304 \nDrop-in Academic Mentoring and Residential Peer Mentoring (RPM) hours are open to all students in the course. Sessions are unstructured and informal – you can come and go at any point\, and you are welcome to make use of mentoring hours whether you have a specific question\, want to review concepts\, or are just looking for a regular time and place each week to focus on work for the class.
URL:https://ctl.wustl.edu/learningcenter/mentoring-sessions/physics-sammys-drop-in-sessions/2022-12-04/
LOCATION:Seigle 304
CATEGORIES:Physics,Physics 1740/1742,Physics 1760/1762
END:VEVENT
BEGIN:VEVENT
DTSTART;TZID=America/Chicago:20220911T180000
DTEND;TZID=America/Chicago:20220911T220000
DTSTAMP:20260421T170958
CREATED:20220908T164930Z
LAST-MODIFIED:20220922T190612Z
UID:4828-1662919200-1662933600@ctl.wustl.edu
SUMMARY:Physics - Sammy's Drop-In Sessions
DESCRIPTION:Sessions are held in Seigle 304 \nDrop-in Academic Mentoring and Residential Peer Mentoring (RPM) hours are open to all students in the course. Sessions are unstructured and informal – you can come and go at any point\, and you are welcome to make use of mentoring hours whether you have a specific question\, want to review concepts\, or are just looking for a regular time and place each week to focus on work for the class.
URL:https://ctl.wustl.edu/learningcenter/mentoring-sessions/physics-sammys-drop-in-sessions/2022-09-11/
LOCATION:Seigle 304
CATEGORIES:Physics,Physics 1740/1742,Physics 1760/1762
END:VEVENT
BEGIN:VEVENT
DTSTART;TZID=America/Chicago:20221120T180000
DTEND;TZID=America/Chicago:20221120T220000
DTSTAMP:20260421T170958
CREATED:20220908T164930Z
LAST-MODIFIED:20220922T190615Z
UID:4840-1668967200-1668981600@ctl.wustl.edu
SUMMARY:Physics - Sammy's Drop-In Sessions
DESCRIPTION:Sessions are held in Seigle 304 \nDrop-in Academic Mentoring and Residential Peer Mentoring (RPM) hours are open to all students in the course. Sessions are unstructured and informal – you can come and go at any point\, and you are welcome to make use of mentoring hours whether you have a specific question\, want to review concepts\, or are just looking for a regular time and place each week to focus on work for the class.
URL:https://ctl.wustl.edu/learningcenter/mentoring-sessions/physics-sammys-drop-in-sessions/2022-11-20/
LOCATION:Seigle 304
CATEGORIES:Physics,Physics 1740/1742,Physics 1760/1762
END:VEVENT
BEGIN:VEVENT
DTSTART;TZID=America/Chicago:20221113T180000
DTEND;TZID=America/Chicago:20221113T220000
DTSTAMP:20260421T170958
CREATED:20220908T164930Z
LAST-MODIFIED:20220922T190615Z
UID:4839-1668362400-1668376800@ctl.wustl.edu
SUMMARY:Physics - Sammy's Drop-In Sessions
DESCRIPTION:Sessions are held in Seigle 304 \nDrop-in Academic Mentoring and Residential Peer Mentoring (RPM) hours are open to all students in the course. Sessions are unstructured and informal – you can come and go at any point\, and you are welcome to make use of mentoring hours whether you have a specific question\, want to review concepts\, or are just looking for a regular time and place each week to focus on work for the class.
URL:https://ctl.wustl.edu/learningcenter/mentoring-sessions/physics-sammys-drop-in-sessions/2022-11-13/
LOCATION:Seigle 304
CATEGORIES:Physics,Physics 1740/1742,Physics 1760/1762
END:VEVENT
BEGIN:VEVENT
DTSTART;TZID=America/Chicago:20221106T180000
DTEND;TZID=America/Chicago:20221106T220000
DTSTAMP:20260421T170958
CREATED:20220908T164930Z
LAST-MODIFIED:20220922T190615Z
UID:4838-1667757600-1667772000@ctl.wustl.edu
SUMMARY:Physics - Sammy's Drop-In Sessions
DESCRIPTION:Sessions are held in Seigle 304 \nDrop-in Academic Mentoring and Residential Peer Mentoring (RPM) hours are open to all students in the course. Sessions are unstructured and informal – you can come and go at any point\, and you are welcome to make use of mentoring hours whether you have a specific question\, want to review concepts\, or are just looking for a regular time and place each week to focus on work for the class.
URL:https://ctl.wustl.edu/learningcenter/mentoring-sessions/physics-sammys-drop-in-sessions/2022-11-06/
LOCATION:Seigle 304
CATEGORIES:Physics,Physics 1740/1742,Physics 1760/1762
END:VEVENT
BEGIN:VEVENT
DTSTART;TZID=America/Chicago:20221030T180000
DTEND;TZID=America/Chicago:20221030T220000
DTSTAMP:20260421T170958
CREATED:20220908T164930Z
LAST-MODIFIED:20220922T190614Z
UID:4837-1667152800-1667167200@ctl.wustl.edu
SUMMARY:Physics - Sammy's Drop-In Sessions
DESCRIPTION:Sessions are held in Seigle 304 \nDrop-in Academic Mentoring and Residential Peer Mentoring (RPM) hours are open to all students in the course. Sessions are unstructured and informal – you can come and go at any point\, and you are welcome to make use of mentoring hours whether you have a specific question\, want to review concepts\, or are just looking for a regular time and place each week to focus on work for the class.
URL:https://ctl.wustl.edu/learningcenter/mentoring-sessions/physics-sammys-drop-in-sessions/2022-10-30/
LOCATION:Seigle 304
CATEGORIES:Physics,Physics 1740/1742,Physics 1760/1762
END:VEVENT
BEGIN:VEVENT
DTSTART;TZID=America/Chicago:20221023T180000
DTEND;TZID=America/Chicago:20221023T220000
DTSTAMP:20260421T170958
CREATED:20220908T164930Z
LAST-MODIFIED:20220922T190614Z
UID:4836-1666548000-1666562400@ctl.wustl.edu
SUMMARY:Physics - Sammy's Drop-In Sessions
DESCRIPTION:Sessions are held in Seigle 304 \nDrop-in Academic Mentoring and Residential Peer Mentoring (RPM) hours are open to all students in the course. Sessions are unstructured and informal – you can come and go at any point\, and you are welcome to make use of mentoring hours whether you have a specific question\, want to review concepts\, or are just looking for a regular time and place each week to focus on work for the class.
URL:https://ctl.wustl.edu/learningcenter/mentoring-sessions/physics-sammys-drop-in-sessions/2022-10-23/
LOCATION:Seigle 304
CATEGORIES:Physics,Physics 1740/1742,Physics 1760/1762
END:VEVENT
BEGIN:VEVENT
DTSTART;TZID=America/Chicago:20221016T180000
DTEND;TZID=America/Chicago:20221016T220000
DTSTAMP:20260421T170958
CREATED:20220908T164930Z
LAST-MODIFIED:20220922T190614Z
UID:4835-1665943200-1665957600@ctl.wustl.edu
SUMMARY:Physics - Sammy's Drop-In Sessions
DESCRIPTION:Sessions are held in Seigle 304 \nDrop-in Academic Mentoring and Residential Peer Mentoring (RPM) hours are open to all students in the course. Sessions are unstructured and informal – you can come and go at any point\, and you are welcome to make use of mentoring hours whether you have a specific question\, want to review concepts\, or are just looking for a regular time and place each week to focus on work for the class.
URL:https://ctl.wustl.edu/learningcenter/mentoring-sessions/physics-sammys-drop-in-sessions/2022-10-16/
LOCATION:Seigle 304
CATEGORIES:Physics,Physics 1740/1742,Physics 1760/1762
END:VEVENT
BEGIN:VEVENT
DTSTART;TZID=America/Chicago:20221002T180000
DTEND;TZID=America/Chicago:20221002T220000
DTSTAMP:20260421T170958
CREATED:20220908T164930Z
LAST-MODIFIED:20220922T190613Z
UID:4833-1664733600-1664748000@ctl.wustl.edu
SUMMARY:Physics - Sammy's Drop-In Sessions
DESCRIPTION:Sessions are held in Seigle 304 \nDrop-in Academic Mentoring and Residential Peer Mentoring (RPM) hours are open to all students in the course. Sessions are unstructured and informal – you can come and go at any point\, and you are welcome to make use of mentoring hours whether you have a specific question\, want to review concepts\, or are just looking for a regular time and place each week to focus on work for the class.
URL:https://ctl.wustl.edu/learningcenter/mentoring-sessions/physics-sammys-drop-in-sessions/2022-10-02/
LOCATION:Seigle 304
CATEGORIES:Physics,Physics 1740/1742,Physics 1760/1762
END:VEVENT
BEGIN:VEVENT
DTSTART;TZID=America/Chicago:20220925T180000
DTEND;TZID=America/Chicago:20220925T220000
DTSTAMP:20260421T170958
CREATED:20220908T164930Z
LAST-MODIFIED:20220922T190613Z
UID:4832-1664128800-1664143200@ctl.wustl.edu
SUMMARY:Physics - Sammy's Drop-In Sessions
DESCRIPTION:Sessions are held in Seigle 304 \nDrop-in Academic Mentoring and Residential Peer Mentoring (RPM) hours are open to all students in the course. Sessions are unstructured and informal – you can come and go at any point\, and you are welcome to make use of mentoring hours whether you have a specific question\, want to review concepts\, or are just looking for a regular time and place each week to focus on work for the class.
URL:https://ctl.wustl.edu/learningcenter/mentoring-sessions/physics-sammys-drop-in-sessions/2022-09-25/
LOCATION:Seigle 304
CATEGORIES:Physics,Physics 1740/1742,Physics 1760/1762
END:VEVENT
BEGIN:VEVENT
DTSTART;TZID=America/Chicago:20220918T180000
DTEND;TZID=America/Chicago:20220918T220000
DTSTAMP:20260421T170958
CREATED:20220908T164930Z
LAST-MODIFIED:20220922T190613Z
UID:4831-1663524000-1663538400@ctl.wustl.edu
SUMMARY:Physics - Sammy's Drop-In Sessions
DESCRIPTION:Sessions are held in Seigle 304 \nDrop-in Academic Mentoring and Residential Peer Mentoring (RPM) hours are open to all students in the course. Sessions are unstructured and informal – you can come and go at any point\, and you are welcome to make use of mentoring hours whether you have a specific question\, want to review concepts\, or are just looking for a regular time and place each week to focus on work for the class.
URL:https://ctl.wustl.edu/learningcenter/mentoring-sessions/physics-sammys-drop-in-sessions/2022-09-18/
LOCATION:Seigle 304
CATEGORIES:Physics,Physics 1740/1742,Physics 1760/1762
END:VEVENT
END:VCALENDAR