BEGIN:VCALENDAR
VERSION:2.0
PRODID:-//The Learning Center - ECPv6.15.16.1//NONSGML v1.0//EN
CALSCALE:GREGORIAN
METHOD:PUBLISH
X-WR-CALNAME:The Learning Center
X-ORIGINAL-URL:https://ctl.wustl.edu/learningcenter
X-WR-CALDESC:Events for The Learning Center
REFRESH-INTERVAL;VALUE=DURATION:PT1H
X-Robots-Tag:noindex
X-PUBLISHED-TTL:PT1H
BEGIN:VTIMEZONE
TZID:America/Chicago
BEGIN:DAYLIGHT
TZOFFSETFROM:-0600
TZOFFSETTO:-0500
TZNAME:CDT
DTSTART:20250309T080000
END:DAYLIGHT
BEGIN:STANDARD
TZOFFSETFROM:-0500
TZOFFSETTO:-0600
TZNAME:CST
DTSTART:20251102T070000
END:STANDARD
BEGIN:DAYLIGHT
TZOFFSETFROM:-0600
TZOFFSETTO:-0500
TZNAME:CDT
DTSTART:20260308T080000
END:DAYLIGHT
BEGIN:STANDARD
TZOFFSETFROM:-0500
TZOFFSETTO:-0600
TZNAME:CST
DTSTART:20261101T070000
END:STANDARD
BEGIN:DAYLIGHT
TZOFFSETFROM:-0600
TZOFFSETTO:-0500
TZNAME:CDT
DTSTART:20270314T080000
END:DAYLIGHT
BEGIN:STANDARD
TZOFFSETFROM:-0500
TZOFFSETTO:-0600
TZNAME:CST
DTSTART:20271107T070000
END:STANDARD
END:VTIMEZONE
BEGIN:VEVENT
DTSTART;TZID=America/Chicago:20260422T090000
DTEND;TZID=America/Chicago:20260422T110000
DTSTAMP:20260420T074722
CREATED:20260128T215927Z
LAST-MODIFIED:20260128T215950Z
UID:14493-1776848400-1776855600@ctl.wustl.edu
SUMMARY:Accountability Group - Zubeiru
DESCRIPTION:Please use this form to sign up for an accountability group meeting offered by the Learning Center! \nThis form allows you to sign up for a single meeting at a time. If you would like to attend every week for the full semester and do not want to sign up for each session individually\, email us your preferred meeting time (learningcenter@wustl.edu) and we’ll get you registered! \nYou are encouraged to stay for the entire meeting\, but you do NOT have to commit to the full two hours in order to participate! You can leave whenever you need to\, and you can arrive late if needed (we just ask that you try to arrive around the 50 minute-1 hour mark\, during which there will be an optional break\, so as to minimize disruptions for other participants). \nHere’s what you can expect during an accountability group meeting: (1) A quick check-in at the beginning to share what you’re working on; (2) Quiet\, focused time to get work done; (3) A short wrap-up to discuss progress and set intentions for the week ahead.
URL:https://ctl.wustl.edu/learningcenter/mentoring-sessions/accountability-group-zubeiru/2026-04-22/
LOCATION:Seigle 306
END:VEVENT
BEGIN:VEVENT
DTSTART;TZID=America/Chicago:20260429T090000
DTEND;TZID=America/Chicago:20260429T110000
DTSTAMP:20260420T074722
CREATED:20260128T215927Z
LAST-MODIFIED:20260128T215951Z
UID:14494-1777453200-1777460400@ctl.wustl.edu
SUMMARY:Accountability Group - Zubeiru
DESCRIPTION:Please use this form to sign up for an accountability group meeting offered by the Learning Center! \nThis form allows you to sign up for a single meeting at a time. If you would like to attend every week for the full semester and do not want to sign up for each session individually\, email us your preferred meeting time (learningcenter@wustl.edu) and we’ll get you registered! \nYou are encouraged to stay for the entire meeting\, but you do NOT have to commit to the full two hours in order to participate! You can leave whenever you need to\, and you can arrive late if needed (we just ask that you try to arrive around the 50 minute-1 hour mark\, during which there will be an optional break\, so as to minimize disruptions for other participants). \nHere’s what you can expect during an accountability group meeting: (1) A quick check-in at the beginning to share what you’re working on; (2) Quiet\, focused time to get work done; (3) A short wrap-up to discuss progress and set intentions for the week ahead.
URL:https://ctl.wustl.edu/learningcenter/mentoring-sessions/accountability-group-zubeiru/2026-04-29/
LOCATION:Seigle 306
END:VEVENT
END:VCALENDAR