BEGIN:VCALENDAR
VERSION:2.0
PRODID:-//The Learning Center - ECPv6.15.16.1//NONSGML v1.0//EN
CALSCALE:GREGORIAN
METHOD:PUBLISH
X-WR-CALNAME:The Learning Center
X-ORIGINAL-URL:https://ctl.wustl.edu/learningcenter
X-WR-CALDESC:Events for The Learning Center
REFRESH-INTERVAL;VALUE=DURATION:PT1H
X-Robots-Tag:noindex
X-PUBLISHED-TTL:PT1H
BEGIN:VTIMEZONE
TZID:America/Chicago
BEGIN:DAYLIGHT
TZOFFSETFROM:-0600
TZOFFSETTO:-0500
TZNAME:CDT
DTSTART:20220313T080000
END:DAYLIGHT
BEGIN:STANDARD
TZOFFSETFROM:-0500
TZOFFSETTO:-0600
TZNAME:CST
DTSTART:20221106T070000
END:STANDARD
BEGIN:DAYLIGHT
TZOFFSETFROM:-0600
TZOFFSETTO:-0500
TZNAME:CDT
DTSTART:20230312T080000
END:DAYLIGHT
BEGIN:STANDARD
TZOFFSETFROM:-0500
TZOFFSETTO:-0600
TZNAME:CST
DTSTART:20231105T070000
END:STANDARD
BEGIN:DAYLIGHT
TZOFFSETFROM:-0600
TZOFFSETTO:-0500
TZNAME:CDT
DTSTART:20240310T080000
END:DAYLIGHT
BEGIN:STANDARD
TZOFFSETFROM:-0500
TZOFFSETTO:-0600
TZNAME:CST
DTSTART:20241103T070000
END:STANDARD
END:VTIMEZONE
BEGIN:VEVENT
DTSTART;TZID=America/Chicago:20230917T160000
DTEND;TZID=America/Chicago:20230917T180000
DTSTAMP:20260423T013342
CREATED:20230914T231936Z
LAST-MODIFIED:20230914T231936Z
UID:7961-1694966400-1694973600@ctl.wustl.edu
SUMMARY:Calc 3 Exam Review
DESCRIPTION:
URL:https://ctl.wustl.edu/learningcenter/mentoring-sessions/calc-3-exam-review-5/
LOCATION:Seigle L006
CATEGORIES:Calc III (Math 2130),Calculus,Mathematics
END:VEVENT
BEGIN:VEVENT
DTSTART;TZID=America/Chicago:20230917T190000
DTEND;TZID=America/Chicago:20230917T210000
DTSTAMP:20260423T013342
CREATED:20230914T231845Z
LAST-MODIFIED:20230914T231845Z
UID:7960-1694977200-1694984400@ctl.wustl.edu
SUMMARY:Calc 2 Exam Review
DESCRIPTION:
URL:https://ctl.wustl.edu/learningcenter/mentoring-sessions/calc-2-exam-review-5/
LOCATION:Seigle L006
CATEGORIES:Calc II (Math 1520),Calculus,Mathematics
END:VEVENT
END:VCALENDAR