BEGIN:VCALENDAR
VERSION:2.0
PRODID:-//The Learning Center - ECPv6.15.16.1//NONSGML v1.0//EN
CALSCALE:GREGORIAN
METHOD:PUBLISH
X-WR-CALNAME:The Learning Center
X-ORIGINAL-URL:https://ctl.wustl.edu/learningcenter
X-WR-CALDESC:Events for The Learning Center
REFRESH-INTERVAL;VALUE=DURATION:PT1H
X-Robots-Tag:noindex
X-PUBLISHED-TTL:PT1H
BEGIN:VTIMEZONE
TZID:America/Chicago
BEGIN:DAYLIGHT
TZOFFSETFROM:-0600
TZOFFSETTO:-0500
TZNAME:CDT
DTSTART:20220313T080000
END:DAYLIGHT
BEGIN:STANDARD
TZOFFSETFROM:-0500
TZOFFSETTO:-0600
TZNAME:CST
DTSTART:20221106T070000
END:STANDARD
BEGIN:DAYLIGHT
TZOFFSETFROM:-0600
TZOFFSETTO:-0500
TZNAME:CDT
DTSTART:20230312T080000
END:DAYLIGHT
BEGIN:STANDARD
TZOFFSETFROM:-0500
TZOFFSETTO:-0600
TZNAME:CST
DTSTART:20231105T070000
END:STANDARD
BEGIN:DAYLIGHT
TZOFFSETFROM:-0600
TZOFFSETTO:-0500
TZNAME:CDT
DTSTART:20240310T080000
END:DAYLIGHT
BEGIN:STANDARD
TZOFFSETFROM:-0500
TZOFFSETTO:-0600
TZNAME:CST
DTSTART:20241103T070000
END:STANDARD
BEGIN:DAYLIGHT
TZOFFSETFROM:-0600
TZOFFSETTO:-0500
TZNAME:CDT
DTSTART:20250309T080000
END:DAYLIGHT
BEGIN:STANDARD
TZOFFSETFROM:-0500
TZOFFSETTO:-0600
TZNAME:CST
DTSTART:20251102T070000
END:STANDARD
BEGIN:DAYLIGHT
TZOFFSETFROM:-0600
TZOFFSETTO:-0500
TZNAME:CDT
DTSTART:20260308T080000
END:DAYLIGHT
BEGIN:STANDARD
TZOFFSETFROM:-0500
TZOFFSETTO:-0600
TZNAME:CST
DTSTART:20261101T070000
END:STANDARD
BEGIN:DAYLIGHT
TZOFFSETFROM:-0600
TZOFFSETTO:-0500
TZNAME:CDT
DTSTART:20270314T080000
END:DAYLIGHT
BEGIN:STANDARD
TZOFFSETFROM:-0500
TZOFFSETTO:-0600
TZNAME:CST
DTSTART:20271107T070000
END:STANDARD
END:VTIMEZONE
BEGIN:VEVENT
DTSTART;TZID=America/Chicago:20260302T150000
DTEND;TZID=America/Chicago:20260302T170000
DTSTAMP:20260421T030223
CREATED:20260302T180401Z
LAST-MODIFIED:20260302T180401Z
UID:14577-1772463600-1772470800@ctl.wustl.edu
SUMMARY:Calc 1 Exam Help Session
DESCRIPTION:
URL:https://ctl.wustl.edu/learningcenter/mentoring-sessions/calc-1-exam-help-session/
LOCATION:Sever Hall 102
CATEGORIES:Calc I (Math 1510),Calculus
END:VEVENT
BEGIN:VEVENT
DTSTART;TZID=America/Chicago:20240130T160000
DTEND;TZID=America/Chicago:20240130T180000
DTSTAMP:20260421T030223
CREATED:20240130T223706Z
LAST-MODIFIED:20240202T154100Z
UID:8767-1706630400-1706637600@ctl.wustl.edu
SUMMARY:Bio Drop-In hours_Nicholas
DESCRIPTION:
URL:https://ctl.wustl.edu/learningcenter/mentoring-sessions/bio-drop-in-hours_nicholas/2024-01-30/
LOCATION:Sever Hall 102
CATEGORIES:Biology 2960/2970
END:VEVENT
BEGIN:VEVENT
DTSTART;TZID=America/Chicago:20240206T160000
DTEND;TZID=America/Chicago:20240206T180000
DTSTAMP:20260421T030223
CREATED:20240130T223706Z
LAST-MODIFIED:20240130T223706Z
UID:8936-1707235200-1707242400@ctl.wustl.edu
SUMMARY:Bio Drop-In hours_Nicholas
DESCRIPTION:
URL:https://ctl.wustl.edu/learningcenter/mentoring-sessions/bio-drop-in-hours_nicholas/2024-02-06/
LOCATION:Sever Hall 102
CATEGORIES:Biology 2960/2970
END:VEVENT
BEGIN:VEVENT
DTSTART;TZID=America/Chicago:20240213T160000
DTEND;TZID=America/Chicago:20240213T180000
DTSTAMP:20260421T030223
CREATED:20240130T223706Z
LAST-MODIFIED:20240130T223706Z
UID:8937-1707840000-1707847200@ctl.wustl.edu
SUMMARY:Bio Drop-In hours_Nicholas
DESCRIPTION:
URL:https://ctl.wustl.edu/learningcenter/mentoring-sessions/bio-drop-in-hours_nicholas/2024-02-13/
LOCATION:Sever Hall 102
CATEGORIES:Biology 2960/2970
END:VEVENT
BEGIN:VEVENT
DTSTART;TZID=America/Chicago:20240220T160000
DTEND;TZID=America/Chicago:20240220T180000
DTSTAMP:20260421T030223
CREATED:20240130T223706Z
LAST-MODIFIED:20240130T223706Z
UID:8938-1708444800-1708452000@ctl.wustl.edu
SUMMARY:Bio Drop-In hours_Nicholas
DESCRIPTION:
URL:https://ctl.wustl.edu/learningcenter/mentoring-sessions/bio-drop-in-hours_nicholas/2024-02-20/
LOCATION:Sever Hall 102
CATEGORIES:Biology 2960/2970
END:VEVENT
BEGIN:VEVENT
DTSTART;TZID=America/Chicago:20240227T160000
DTEND;TZID=America/Chicago:20240227T180000
DTSTAMP:20260421T030223
CREATED:20240130T223706Z
LAST-MODIFIED:20240130T223706Z
UID:8939-1709049600-1709056800@ctl.wustl.edu
SUMMARY:Bio Drop-In hours_Nicholas
DESCRIPTION:
URL:https://ctl.wustl.edu/learningcenter/mentoring-sessions/bio-drop-in-hours_nicholas/2024-02-27/
LOCATION:Sever Hall 102
CATEGORIES:Biology 2960/2970
END:VEVENT
BEGIN:VEVENT
DTSTART;TZID=America/Chicago:20240305T160000
DTEND;TZID=America/Chicago:20240305T180000
DTSTAMP:20260421T030223
CREATED:20240130T223706Z
LAST-MODIFIED:20240130T223706Z
UID:8940-1709654400-1709661600@ctl.wustl.edu
SUMMARY:Bio Drop-In hours_Nicholas
DESCRIPTION:
URL:https://ctl.wustl.edu/learningcenter/mentoring-sessions/bio-drop-in-hours_nicholas/2024-03-05/
LOCATION:Sever Hall 102
CATEGORIES:Biology 2960/2970
END:VEVENT
BEGIN:VEVENT
DTSTART;TZID=America/Chicago:20240319T160000
DTEND;TZID=America/Chicago:20240319T180000
DTSTAMP:20260421T030223
CREATED:20240130T223706Z
LAST-MODIFIED:20240130T223706Z
UID:8942-1710864000-1710871200@ctl.wustl.edu
SUMMARY:Bio Drop-In hours_Nicholas
DESCRIPTION:
URL:https://ctl.wustl.edu/learningcenter/mentoring-sessions/bio-drop-in-hours_nicholas/2024-03-19/
LOCATION:Sever Hall 102
CATEGORIES:Biology 2960/2970
END:VEVENT
BEGIN:VEVENT
DTSTART;TZID=America/Chicago:20240326T160000
DTEND;TZID=America/Chicago:20240326T180000
DTSTAMP:20260421T030223
CREATED:20240130T223706Z
LAST-MODIFIED:20240130T223706Z
UID:8943-1711468800-1711476000@ctl.wustl.edu
SUMMARY:Bio Drop-In hours_Nicholas
DESCRIPTION:
URL:https://ctl.wustl.edu/learningcenter/mentoring-sessions/bio-drop-in-hours_nicholas/2024-03-26/
LOCATION:Sever Hall 102
CATEGORIES:Biology 2960/2970
END:VEVENT
BEGIN:VEVENT
DTSTART;TZID=America/Chicago:20231017T163000
DTEND;TZID=America/Chicago:20231017T183000
DTSTAMP:20260421T030223
CREATED:20230906T193627Z
LAST-MODIFIED:20231005T150645Z
UID:7075-1697560200-1697567400@ctl.wustl.edu
SUMMARY:Asher_Physics Drop-In hours
DESCRIPTION:
URL:https://ctl.wustl.edu/learningcenter/mentoring-sessions/asher_physics-drop-in-hours/2023-10-17/
LOCATION:Sever Hall 102
CATEGORIES:Physics,Physics 1740/1742
END:VEVENT
BEGIN:VEVENT
DTSTART;TZID=America/Chicago:20231024T163000
DTEND;TZID=America/Chicago:20231024T183000
DTSTAMP:20260421T030223
CREATED:20230906T193627Z
LAST-MODIFIED:20230906T193627Z
UID:8067-1698165000-1698172200@ctl.wustl.edu
SUMMARY:Asher_Physics Drop-In hours
DESCRIPTION:
URL:https://ctl.wustl.edu/learningcenter/mentoring-sessions/asher_physics-drop-in-hours/2023-10-24/
LOCATION:Sever Hall 102
CATEGORIES:Physics,Physics 1740/1742
END:VEVENT
BEGIN:VEVENT
DTSTART;TZID=America/Chicago:20231031T163000
DTEND;TZID=America/Chicago:20231031T183000
DTSTAMP:20260421T030223
CREATED:20230906T193627Z
LAST-MODIFIED:20230906T193627Z
UID:8068-1698769800-1698777000@ctl.wustl.edu
SUMMARY:Asher_Physics Drop-In hours
DESCRIPTION:
URL:https://ctl.wustl.edu/learningcenter/mentoring-sessions/asher_physics-drop-in-hours/2023-10-31/
LOCATION:Sever Hall 102
CATEGORIES:Physics,Physics 1740/1742
END:VEVENT
BEGIN:VEVENT
DTSTART;TZID=America/Chicago:20231107T163000
DTEND;TZID=America/Chicago:20231107T183000
DTSTAMP:20260421T030223
CREATED:20230906T193627Z
LAST-MODIFIED:20230906T193627Z
UID:8069-1699374600-1699381800@ctl.wustl.edu
SUMMARY:Asher_Physics Drop-In hours
DESCRIPTION:
URL:https://ctl.wustl.edu/learningcenter/mentoring-sessions/asher_physics-drop-in-hours/2023-11-07/
LOCATION:Sever Hall 102
CATEGORIES:Physics,Physics 1740/1742
END:VEVENT
BEGIN:VEVENT
DTSTART;TZID=America/Chicago:20231114T163000
DTEND;TZID=America/Chicago:20231114T183000
DTSTAMP:20260421T030223
CREATED:20230906T193627Z
LAST-MODIFIED:20230906T193627Z
UID:8070-1699979400-1699986600@ctl.wustl.edu
SUMMARY:Asher_Physics Drop-In hours
DESCRIPTION:
URL:https://ctl.wustl.edu/learningcenter/mentoring-sessions/asher_physics-drop-in-hours/2023-11-14/
LOCATION:Sever Hall 102
CATEGORIES:Physics,Physics 1740/1742
END:VEVENT
BEGIN:VEVENT
DTSTART;TZID=America/Chicago:20231128T163000
DTEND;TZID=America/Chicago:20231128T183000
DTSTAMP:20260421T030223
CREATED:20230906T193627Z
LAST-MODIFIED:20230906T193627Z
UID:8072-1701189000-1701196200@ctl.wustl.edu
SUMMARY:Asher_Physics Drop-In hours
DESCRIPTION:
URL:https://ctl.wustl.edu/learningcenter/mentoring-sessions/asher_physics-drop-in-hours/2023-11-28/
LOCATION:Sever Hall 102
CATEGORIES:Physics,Physics 1740/1742
END:VEVENT
BEGIN:VEVENT
DTSTART;TZID=America/Chicago:20231205T163000
DTEND;TZID=America/Chicago:20231205T183000
DTSTAMP:20260421T030223
CREATED:20230906T193627Z
LAST-MODIFIED:20230906T193627Z
UID:8073-1701793800-1701801000@ctl.wustl.edu
SUMMARY:Asher_Physics Drop-In hours
DESCRIPTION:
URL:https://ctl.wustl.edu/learningcenter/mentoring-sessions/asher_physics-drop-in-hours/2023-12-05/
LOCATION:Sever Hall 102
CATEGORIES:Physics,Physics 1740/1742
END:VEVENT
END:VCALENDAR