BEGIN:VCALENDAR
VERSION:2.0
PRODID:-//The Learning Center - ECPv6.15.16.1//NONSGML v1.0//EN
CALSCALE:GREGORIAN
METHOD:PUBLISH
X-ORIGINAL-URL:https://ctl.wustl.edu/learningcenter
X-WR-CALDESC:Events for The Learning Center
REFRESH-INTERVAL;VALUE=DURATION:PT1H
X-Robots-Tag:noindex
X-PUBLISHED-TTL:PT1H
BEGIN:VTIMEZONE
TZID:America/Chicago
BEGIN:DAYLIGHT
TZOFFSETFROM:-0600
TZOFFSETTO:-0500
TZNAME:CDT
DTSTART:20230312T080000
END:DAYLIGHT
BEGIN:STANDARD
TZOFFSETFROM:-0500
TZOFFSETTO:-0600
TZNAME:CST
DTSTART:20231105T070000
END:STANDARD
BEGIN:DAYLIGHT
TZOFFSETFROM:-0600
TZOFFSETTO:-0500
TZNAME:CDT
DTSTART:20240310T080000
END:DAYLIGHT
BEGIN:STANDARD
TZOFFSETFROM:-0500
TZOFFSETTO:-0600
TZNAME:CST
DTSTART:20241103T070000
END:STANDARD
BEGIN:DAYLIGHT
TZOFFSETFROM:-0600
TZOFFSETTO:-0500
TZNAME:CDT
DTSTART:20250309T080000
END:DAYLIGHT
BEGIN:STANDARD
TZOFFSETFROM:-0500
TZOFFSETTO:-0600
TZNAME:CST
DTSTART:20251102T070000
END:STANDARD
END:VTIMEZONE
BEGIN:VEVENT
DTSTART;TZID=America/Chicago:20241016T170000
DTEND;TZID=America/Chicago:20241016T190000
DTSTAMP:20260424T175840
CREATED:20241008T175929Z
LAST-MODIFIED:20241010T173820Z
UID:10943-1729098000-1729105200@ctl.wustl.edu
SUMMARY:Philosophy Drop-In - Abby*
DESCRIPTION:*emphasis on argument mapping \n*sessions also available via zoom: \nhttps://wustl.zoom.us/j/95127734180 \n 
URL:https://ctl.wustl.edu/learningcenter/mentoring-sessions/philosophy-drop-in-abby/2024-10-16/
LOCATION:Simon 022
END:VEVENT
BEGIN:VEVENT
DTSTART;TZID=America/Chicago:20241023T170000
DTEND;TZID=America/Chicago:20241023T190000
DTSTAMP:20260424T175840
CREATED:20241008T175929Z
LAST-MODIFIED:20241010T173820Z
UID:10945-1729702800-1729710000@ctl.wustl.edu
SUMMARY:Philosophy Drop-In - Abby*
DESCRIPTION:*emphasis on argument mapping \n*sessions also available via zoom: \nhttps://wustl.zoom.us/j/95127734180 \n 
URL:https://ctl.wustl.edu/learningcenter/mentoring-sessions/philosophy-drop-in-abby/2024-10-23/
LOCATION:Simon 022
END:VEVENT
BEGIN:VEVENT
DTSTART;TZID=America/Chicago:20241030T170000
DTEND;TZID=America/Chicago:20241030T190000
DTSTAMP:20260424T175840
CREATED:20241008T175929Z
LAST-MODIFIED:20241010T173821Z
UID:10946-1730307600-1730314800@ctl.wustl.edu
SUMMARY:Philosophy Drop-In - Abby*
DESCRIPTION:*emphasis on argument mapping \n*sessions also available via zoom: \nhttps://wustl.zoom.us/j/95127734180 \n 
URL:https://ctl.wustl.edu/learningcenter/mentoring-sessions/philosophy-drop-in-abby/2024-10-30/
LOCATION:Simon 022
END:VEVENT
BEGIN:VEVENT
DTSTART;TZID=America/Chicago:20241106T170000
DTEND;TZID=America/Chicago:20241106T190000
DTSTAMP:20260424T175840
CREATED:20241008T175929Z
LAST-MODIFIED:20241010T173822Z
UID:10947-1730912400-1730919600@ctl.wustl.edu
SUMMARY:Philosophy Drop-In - Abby*
DESCRIPTION:*emphasis on argument mapping \n*sessions also available via zoom: \nhttps://wustl.zoom.us/j/95127734180 \n 
URL:https://ctl.wustl.edu/learningcenter/mentoring-sessions/philosophy-drop-in-abby/2024-11-06/
LOCATION:Simon 022
END:VEVENT
BEGIN:VEVENT
DTSTART;TZID=America/Chicago:20241113T170000
DTEND;TZID=America/Chicago:20241113T190000
DTSTAMP:20260424T175840
CREATED:20241008T175929Z
LAST-MODIFIED:20241010T173823Z
UID:10948-1731517200-1731524400@ctl.wustl.edu
SUMMARY:Philosophy Drop-In - Abby*
DESCRIPTION:*emphasis on argument mapping \n*sessions also available via zoom: \nhttps://wustl.zoom.us/j/95127734180 \n 
URL:https://ctl.wustl.edu/learningcenter/mentoring-sessions/philosophy-drop-in-abby/2024-11-13/
LOCATION:Simon 022
END:VEVENT
BEGIN:VEVENT
DTSTART;TZID=America/Chicago:20241120T170000
DTEND;TZID=America/Chicago:20241120T190000
DTSTAMP:20260424T175840
CREATED:20241008T175929Z
LAST-MODIFIED:20241010T173823Z
UID:10949-1732122000-1732129200@ctl.wustl.edu
SUMMARY:Philosophy Drop-In - Abby*
DESCRIPTION:*emphasis on argument mapping \n*sessions also available via zoom: \nhttps://wustl.zoom.us/j/95127734180 \n 
URL:https://ctl.wustl.edu/learningcenter/mentoring-sessions/philosophy-drop-in-abby/2024-11-20/
LOCATION:Simon 022
END:VEVENT
BEGIN:VEVENT
DTSTART;TZID=America/Chicago:20241204T170000
DTEND;TZID=America/Chicago:20241204T190000
DTSTAMP:20260424T175840
CREATED:20241008T175929Z
LAST-MODIFIED:20241010T173824Z
UID:10951-1733331600-1733338800@ctl.wustl.edu
SUMMARY:Philosophy Drop-In - Abby*
DESCRIPTION:*emphasis on argument mapping \n*sessions also available via zoom: \nhttps://wustl.zoom.us/j/95127734180 \n 
URL:https://ctl.wustl.edu/learningcenter/mentoring-sessions/philosophy-drop-in-abby/2024-12-04/
LOCATION:Simon 022
END:VEVENT
END:VCALENDAR