BEGIN:VCALENDAR
VERSION:2.0
PRODID:-//Center for Teaching and Learning - ECPv6.15.16.1//NONSGML v1.0//EN
CALSCALE:GREGORIAN
METHOD:PUBLISH
X-WR-CALNAME:Center for Teaching and Learning
X-ORIGINAL-URL:https://ctl.wustl.edu
X-WR-CALDESC:Events for Center for Teaching and Learning
REFRESH-INTERVAL;VALUE=DURATION:PT1H
X-Robots-Tag:noindex
X-PUBLISHED-TTL:PT1H
BEGIN:VTIMEZONE
TZID:America/Chicago
BEGIN:DAYLIGHT
TZOFFSETFROM:-0600
TZOFFSETTO:-0500
TZNAME:CDT
DTSTART:20250309T080000
END:DAYLIGHT
BEGIN:STANDARD
TZOFFSETFROM:-0500
TZOFFSETTO:-0600
TZNAME:CST
DTSTART:20251102T070000
END:STANDARD
BEGIN:DAYLIGHT
TZOFFSETFROM:-0600
TZOFFSETTO:-0500
TZNAME:CDT
DTSTART:20260308T080000
END:DAYLIGHT
BEGIN:STANDARD
TZOFFSETFROM:-0500
TZOFFSETTO:-0600
TZNAME:CST
DTSTART:20261101T070000
END:STANDARD
BEGIN:DAYLIGHT
TZOFFSETFROM:-0600
TZOFFSETTO:-0500
TZNAME:CDT
DTSTART:20270314T080000
END:DAYLIGHT
BEGIN:STANDARD
TZOFFSETFROM:-0500
TZOFFSETTO:-0600
TZNAME:CST
DTSTART:20271107T070000
END:STANDARD
END:VTIMEZONE
BEGIN:VEVENT
DTSTART;TZID=America/Chicago:20260326T130000
DTEND;TZID=America/Chicago:20260326T143000
DTSTAMP:20260424T122947
CREATED:20260105T211159Z
LAST-MODIFIED:20260218T171603Z
UID:20428-1774530000-1774535400@ctl.wustl.edu
SUMMARY:Coffee\, Tea & ChatGPT: Review of What We Know about AI and Learning So Far
DESCRIPTION:Come enjoy coffee\, tea\, and snacks with a side of research into AI’s impact on learning! While the internet is full of writing about AI\, the pool of peer-reviewed\, evidence-based research is much smaller. In this session\, we’ll provide an overview of and commentary on what we really know about AI. We will explore both possibilities and concerns that emerge from the data and end with a discussion of how this information might shape our future pedagogical strategies. \nIf you have questions about this event\, contact Anna Cunningham. \n  \nRegistration\n\n\n                \n                        LinkedInThis field is for validation purposes and should be left unchanged.Name(Required)\n                            \n                            \n                                                    \n                                                    First\n                                                \n                            \n                            \n                                                    \n                                                    Last\n                                                \n                            \n                        Preferred First Name (if different)WUSTL Email Address(Required)\n                            \n                        What is your role at WashU?(Required)Please Choose One:Adjunct InstructorAdministrator (Deans\, etc.)Assistant ProfessorAssociate ProfessorGraduate StudentLecturerLibrarianOtherPostdocProfessor (Full)Professor of PracticeSenior LecturerStaffTeaching ProfessorVisiting ProfessorIf you chose "Other\," please describe:Year in Graduate Program(Required)12345678910+Primary Program/Department(Required)Please Choose One:African and African American StudiesAmerican Culture StudiesAnthropologyArchitectureArt (Visual Art)Art History and ArchaeologyAudiology and Communication SciencesBiologyBiomedical Engineering (BME)BusinessChemistryClassicsCollege Writing ProgramComparative Literature & ThoughtComputer Science and Engineering (CSE)Continuing & Professional Studies (CAPS)Danforth CenterDBBS (Biochemistry Biophysics and Structural Biology)DBBS (Biomedical Informatics & Data Science)DBBS (Cancer Biology)DBBS (Computational and Systems Biology)DBBS (Developmental Regenerative and Stem Cell Biology)DBBS (Evolution Ecology and Population Biology)DBBS (Human and Statistical Genetics)DBBS (Immunology)DBBS (Molecular Biology)DBBS (Molecular Genetics and Genomics)DBBS (Molecular Microbiology and Microbial Pathogenesis)DBBS (Neurosciences)DBBS (Plant and Microbial Biosciences)Division of Computational and Data Sciences (DCDS)Earth\, Environmental\, and Planetary Sciences (EEPS)East Asian Languages and Cultures (EALC)EconomicsEducationElectrical and Systems Engineering (ESE)Energy Environmental and Chemical Engineering (EECE)Engineering Communication CenterEnglishEnvironmental StudiesFilm and Media StudiesGenetics CounselingGermanic Languages and LiteraturesGlobal StudiesHistoryImaging ScienceInstitute of Materials Science and Engineering (IMSE)Jewish Islamic and Middle Eastern Studies (JIMES)LawLibrariesLinguisticsMathematicsMechanical Engineering and Materials Science (MEMS)MedicineMSTPMusicN/A University AdministrationNursingOccupational Therapy (Rehabilitation and Participation Science)OtherPerforming ArtsPhilosophy (Philosophy-Neuroscience-Psychology)Physical TherapyPhysicsPolitical SciencePsychological and Brain SciencesPublic Health & Society (A&S)Public Health (School of)Religious StudiesRomance Languages and LiteraturesSever InstituteSocial WorkSociologyStatistics and Data ScienceWomen Gender and Sexuality Studies (WGSS)If you chose "Other\," please describe:The Center for Teaching and Learning is committed to providing an inclusive and welcoming environment for all participants. Should you wish to request a disability-related accommodation in order to participate more fully in the event\, please describe the nature of your request below:Please click this box to help us prevent spam.
URL:https://ctl.wustl.edu/event/coffee-tea-chatgpt-review-of-what-we-know-about-ai-and-learning-so-far/
LOCATION:Seigle Hall 301
CATEGORIES:- Special Event
END:VEVENT
END:VCALENDAR